BEGIN:VCALENDAR
VERSION:2.0
PRODID:-//OSCIA - ECPv6.15.17.1//NONSGML v1.0//EN
CALSCALE:GREGORIAN
METHOD:PUBLISH
X-ORIGINAL-URL:https://membership.ontariosoilcrop.org
X-WR-CALDESC:Events for OSCIA
REFRESH-INTERVAL;VALUE=DURATION:PT1H
X-Robots-Tag:noindex
X-PUBLISHED-TTL:PT1H
BEGIN:VTIMEZONE
TZID:America/Toronto
BEGIN:DAYLIGHT
TZOFFSETFROM:-0500
TZOFFSETTO:-0400
TZNAME:EDT
DTSTART:20220313T070000
END:DAYLIGHT
BEGIN:STANDARD
TZOFFSETFROM:-0400
TZOFFSETTO:-0500
TZNAME:EST
DTSTART:20221106T060000
END:STANDARD
BEGIN:DAYLIGHT
TZOFFSETFROM:-0500
TZOFFSETTO:-0400
TZNAME:EDT
DTSTART:20230312T070000
END:DAYLIGHT
BEGIN:STANDARD
TZOFFSETFROM:-0400
TZOFFSETTO:-0500
TZNAME:EST
DTSTART:20231105T060000
END:STANDARD
BEGIN:DAYLIGHT
TZOFFSETFROM:-0500
TZOFFSETTO:-0400
TZNAME:EDT
DTSTART:20240310T070000
END:DAYLIGHT
BEGIN:STANDARD
TZOFFSETFROM:-0400
TZOFFSETTO:-0500
TZNAME:EST
DTSTART:20241103T060000
END:STANDARD
END:VTIMEZONE
BEGIN:VEVENT
DTSTART;TZID=America/Toronto:20230720T090000
DTEND;TZID=America/Toronto:20230720T120000
DTSTAMP:20260423T223243
CREATED:20230614T131826Z
LAST-MODIFIED:20230614T131826Z
UID:10001429-1689843600-1689854400@membership.ontariosoilcrop.org
SUMMARY:Eastern Ontario Crop Diagnostic Day
DESCRIPTION:The Eastern Ontario Crop Diagnostic Day is back LIVE and IN PERSON! Session #3 is an OSCIA-recognized KSE for OFCAF applicants with Nitrogen Management projects. \nSession #3: How late can you apply that last pass of N? \n\nCan you apply a split pass of nitrogen in the weeks prior to corn silking? Take a look at the nitrogen application timing and just how long you can delay that final application in Eastern Ontario with OMAFRA Corn Specialist Ben Rosser and U of G Graduate Students Gavin Brady and Jongwon Kang.\n\nFor more information and all session details\, visit https://eocdd.eastontcropconference.ca/ \nATTENTION: This year’s event will feature a new format. The same program will be presented on Wednesday afternoon and Thursday morning to keep groups small and focused. Select the day you want to attend at registration. \nRegister before July 14: \nGeneral Admission      $60/person\nOSCIA Members      $50/person\nStudents      $30/person \nAfter July 14th:\nAll registrations $75
URL:https://membership.ontariosoilcrop.org/event/eastern-ontario-crop-diagnostic-day-2/
LOCATION:Winchester Agricultural Research Station\, 12088 Baker Road\, Winchester\, Ontario\, K0C 2K0\, Canada
CATEGORIES:KSE,Nitrogen Management
END:VEVENT
BEGIN:VEVENT
DTSTART;TZID=America/Toronto:20230719T130000
DTEND;TZID=America/Toronto:20230719T160000
DTSTAMP:20260423T223243
CREATED:20230614T131549Z
LAST-MODIFIED:20230614T131549Z
UID:10001428-1689771600-1689782400@membership.ontariosoilcrop.org
SUMMARY:Eastern Ontario Crop Diagnostic Day
DESCRIPTION:The Eastern Ontario Crop Diagnostic Day is back LIVE and IN PERSON! Session #3 is an OSCIA-recognized KSE for OFCAF applicants with Nitrogen Management projects. \nSession #3: How late can you apply that last pass of N? \n\nCan you apply a split pass of nitrogen in the weeks prior to corn silking? Take a look at the nitrogen application timing and just how long you can delay that final application in Eastern Ontario with OMAFRA Corn Specialist Ben Rosser and U of G Graduate Students Gavin Brady and Jongwon Kang.\n\nFor more information and all session details\, visit https://eocdd.eastontcropconference.ca/ \nATTENTION: This year’s event will feature a new format. The same program will be presented on Wednesday afternoon and Thursday morning to keep groups small and focused. Select the day you want to attend at registration. \nRegister before July 14: \nGeneral Admission      $60/person\nOSCIA Members      $50/person\nStudents      $30/person \nAfter July 14th:\nAll registrations $75
URL:https://membership.ontariosoilcrop.org/event/eastern-ontario-crop-diagnostic-day/
LOCATION:Winchester Agricultural Research Station\, 12088 Baker Road\, Winchester\, Ontario\, K0C 2K0\, Canada
CATEGORIES:KSE,Nitrogen Management
END:VEVENT
END:VCALENDAR