BEGIN:VCALENDAR
VERSION:2.0
PRODID:-//OSCIA - ECPv6.15.17.1//NONSGML v1.0//EN
CALSCALE:GREGORIAN
METHOD:PUBLISH
X-WR-CALNAME:OSCIA
X-ORIGINAL-URL:https://membership.ontariosoilcrop.org
X-WR-CALDESC:Events for OSCIA
REFRESH-INTERVAL;VALUE=DURATION:PT1H
X-Robots-Tag:noindex
X-PUBLISHED-TTL:PT1H
BEGIN:VTIMEZONE
TZID:America/Toronto
BEGIN:DAYLIGHT
TZOFFSETFROM:-0500
TZOFFSETTO:-0400
TZNAME:EDT
DTSTART:20220313T070000
END:DAYLIGHT
BEGIN:STANDARD
TZOFFSETFROM:-0400
TZOFFSETTO:-0500
TZNAME:EST
DTSTART:20221106T060000
END:STANDARD
BEGIN:DAYLIGHT
TZOFFSETFROM:-0500
TZOFFSETTO:-0400
TZNAME:EDT
DTSTART:20230312T070000
END:DAYLIGHT
BEGIN:STANDARD
TZOFFSETFROM:-0400
TZOFFSETTO:-0500
TZNAME:EST
DTSTART:20231105T060000
END:STANDARD
BEGIN:DAYLIGHT
TZOFFSETFROM:-0500
TZOFFSETTO:-0400
TZNAME:EDT
DTSTART:20240310T070000
END:DAYLIGHT
BEGIN:STANDARD
TZOFFSETFROM:-0400
TZOFFSETTO:-0500
TZNAME:EST
DTSTART:20241103T060000
END:STANDARD
END:VTIMEZONE
BEGIN:VEVENT
DTSTART;TZID=America/Toronto:20230814T090000
DTEND;TZID=America/Toronto:20230814T100000
DTSTAMP:20260424T172141
CREATED:20230803T194522Z
LAST-MODIFIED:20230803T194522Z
UID:10001513-1692003600-1692007200@membership.ontariosoilcrop.org
SUMMARY:Ontario Soil Roadtrip - Southwestern Ontario
DESCRIPTION:From August 14 – 19th\, the Ontario Soil Network will be making its way across the province with many great stops along the way. \nThe Ontario Soil Roadtrip is a multi-day cross-provincial farm tour featuring amazing producers and multiple stops throughout each day. It’s a chance to learn about different soil health practices\,  see them in action across different soil types\, and network! It’s a choose-your-own-adventure style. You can join for just one stop or all stops; the choice is yours! Coffee/water and snacks are provided at each stop. \nAugust 14 – Southwestern Ontario \n\nWoody Van Arkel + Mark Richards: Perennial Plot Tour – Dresden\, ON (This stop is an OFCAF Cover Cropping KSE)\nChuck Baresich: Corn on Corn No-till Rotation & Haggerty Creek’s Nutrient Management Technologies –  Newbury\, ON\nPartick Verkley: 60″ Corn – Strathroy\, ON\n\nNo registration is required. Please note: For washrooms/food(lunch)\, please make your own stops as needed! \nCheck here for all details/locations of each stop: 2023 Ontario Soil Roadtrip – Ontario Soil Network. Contact the Ontario Soil Network at admin@ontariosoil.net or follow them for updates.
URL:https://membership.ontariosoilcrop.org/event/ontario-soil-roadtrip-southwestern-ontario/
LOCATION:Van Arkel Farm\, 11234 Cedar Hedge Line\, Dresden\, Ontario\, Canada
CATEGORIES:Cover Cropping,KSE
END:VEVENT
END:VCALENDAR