BEGIN:VCALENDAR
VERSION:2.0
PRODID:-//OSCIA - ECPv6.15.17.1//NONSGML v1.0//EN
CALSCALE:GREGORIAN
METHOD:PUBLISH
X-ORIGINAL-URL:https://membership.ontariosoilcrop.org
X-WR-CALDESC:Events for OSCIA
REFRESH-INTERVAL;VALUE=DURATION:PT1H
X-Robots-Tag:noindex
X-PUBLISHED-TTL:PT1H
BEGIN:VTIMEZONE
TZID:America/Toronto
BEGIN:DAYLIGHT
TZOFFSETFROM:-0500
TZOFFSETTO:-0400
TZNAME:EDT
DTSTART:20220313T070000
END:DAYLIGHT
BEGIN:STANDARD
TZOFFSETFROM:-0400
TZOFFSETTO:-0500
TZNAME:EST
DTSTART:20221106T060000
END:STANDARD
BEGIN:DAYLIGHT
TZOFFSETFROM:-0500
TZOFFSETTO:-0400
TZNAME:EDT
DTSTART:20230312T070000
END:DAYLIGHT
BEGIN:STANDARD
TZOFFSETFROM:-0400
TZOFFSETTO:-0500
TZNAME:EST
DTSTART:20231105T060000
END:STANDARD
BEGIN:DAYLIGHT
TZOFFSETFROM:-0500
TZOFFSETTO:-0400
TZNAME:EDT
DTSTART:20240310T070000
END:DAYLIGHT
BEGIN:STANDARD
TZOFFSETFROM:-0400
TZOFFSETTO:-0500
TZNAME:EST
DTSTART:20241103T060000
END:STANDARD
END:VTIMEZONE
BEGIN:VEVENT
DTSTART;TZID=America/Toronto:20230629T190000
DTEND;TZID=America/Toronto:20230629T210000
DTSTAMP:20260425T215207
CREATED:20230615T200139Z
LAST-MODIFIED:20230616T144903Z
UID:10001431-1688065200-1688072400@membership.ontariosoilcrop.org
SUMMARY:Brant SCIA Summer Field Meeting: It's all about Nitrogen
DESCRIPTION:Don’t let your nitrogen dollars blow away! \nThe Brant Soil and Crop members have been working on some in-field research using dosimeters to look at the potential for nitrogen loss in fields with specific crops. Data from nitrogen applied to wheat has been collected and analyzed\, and they want to share that with you. \nProgram: \n7pm – Welcome – Steve Sickle\, BSCIA \nSpeakers: \n\nIntroducing the topic of nitrogen management\, stabilizers and minimizing losses – Marijke Vanderlaan\, Agronomist with Syngenta\nNitrogen Management in Corn – Colin Elgie\, OMAFRA\nUsing Nitrogen Stabilizers in Wheat – Lorraine Vandermyden\, University of Guelph\n2023 In-Season Nitrogen Loss in Wheat\, initial results – Holly Loucas\, BSCIA\nPanel for further discussion and questions\n\nCome for the information\, stay for the discussion AND a slice of pie from Austin’s in Waterford\, sponsored by Pioneer. Note: Bring a chair.  \nContact Nancy Van Sas at nvansas@ontariosoilcrop.org for more information.
URL:https://membership.ontariosoilcrop.org/event/brant-scia-summer-field-meeting-its-all-about-nitrogen/
LOCATION:The VanSickle Farm\, 307 VanSickle Rd\, Brantford\, Ontario\, N3T 5L9\, Canada
CATEGORIES:KSE,Nitrogen Management
END:VEVENT
END:VCALENDAR