BEGIN:VCALENDAR
VERSION:2.0
PRODID:-//OSCIA - ECPv6.15.17.1//NONSGML v1.0//EN
CALSCALE:GREGORIAN
METHOD:PUBLISH
X-WR-CALNAME:OSCIA
X-ORIGINAL-URL:https://membership.ontariosoilcrop.org
X-WR-CALDESC:Events for OSCIA
REFRESH-INTERVAL;VALUE=DURATION:PT1H
X-Robots-Tag:noindex
X-PUBLISHED-TTL:PT1H
BEGIN:VTIMEZONE
TZID:America/Toronto
BEGIN:DAYLIGHT
TZOFFSETFROM:-0500
TZOFFSETTO:-0400
TZNAME:EDT
DTSTART:20240310T070000
END:DAYLIGHT
BEGIN:STANDARD
TZOFFSETFROM:-0400
TZOFFSETTO:-0500
TZNAME:EST
DTSTART:20241103T060000
END:STANDARD
BEGIN:DAYLIGHT
TZOFFSETFROM:-0500
TZOFFSETTO:-0400
TZNAME:EDT
DTSTART:20250309T070000
END:DAYLIGHT
BEGIN:STANDARD
TZOFFSETFROM:-0400
TZOFFSETTO:-0500
TZNAME:EST
DTSTART:20251102T060000
END:STANDARD
BEGIN:DAYLIGHT
TZOFFSETFROM:-0500
TZOFFSETTO:-0400
TZNAME:EDT
DTSTART:20260308T070000
END:DAYLIGHT
BEGIN:STANDARD
TZOFFSETFROM:-0400
TZOFFSETTO:-0500
TZNAME:EST
DTSTART:20261101T060000
END:STANDARD
END:VTIMEZONE
BEGIN:VEVENT
DTSTART;TZID=America/Toronto:20250618T170000
DTEND;TZID=America/Toronto:20250618T190000
DTSTAMP:20260423T094725
CREATED:20250516T144955Z
LAST-MODIFIED:20250604T183217Z
UID:10003050-1750266000-1750273200@membership.ontariosoilcrop.org
SUMMARY:Soil Connections at Springfield Farm
DESCRIPTION:EFAO is thrilled to partner on the Glengarry Soil & Crop Annual Open House at Springfield Farm. Drop by for a field walk and learn about soil health on the farm\, talk about techniques like cover cropping to promote healthy growing conditions\, hear from guest speakers and learn how the Glengarry Soil & Crop Association can be a support for your farm. Come with your questions! \nYou will also have the chance to meet and get to know other interested farmers and community members and enjoy some delicious refreshments. \nSpringfield Farm offers on-farm experiences\, small grains\, produce\, honey\, maple syrup and prepared foods and from their certified organic 120 acre location near Apple Hill. \n\n\n\n\n\n\n\n\n\n\nWhen? Wednesday June 18 @ 5:00 pm – 7:00 pm \n\n\n\n\n\n\n\n\n\n\nWhere? Springfield Farm\, Apple Hill\, ON \nCost? Free event! \nREGISTER HERE \nSoil Connections at Springfield Farm is an OSCIA-recognized Knowledge Sharing Event (KSE) for farmers with On-Farm Climate Action Fund (OFCAF) projects in the Cover Cropping category.
URL:https://membership.ontariosoilcrop.org/event/soil-connections-at-springfield-farm/
LOCATION:Springfield Farm\, 18709 County Rd 25\, Apple Hill\, ON\, K0C 1B0\, Canada
CATEGORIES:Association,Cover Cropping,ÉPC,KSE,Recours aux cultures de couverturev
ORGANIZER;CN="Ecological Farmers Association of Ontario (EFAO)":MAILTO:info@efao.ca
END:VEVENT
END:VCALENDAR