BEGIN:VCALENDAR
VERSION:2.0
PRODID:-//OSCIA - ECPv6.15.17.1//NONSGML v1.0//EN
CALSCALE:GREGORIAN
METHOD:PUBLISH
X-WR-CALNAME:OSCIA
X-ORIGINAL-URL:https://membership.ontariosoilcrop.org
X-WR-CALDESC:Events for OSCIA
REFRESH-INTERVAL;VALUE=DURATION:PT1H
X-Robots-Tag:noindex
X-PUBLISHED-TTL:PT1H
BEGIN:VTIMEZONE
TZID:America/Toronto
BEGIN:DAYLIGHT
TZOFFSETFROM:-0500
TZOFFSETTO:-0400
TZNAME:EDT
DTSTART:20230312T070000
END:DAYLIGHT
BEGIN:STANDARD
TZOFFSETFROM:-0400
TZOFFSETTO:-0500
TZNAME:EST
DTSTART:20231105T060000
END:STANDARD
BEGIN:DAYLIGHT
TZOFFSETFROM:-0500
TZOFFSETTO:-0400
TZNAME:EDT
DTSTART:20240310T070000
END:DAYLIGHT
BEGIN:STANDARD
TZOFFSETFROM:-0400
TZOFFSETTO:-0500
TZNAME:EST
DTSTART:20241103T060000
END:STANDARD
BEGIN:DAYLIGHT
TZOFFSETFROM:-0500
TZOFFSETTO:-0400
TZNAME:EDT
DTSTART:20250309T070000
END:DAYLIGHT
BEGIN:STANDARD
TZOFFSETFROM:-0400
TZOFFSETTO:-0500
TZNAME:EST
DTSTART:20251102T060000
END:STANDARD
END:VTIMEZONE
BEGIN:VEVENT
DTSTART;TZID=America/Toronto:20240117T110000
DTEND;TZID=America/Toronto:20240117T170000
DTSTAMP:20260420T131534
CREATED:20231220T212059Z
LAST-MODIFIED:20231220T212157Z
UID:10001614-1705489200-1705510800@membership.ontariosoilcrop.org
SUMMARY:Joint AGM of the Manitoulin Cattlemen's Association and the Manitoulin SCIA
DESCRIPTION:For more information about this event\, please contact: \nJim Martin \n705-348-1294 \njim@pureislandbeef.com
URL:https://membership.ontariosoilcrop.org/event/joint-agm-of-the-manitoulin-cattlemens-association-and-the-manitoulin-scia/
LOCATION:Spring Bay Hall\, 9298 ON-542\, Spring Bay\, ON\, P0P 2B0\, Canada
CATEGORIES:Manitoulin
END:VEVENT
END:VCALENDAR