BEGIN:VCALENDAR
VERSION:2.0
PRODID:-//OSCIA - ECPv6.15.17.1//NONSGML v1.0//EN
CALSCALE:GREGORIAN
METHOD:PUBLISH
X-ORIGINAL-URL:https://membership.ontariosoilcrop.org
X-WR-CALDESC:Events for OSCIA
REFRESH-INTERVAL;VALUE=DURATION:PT1H
X-Robots-Tag:noindex
X-PUBLISHED-TTL:PT1H
BEGIN:VTIMEZONE
TZID:America/Toronto
BEGIN:DAYLIGHT
TZOFFSETFROM:-0500
TZOFFSETTO:-0400
TZNAME:EDT
DTSTART:20220313T070000
END:DAYLIGHT
BEGIN:STANDARD
TZOFFSETFROM:-0400
TZOFFSETTO:-0500
TZNAME:EST
DTSTART:20221106T060000
END:STANDARD
BEGIN:DAYLIGHT
TZOFFSETFROM:-0500
TZOFFSETTO:-0400
TZNAME:EDT
DTSTART:20230312T070000
END:DAYLIGHT
BEGIN:STANDARD
TZOFFSETFROM:-0400
TZOFFSETTO:-0500
TZNAME:EST
DTSTART:20231105T060000
END:STANDARD
BEGIN:DAYLIGHT
TZOFFSETFROM:-0500
TZOFFSETTO:-0400
TZNAME:EDT
DTSTART:20240310T070000
END:DAYLIGHT
BEGIN:STANDARD
TZOFFSETFROM:-0400
TZOFFSETTO:-0500
TZNAME:EST
DTSTART:20241103T060000
END:STANDARD
END:VTIMEZONE
BEGIN:VEVENT
DTSTART;TZID=America/Toronto:20230811T083000
DTEND;TZID=America/Toronto:20230811T160000
DTSTAMP:20260423T155236
CREATED:20230720T165401Z
LAST-MODIFIED:20230720T165401Z
UID:10001493-1691742600-1691769600@membership.ontariosoilcrop.org
SUMMARY:Huron SCIA Cover Crop Bus Tour
DESCRIPTION:Join Huron SCIA for a cover crop bus tour on Friday\, August 11. Includes visits to cover crop fields\, Goderich Elevators (P&H)\, and lunch. \nPlease note that the tour will depart from the Seaforth & District Community Centre (122 Duke Street) at 8:30 am and returns at approximately 3:50 pm. \nFor more information\, please contact Hope at hbrock@abca.ca or 519 235 2610. \nVisit https://www.huronview.net/tours to register.
URL:https://membership.ontariosoilcrop.org/event/huron-scia-cover-crop-bus-tour/
LOCATION:Seaforth & District Community Centre\, 122 Duke St\, Seaforth\, Ontario\, N0K 1W0\, Canada
CATEGORIES:Cover Cropping,KSE
END:VEVENT
END:VCALENDAR