BEGIN:VCALENDAR
VERSION:2.0
PRODID:-//OSCIA - ECPv6.15.17.1//NONSGML v1.0//EN
CALSCALE:GREGORIAN
METHOD:PUBLISH
X-ORIGINAL-URL:https://membership.ontariosoilcrop.org
X-WR-CALDESC:Events for OSCIA
REFRESH-INTERVAL;VALUE=DURATION:PT1H
X-Robots-Tag:noindex
X-PUBLISHED-TTL:PT1H
BEGIN:VTIMEZONE
TZID:America/Toronto
BEGIN:DAYLIGHT
TZOFFSETFROM:-0500
TZOFFSETTO:-0400
TZNAME:EDT
DTSTART:20220313T070000
END:DAYLIGHT
BEGIN:STANDARD
TZOFFSETFROM:-0400
TZOFFSETTO:-0500
TZNAME:EST
DTSTART:20221106T060000
END:STANDARD
BEGIN:DAYLIGHT
TZOFFSETFROM:-0500
TZOFFSETTO:-0400
TZNAME:EDT
DTSTART:20230312T070000
END:DAYLIGHT
BEGIN:STANDARD
TZOFFSETFROM:-0400
TZOFFSETTO:-0500
TZNAME:EST
DTSTART:20231105T060000
END:STANDARD
BEGIN:DAYLIGHT
TZOFFSETFROM:-0500
TZOFFSETTO:-0400
TZNAME:EDT
DTSTART:20240310T070000
END:DAYLIGHT
BEGIN:STANDARD
TZOFFSETFROM:-0400
TZOFFSETTO:-0500
TZNAME:EST
DTSTART:20241103T060000
END:STANDARD
END:VTIMEZONE
BEGIN:VEVENT
DTSTART;TZID=America/Toronto:20230815T140000
DTEND;TZID=America/Toronto:20230815T160000
DTSTAMP:20260424T081517
CREATED:20230803T193037Z
LAST-MODIFIED:20230803T193037Z
UID:10001512-1692108000-1692115200@membership.ontariosoilcrop.org
SUMMARY:Trialing No-till Potatoes with Cover Crops
DESCRIPTION:Since 2021\, Ken Laing has been developing a medium-scale production system for organic potatoes that requires no in-season hilling or weeding. Using winter rye as a cover crop\, he is now in the third year of testing the system with some success.  Field days are a great way to check out Ken’s innovations in person\, and pick his brain about all things vegetable growing. You can learn more about his no-till systems here. \nFor more information or to register\, visit https://efao.ca/event/trialing-no-till-potatoes-with-cover-crops-year-three/
URL:https://membership.ontariosoilcrop.org/event/trialing-no-till-potatoes-with-cover-crops/
LOCATION:Orchard Hill Farm\, 45415 Fruit Ridge Line\, St Thomas\, Ontario\, N5P 3S9\, Canada
CATEGORIES:Cover Cropping,KSE
ORGANIZER;CN="Ecological Farmers Association of Ontario (EFAO)":MAILTO:info@efao.ca
END:VEVENT
END:VCALENDAR