BEGIN:VCALENDAR
VERSION:2.0
PRODID:-//OSCIA - ECPv6.15.17.1//NONSGML v1.0//EN
CALSCALE:GREGORIAN
METHOD:PUBLISH
X-WR-CALNAME:OSCIA
X-ORIGINAL-URL:https://membership.ontariosoilcrop.org
X-WR-CALDESC:Events for OSCIA
REFRESH-INTERVAL;VALUE=DURATION:PT1H
X-Robots-Tag:noindex
X-PUBLISHED-TTL:PT1H
BEGIN:VTIMEZONE
TZID:America/Toronto
BEGIN:DAYLIGHT
TZOFFSETFROM:-0500
TZOFFSETTO:-0400
TZNAME:EDT
DTSTART:20230312T070000
END:DAYLIGHT
BEGIN:STANDARD
TZOFFSETFROM:-0400
TZOFFSETTO:-0500
TZNAME:EST
DTSTART:20231105T060000
END:STANDARD
BEGIN:DAYLIGHT
TZOFFSETFROM:-0500
TZOFFSETTO:-0400
TZNAME:EDT
DTSTART:20240310T070000
END:DAYLIGHT
BEGIN:STANDARD
TZOFFSETFROM:-0400
TZOFFSETTO:-0500
TZNAME:EST
DTSTART:20241103T060000
END:STANDARD
BEGIN:DAYLIGHT
TZOFFSETFROM:-0500
TZOFFSETTO:-0400
TZNAME:EDT
DTSTART:20250309T070000
END:DAYLIGHT
BEGIN:STANDARD
TZOFFSETFROM:-0400
TZOFFSETTO:-0500
TZNAME:EST
DTSTART:20251102T060000
END:STANDARD
BEGIN:DAYLIGHT
TZOFFSETFROM:-0500
TZOFFSETTO:-0400
TZNAME:EDT
DTSTART:20260308T070000
END:DAYLIGHT
BEGIN:STANDARD
TZOFFSETFROM:-0400
TZOFFSETTO:-0500
TZNAME:EST
DTSTART:20261101T060000
END:STANDARD
END:VTIMEZONE
BEGIN:VEVENT
DTSTART;TZID=America/Toronto:20250307T083000
DTEND;TZID=America/Toronto:20250307T120000
DTSTAMP:20260422T055208
CREATED:20250227T142432Z
LAST-MODIFIED:20250227T142432Z
UID:10002969-1741336200-1741348800@membership.ontariosoilcrop.org
SUMMARY:Ottawa Carleton SCIA Annual Seed Show
DESCRIPTION:The Ottawa Carleton SCIA annual seed show is being held Friday March 7th at the North Gower community center. All are welcome to attend! Please find the attached poster for details. Reminder: If you have not yet renewed your membership\, please renew online or in person at the seed show. You must be an active member to submit entries for the seed show.  Entries can be sent to julia@sullivanagro.ca ahead of time\, Name/Farm name and Class number.
URL:https://membership.ontariosoilcrop.org/event/ottawa-carleton-scia-annual-seed-show/
LOCATION:North Gower Community Centre\, 2330 Community Way\, North Gower\, Canada
CATEGORIES:Association,Event,Ottawa Carleton
END:VEVENT
BEGIN:VEVENT
DTSTART;TZID=America/Toronto:20240304T093000
DTEND;TZID=America/Toronto:20240304T143000
DTSTAMP:20260422T055208
CREATED:20240215T142751Z
LAST-MODIFIED:20240301T140636Z
UID:10001686-1709544600-1709562600@membership.ontariosoilcrop.org
SUMMARY:Carleton SCIA Spring Meeting and Seed Show 2024
DESCRIPTION:Stay tuned for more information. \nTo register\, email Leigh Hudson-Templeton at leigh.hudson89@gmail.com.
URL:https://membership.ontariosoilcrop.org/event/ottawa-carleton-seed-show/
LOCATION:North Gower Community Centre\, 2330 Community Way\, North Gower\, Canada
CATEGORIES:Cover Cropping,KSE,Ottawa Carleton,Ottawa Rideau
ATTACH;FMTTYPE=image/jpeg:https://membership.ontariosoilcrop.org/wp-content/uploads/2024/02/seed-show.jpg
END:VEVENT
END:VCALENDAR