BEGIN:VCALENDAR
VERSION:2.0
PRODID:-//OSCIA - ECPv6.15.17.1//NONSGML v1.0//EN
CALSCALE:GREGORIAN
METHOD:PUBLISH
X-WR-CALNAME:OSCIA
X-ORIGINAL-URL:https://membership.ontariosoilcrop.org
X-WR-CALDESC:Events for OSCIA
REFRESH-INTERVAL;VALUE=DURATION:PT1H
X-Robots-Tag:noindex
X-PUBLISHED-TTL:PT1H
BEGIN:VTIMEZONE
TZID:America/Toronto
BEGIN:DAYLIGHT
TZOFFSETFROM:-0500
TZOFFSETTO:-0400
TZNAME:EDT
DTSTART:20220313T070000
END:DAYLIGHT
BEGIN:STANDARD
TZOFFSETFROM:-0400
TZOFFSETTO:-0500
TZNAME:EST
DTSTART:20221106T060000
END:STANDARD
BEGIN:DAYLIGHT
TZOFFSETFROM:-0500
TZOFFSETTO:-0400
TZNAME:EDT
DTSTART:20230312T070000
END:DAYLIGHT
BEGIN:STANDARD
TZOFFSETFROM:-0400
TZOFFSETTO:-0500
TZNAME:EST
DTSTART:20231105T060000
END:STANDARD
BEGIN:DAYLIGHT
TZOFFSETFROM:-0500
TZOFFSETTO:-0400
TZNAME:EDT
DTSTART:20240310T070000
END:DAYLIGHT
BEGIN:STANDARD
TZOFFSETFROM:-0400
TZOFFSETTO:-0500
TZNAME:EST
DTSTART:20241103T060000
END:STANDARD
BEGIN:DAYLIGHT
TZOFFSETFROM:-0500
TZOFFSETTO:-0400
TZNAME:EDT
DTSTART:20250309T070000
END:DAYLIGHT
BEGIN:STANDARD
TZOFFSETFROM:-0400
TZOFFSETTO:-0500
TZNAME:EST
DTSTART:20251102T060000
END:STANDARD
BEGIN:DAYLIGHT
TZOFFSETFROM:-0500
TZOFFSETTO:-0400
TZNAME:EDT
DTSTART:20260308T070000
END:DAYLIGHT
BEGIN:STANDARD
TZOFFSETFROM:-0400
TZOFFSETTO:-0500
TZNAME:EST
DTSTART:20261101T060000
END:STANDARD
END:VTIMEZONE
BEGIN:VEVENT
DTSTART;TZID=America/Toronto:20251211T103000
DTEND;TZID=America/Toronto:20251211T150000
DTSTAMP:20260422T095030
CREATED:20251111T234859Z
LAST-MODIFIED:20251111T234933Z
UID:10003183-1765449000-1765465200@membership.ontariosoilcrop.org
SUMMARY:Grenville SCIA AGM
DESCRIPTION:See the picture below for the agenda for the day – lots of great speakers!
URL:https://membership.ontariosoilcrop.org/event/grenville-scia-agm-2/
LOCATION:Nation Masonic Lodge\, 36 Bennett St\, Spencerville\, ON\, Canada
CATEGORIES:Ottawa Rideau
ATTACH;FMTTYPE=image/jpeg:https://membership.ontariosoilcrop.org/wp-content/uploads/2025/11/Grenville-AGM-Meeting-Notice-2025-2-scaled.jpg
END:VEVENT
BEGIN:VEVENT
DTSTART;TZID=America/Toronto:20231212T103000
DTEND;TZID=America/Toronto:20231212T150000
DTSTAMP:20260422T095030
CREATED:20231114T213836Z
LAST-MODIFIED:20231116T133113Z
UID:10001587-1702377000-1702393200@membership.ontariosoilcrop.org
SUMMARY:Grenville AGM
DESCRIPTION:AGENDA \n10:30 AM – Colleen Acres – Regional Program Lead \n11:15 AM – Eleanor Renaud – Provincial Director \n11:30 AM – Laura Scott\, OMAFRA – Regional Projects \n11:50 AM – Seed Growers Association Report \n12:10 AM – 1:00 PM – LUNCH ($25) \n1:00 PM – Carleton Farms – New Compost Facility in Grenville \n1:30 PM – Treasurer Report and New Business \n** Please confirm attendance to lunch\, if possible
URL:https://membership.ontariosoilcrop.org/event/grenville-agm/
LOCATION:Nation Masonic Lodge\, 36 Bennett St\, Spencerville\, ON\, Canada
CATEGORIES:Grenville,Ottawa Rideau
ATTACH;FMTTYPE=image/png:https://membership.ontariosoilcrop.org/wp-content/uploads/2023/11/AGM-img-3.png
END:VEVENT
END:VCALENDAR