BEGIN:VCALENDAR
VERSION:2.0
PRODID:-//OSCIA - ECPv6.15.17.1//NONSGML v1.0//EN
CALSCALE:GREGORIAN
METHOD:PUBLISH
X-ORIGINAL-URL:https://membership.ontariosoilcrop.org
X-WR-CALDESC:Events for OSCIA
REFRESH-INTERVAL;VALUE=DURATION:PT1H
X-Robots-Tag:noindex
X-PUBLISHED-TTL:PT1H
BEGIN:VTIMEZONE
TZID:America/Toronto
BEGIN:DAYLIGHT
TZOFFSETFROM:-0500
TZOFFSETTO:-0400
TZNAME:EDT
DTSTART:20220313T070000
END:DAYLIGHT
BEGIN:STANDARD
TZOFFSETFROM:-0400
TZOFFSETTO:-0500
TZNAME:EST
DTSTART:20221106T060000
END:STANDARD
BEGIN:DAYLIGHT
TZOFFSETFROM:-0500
TZOFFSETTO:-0400
TZNAME:EDT
DTSTART:20230312T070000
END:DAYLIGHT
BEGIN:STANDARD
TZOFFSETFROM:-0400
TZOFFSETTO:-0500
TZNAME:EST
DTSTART:20231105T060000
END:STANDARD
BEGIN:DAYLIGHT
TZOFFSETFROM:-0500
TZOFFSETTO:-0400
TZNAME:EDT
DTSTART:20240310T070000
END:DAYLIGHT
BEGIN:STANDARD
TZOFFSETFROM:-0400
TZOFFSETTO:-0500
TZNAME:EST
DTSTART:20241103T060000
END:STANDARD
END:VTIMEZONE
BEGIN:VEVENT
DTSTART;TZID=America/Toronto:20231004T133000
DTEND;TZID=America/Toronto:20231004T153000
DTSTAMP:20260420T104322
CREATED:20230828T202524Z
LAST-MODIFIED:20230828T202524Z
UID:10001543-1696426200-1696433400@membership.ontariosoilcrop.org
SUMMARY:Market Gardening with Cover Crops and Season Extension
DESCRIPTION:Join EFAO for this informative field day! Milky Way Farm is a mixed vegetable\, four season\, ecologically focused family farm owned and operated by Jesse Way and Meghan Brandenburg growing on 1.5 acres just south of Woodstock Ontario. With a regenerative agriculture approach\, Jesse and Meghan strive to improve soil health and produce fresh\, nutrient-dense and organic vegetables for their local community. \nJoin Jesse and Meghan to tour the farm\, including their garden fields\, greenhouse\, and hoophouses as they prepare for the winter growing season\, and see how they are using late season cover crops like oats\, peas\, rye\, and vetch to prepare some of their outdoor production areas for winter and the next season. They will also discuss how they are learning to use the nutrient status of their cover crops and soil to determine plant available nitrogen from cover crops during the growing season. \nTo register or for more information\, visit: https://efao.ca/event/cover-crops-milky-way-farm/
URL:https://membership.ontariosoilcrop.org/event/market-gardening-with-cover-crops-and-season-extension/
LOCATION:Milky Way Farm\, 484872 Sweaburg Rd\, Woodstock\, Ontario\, N4S7V6\, Canada
CATEGORIES:Cover Cropping,KSE
ORGANIZER;CN="Ecological Farmers Association of Ontario (EFAO)":MAILTO:info@efao.ca
END:VEVENT
END:VCALENDAR