BEGIN:VCALENDAR
VERSION:2.0
PRODID:-//OSCIA - ECPv6.15.17.1//NONSGML v1.0//EN
CALSCALE:GREGORIAN
METHOD:PUBLISH
X-ORIGINAL-URL:https://membership.ontariosoilcrop.org
X-WR-CALDESC:Events for OSCIA
REFRESH-INTERVAL;VALUE=DURATION:PT1H
X-Robots-Tag:noindex
X-PUBLISHED-TTL:PT1H
BEGIN:VTIMEZONE
TZID:America/Toronto
BEGIN:DAYLIGHT
TZOFFSETFROM:-0500
TZOFFSETTO:-0400
TZNAME:EDT
DTSTART:20230312T070000
END:DAYLIGHT
BEGIN:STANDARD
TZOFFSETFROM:-0400
TZOFFSETTO:-0500
TZNAME:EST
DTSTART:20231105T060000
END:STANDARD
BEGIN:DAYLIGHT
TZOFFSETFROM:-0500
TZOFFSETTO:-0400
TZNAME:EDT
DTSTART:20240310T070000
END:DAYLIGHT
BEGIN:STANDARD
TZOFFSETFROM:-0400
TZOFFSETTO:-0500
TZNAME:EST
DTSTART:20241103T060000
END:STANDARD
BEGIN:DAYLIGHT
TZOFFSETFROM:-0500
TZOFFSETTO:-0400
TZNAME:EDT
DTSTART:20250309T070000
END:DAYLIGHT
BEGIN:STANDARD
TZOFFSETFROM:-0400
TZOFFSETTO:-0500
TZNAME:EST
DTSTART:20251102T060000
END:STANDARD
BEGIN:DAYLIGHT
TZOFFSETFROM:-0500
TZOFFSETTO:-0400
TZNAME:EDT
DTSTART:20260308T070000
END:DAYLIGHT
BEGIN:STANDARD
TZOFFSETFROM:-0400
TZOFFSETTO:-0500
TZNAME:EST
DTSTART:20261101T060000
END:STANDARD
END:VTIMEZONE
BEGIN:VEVENT
DTSTART;TZID=America/Toronto:20250121T090000
DTEND;TZID=America/Toronto:20250121T160000
DTSTAMP:20260423T014716
CREATED:20241106T212022Z
LAST-MODIFIED:20241216T194451Z
UID:10002869-1737450000-1737475200@membership.ontariosoilcrop.org
SUMMARY:Eastern Ontario Crop Conference (EOCC): Nitrogen Management
DESCRIPTION:Two KSEs are available at this year’s Eastern Ontario Crop Conference (EOCC):\n#47 Navigating Nitrogen \nA roundup of the latest research in eastern Ontario focused on improving nitrogen fertilizer in corn. \n#56 The Value of Manure – Managing Dairy Manure for Increased Soil Health and Forage Production Sustainability \nManure is a valuable source of crop-essential nutrients that\, when managed carefully\, can help build soil organic matter\, enhance nutrient cycling\, and improve overall soil health and climate resilience over time. In 2022\, a statewide on-farm research project was initiated in New York State to quantify the nitrogen (N) replacement value\, corn silage or grain yield\, and soil health enhancements of various manure sources. Between 2022 and 2023\, eleven on-farm field trials were implemented. Yield data are being used to quantify differences in most economic N rate between manured and non-manured strips\, and to quantify the yield impact of the manure applications. In 2024\, eight additional trials were added using various manure sources. Results so far indicate that manure can offset N fertilizer needs and increase corn silage yield beyond its nutrient contributions\, but impacts are field-specific\, reflecting differences in field histories and growing conditions. Assessments of soil microbial biomass for sites in 2023 and 2024 reflected the manure history for trial locations and suggest that mid-season assessments may help identify where nitrogen fertilizer addition is beneficial for the crop and where not. Assessment of variability of different manure sources point to the importance of manure sampling and analyses. Preliminary results will be shared. \nWhen? January 21st\, 2025 \n Time?  TBD \nWhere? Kemptville Campus\, Parish Hall (40 Campus Drive\, Kemptville\, ON) \nAttendees will need to purchase a ticket to the Eastern Ontario Crop Conference to attend this event. \nRegistration: Visit EOCC  \nNavigating Nitrogen and The Value of Manure – Managing Dairy Manure for Increased Soil Health and Forage Production Sustainability is an OSCIA recognized Knowledge Sharing Event (KSE) for farmers with On-Farm Climate Action Fund (OFCAF) projects in the Nitrogen Management category.
URL:https://membership.ontariosoilcrop.org/event/eastern-ontario-crop-conference-eocc-navigating-nitrogen/
LOCATION:Kemptville Campus\, Parish Hall\, 40 Campus Drive\, Kemptville\, Ontario\, Canada
CATEGORIES:ÉPC,Gestion de l’azote,KSE,Nitrogen Management
END:VEVENT
BEGIN:VEVENT
DTSTART;VALUE=DATE:20240116
DTEND;VALUE=DATE:20240117
DTSTAMP:20260423T014716
CREATED:20231106T154724Z
LAST-MODIFIED:20231116T151114Z
UID:10001418-1705363200-1705449599@membership.ontariosoilcrop.org
SUMMARY:Eastern Ontario Crop Conference (EOCC) - In-Person
DESCRIPTION:Three KSEs are available at this year’s IN-PERSON Eastern Ontario Crop Conference (EOCC). Each session will be offered at different times on January 4 and January 5. See details below. \nNote: While the in-person sessions will be recorded\, watching an On-Demand recording of these sessions do not qualify as a KSE. The session must be attended in-person. \nNitrogen Management KSEs:\nKnow Your Manure\nChristine Brown\, OMAFRA\nFrom pH to ammonia\, every manure is different. Chris explains what to look for\, and what management strategies will help you maximize the value of your manure \n\nJan 16 10:00 AM – 10:50 AM – Kemptville\, Room 2\n\nFocus on Fertilizer Placement\nMike Schouten\, North Gower; Ben Rosser\, OMAFRA\nFrom broadcast to Conceal\, 2X2 band to strip till\, Ben assesses placement options and outcomes. \n\nJan 16 3:10 PM – 4:00 PM – Kemptville\, Room 2\n\nCover Cropping KSEs:\nProfitability of Cover Crops\nDr. Rob Myers\, UMSL; Dr. Laura Van Eerd\, UGRC\nCover crop benefits can take time to show\, but what about their impact on the bottom line? Rob and Laura discuss the realities of long-term cover crop value. \n\nJan 16 2:10 PM – 3:00 PM – Kemptville\, Room 1\n\nTo register and view the conference agenda\, visit https://www.ontarioagconference.ca/eocc/
URL:https://membership.ontariosoilcrop.org/event/eastern-ontario-crop-conference-eocc-in-person/
LOCATION:Kemptville Campus\, Parish Hall\, 40 Campus Drive\, Kemptville\, Ontario\, Canada
CATEGORIES:Cover Cropping,KSE,Nitrogen Management
ORGANIZER;CN="Ontario Agricultural Conference":MAILTO:info@ontarioagconference.ca
END:VEVENT
END:VCALENDAR