BEGIN:VCALENDAR
VERSION:2.0
PRODID:-//OSCIA - ECPv6.15.17.1//NONSGML v1.0//EN
CALSCALE:GREGORIAN
METHOD:PUBLISH
X-ORIGINAL-URL:https://membership.ontariosoilcrop.org
X-WR-CALDESC:Events for OSCIA
REFRESH-INTERVAL;VALUE=DURATION:PT1H
X-Robots-Tag:noindex
X-PUBLISHED-TTL:PT1H
BEGIN:VTIMEZONE
TZID:America/Toronto
BEGIN:DAYLIGHT
TZOFFSETFROM:-0500
TZOFFSETTO:-0400
TZNAME:EDT
DTSTART:20230312T070000
END:DAYLIGHT
BEGIN:STANDARD
TZOFFSETFROM:-0400
TZOFFSETTO:-0500
TZNAME:EST
DTSTART:20231105T060000
END:STANDARD
BEGIN:DAYLIGHT
TZOFFSETFROM:-0500
TZOFFSETTO:-0400
TZNAME:EDT
DTSTART:20240310T070000
END:DAYLIGHT
BEGIN:STANDARD
TZOFFSETFROM:-0400
TZOFFSETTO:-0500
TZNAME:EST
DTSTART:20241103T060000
END:STANDARD
BEGIN:DAYLIGHT
TZOFFSETFROM:-0500
TZOFFSETTO:-0400
TZNAME:EDT
DTSTART:20250309T070000
END:DAYLIGHT
BEGIN:STANDARD
TZOFFSETFROM:-0400
TZOFFSETTO:-0500
TZNAME:EST
DTSTART:20251102T060000
END:STANDARD
END:VTIMEZONE
BEGIN:VEVENT
DTSTART;TZID=America/Toronto:20240118T100000
DTEND;TZID=America/Toronto:20240118T150000
DTSTAMP:20260420T133349
CREATED:20231222T131656Z
LAST-MODIFIED:20231222T131656Z
UID:10001633-1705572000-1705590000@membership.ontariosoilcrop.org
SUMMARY:SSCIA AGM and Tour
DESCRIPTION:SSCIA Tour of the Harvex Crysler Facilities> 10 am \nLunch> 11:30 The Side Door\, Crysler followed by the AGM \nStormont AGM  January 18\, 2023 \n\nThe following items will be covered: \n2022 Annual Minutes\n2023 Treasurer’s Report (Seed Show & S&C)\nPresident’s Report\nSeed Show Report\nEastern Ontario Valley SCIA Report\nOntario SCIA Report\nOttawa Valley Seed Show Report\nStormont Forage Masters Results\nPlot and High Yield Results\nAGM Delegate(s)\nEFP Update \nELECTIONS\n10-16 members are needed for directors/executive positions.\nThe organization is only as good as is the interest of Stormont Farmers! \nDelegates for OSCIA Annual Meeting Feb 6-7\,(www.ontariosoilcrop.org for details) \n$40/1yr\, $75(Bus)Memberships will be collected.\nNew members are most welcome. \n\n 
URL:https://membership.ontariosoilcrop.org/event/sscia-agm-and-tour/
LOCATION:Harvex and The Side Door\, Crysler\, Crylser
CATEGORIES:Eastern Valley
ATTACH;FMTTYPE=image/png:https://membership.ontariosoilcrop.org/wp-content/uploads/2023/12/Crysler-Harvex.png
END:VEVENT
END:VCALENDAR