BEGIN:VCALENDAR
VERSION:2.0
PRODID:-//OSCIA - ECPv6.15.17.1//NONSGML v1.0//EN
CALSCALE:GREGORIAN
METHOD:PUBLISH
X-ORIGINAL-URL:https://membership.ontariosoilcrop.org
X-WR-CALDESC:Events for OSCIA
REFRESH-INTERVAL;VALUE=DURATION:PT1H
X-Robots-Tag:noindex
X-PUBLISHED-TTL:PT1H
BEGIN:VTIMEZONE
TZID:America/Toronto
BEGIN:DAYLIGHT
TZOFFSETFROM:-0500
TZOFFSETTO:-0400
TZNAME:EDT
DTSTART:20230312T070000
END:DAYLIGHT
BEGIN:STANDARD
TZOFFSETFROM:-0400
TZOFFSETTO:-0500
TZNAME:EST
DTSTART:20231105T060000
END:STANDARD
BEGIN:DAYLIGHT
TZOFFSETFROM:-0500
TZOFFSETTO:-0400
TZNAME:EDT
DTSTART:20240310T070000
END:DAYLIGHT
BEGIN:STANDARD
TZOFFSETFROM:-0400
TZOFFSETTO:-0500
TZNAME:EST
DTSTART:20241103T060000
END:STANDARD
BEGIN:DAYLIGHT
TZOFFSETFROM:-0500
TZOFFSETTO:-0400
TZNAME:EDT
DTSTART:20250309T070000
END:DAYLIGHT
BEGIN:STANDARD
TZOFFSETFROM:-0400
TZOFFSETTO:-0500
TZNAME:EST
DTSTART:20251102T060000
END:STANDARD
END:VTIMEZONE
BEGIN:VEVENT
DTSTART;TZID=America/Toronto:20240424T174500
DTEND;TZID=America/Toronto:20240424T174500
DTSTAMP:20260424T153158
CREATED:20240422T172108Z
LAST-MODIFIED:20240422T172810Z
UID:10002783-1713980700-1713980700@membership.ontariosoilcrop.org
SUMMARY:Halton SCIA Spring Open House
DESCRIPTION:Join Halton SCIA for their Spring Open House to hear from our industry experts and renew your membership. \nGuest speakers: \n\nGlenn Young\, Halton Hay\nJamie Fisher\, Ontario Biomass Producers Co-op\nNancy Van Sas\, RCC\n\nPizza and drinks sponsored by the Ontario Biomass Producers group. Please bring a lawn chair.
URL:https://membership.ontariosoilcrop.org/event/halton-scia-spring-open-house/
LOCATION:Halton Hay\, 5274 Derry Road\, Burlington\, ON\, L7M 0R6
CATEGORIES:Event,Golden Horseshoe,Halton
END:VEVENT
END:VCALENDAR