BEGIN:VCALENDAR
VERSION:2.0
PRODID:-//OSCIA - ECPv6.15.17.1//NONSGML v1.0//EN
CALSCALE:GREGORIAN
METHOD:PUBLISH
X-WR-CALNAME:OSCIA
X-ORIGINAL-URL:https://membership.ontariosoilcrop.org
X-WR-CALDESC:Events for OSCIA
REFRESH-INTERVAL;VALUE=DURATION:PT1H
X-Robots-Tag:noindex
X-PUBLISHED-TTL:PT1H
BEGIN:VTIMEZONE
TZID:America/Toronto
BEGIN:DAYLIGHT
TZOFFSETFROM:-0500
TZOFFSETTO:-0400
TZNAME:EDT
DTSTART:20220313T070000
END:DAYLIGHT
BEGIN:STANDARD
TZOFFSETFROM:-0400
TZOFFSETTO:-0500
TZNAME:EST
DTSTART:20221106T060000
END:STANDARD
BEGIN:DAYLIGHT
TZOFFSETFROM:-0500
TZOFFSETTO:-0400
TZNAME:EDT
DTSTART:20230312T070000
END:DAYLIGHT
BEGIN:STANDARD
TZOFFSETFROM:-0400
TZOFFSETTO:-0500
TZNAME:EST
DTSTART:20231105T060000
END:STANDARD
BEGIN:DAYLIGHT
TZOFFSETFROM:-0500
TZOFFSETTO:-0400
TZNAME:EDT
DTSTART:20240310T070000
END:DAYLIGHT
BEGIN:STANDARD
TZOFFSETFROM:-0400
TZOFFSETTO:-0500
TZNAME:EST
DTSTART:20241103T060000
END:STANDARD
BEGIN:DAYLIGHT
TZOFFSETFROM:-0500
TZOFFSETTO:-0400
TZNAME:EDT
DTSTART:20250309T070000
END:DAYLIGHT
BEGIN:STANDARD
TZOFFSETFROM:-0400
TZOFFSETTO:-0500
TZNAME:EST
DTSTART:20251102T060000
END:STANDARD
END:VTIMEZONE
BEGIN:VEVENT
DTSTART;TZID=America/Toronto:20240129T183000
DTEND;TZID=America/Toronto:20240129T210000
DTSTAMP:20260422T111528
CREATED:20240124T112840Z
LAST-MODIFIED:20240124T112840Z
UID:10001466-1706553000-1706562000@membership.ontariosoilcrop.org
SUMMARY:Haldimand AGM
DESCRIPTION:Haldimand Soil & Crop Improvement Association\nMonday\, January 29th 6:30pm\nPlease join us for a social and informative evening while\nsupporting your local Soil & Crop association\nCost for the evening is membership renewal of $30/year\nFor Information please contact:\nMatt Beischlag 289-439-7746\nBrandon Glenney 289-808-2088\nElliot Armstrong 905-745-9266\nKim Hessels-Glenney 905-961-8553\n5272 Highway 3 (Talbot Road)\, Cayuga \nAnnual General Meeting\n6:30 pm: Welcome & Introductions Matt Beischlag\n6:45 pm: OSCIA Update & Cost Share Program Nancy VanSas\n7:00 pm: OSCIA Provincial Update Alan Thompson\n7:10 pm: Haldimand Soil & Crop Reports & Voting\n8:00 pm: The Executive Director of Land Improvement Contractors of Ontario\, Mel Luymes\, will be presenting on the Huron Drainage Tile Research Project\n8:30 pm: Summer Meeting Introduction Matt Beischlag & Kim\nHessels-Glenney\nHot and Cold Refreshments courtesy of Anderson Grain Locally\nsourced baked goods courtesy of KC Ag Solutions
URL:https://membership.ontariosoilcrop.org/event/haldimand-agm/
LOCATION:Glenney Farms\, 5272 Talbot Road (Highway 3)\, Cayuga\, Ontario\, Canada
CATEGORIES:Golden Horseshoe,Haldimand
END:VEVENT
BEGIN:VEVENT
DTSTART;TZID=America/Toronto:20230907T170000
DTEND;TZID=America/Toronto:20230907T210000
DTSTAMP:20260422T111528
CREATED:20230829T125718Z
LAST-MODIFIED:20230829T130107Z
UID:10001545-1694106000-1694120400@membership.ontariosoilcrop.org
SUMMARY:Combine Clinic
DESCRIPTION:Speakers will be from O’Neils Equipment\, John Deere\, and Tirecraft \nBring your tire gauge to get it calibrated \nDinner is pulled pork from Backyard BBQ at 7:30 pm \nCost – $ 25.00 per person \nFor questions\, contact Kim Glenney at 905-961-8553
URL:https://membership.ontariosoilcrop.org/event/combine-clinic/
LOCATION:Glenney Farms\, 5272 Talbot Road (Highway 3)\, Cayuga\, Ontario\, Canada
CATEGORIES:Golden Horseshoe
ATTACH;FMTTYPE=image/jpeg:https://membership.ontariosoilcrop.org/wp-content/uploads/2023/08/JD-Combine-2.jpg
END:VEVENT
END:VCALENDAR