BEGIN:VCALENDAR
VERSION:2.0
PRODID:-//OSCIA - ECPv6.15.17.1//NONSGML v1.0//EN
CALSCALE:GREGORIAN
METHOD:PUBLISH
X-WR-CALNAME:OSCIA
X-ORIGINAL-URL:https://membership.ontariosoilcrop.org
X-WR-CALDESC:Events for OSCIA
REFRESH-INTERVAL;VALUE=DURATION:PT1H
X-Robots-Tag:noindex
X-PUBLISHED-TTL:PT1H
BEGIN:VTIMEZONE
TZID:America/Toronto
BEGIN:DAYLIGHT
TZOFFSETFROM:-0500
TZOFFSETTO:-0400
TZNAME:EDT
DTSTART:20240310T070000
END:DAYLIGHT
BEGIN:STANDARD
TZOFFSETFROM:-0400
TZOFFSETTO:-0500
TZNAME:EST
DTSTART:20241103T060000
END:STANDARD
BEGIN:DAYLIGHT
TZOFFSETFROM:-0500
TZOFFSETTO:-0400
TZNAME:EDT
DTSTART:20250309T070000
END:DAYLIGHT
BEGIN:STANDARD
TZOFFSETFROM:-0400
TZOFFSETTO:-0500
TZNAME:EST
DTSTART:20251102T060000
END:STANDARD
BEGIN:DAYLIGHT
TZOFFSETFROM:-0500
TZOFFSETTO:-0400
TZNAME:EDT
DTSTART:20260308T070000
END:DAYLIGHT
BEGIN:STANDARD
TZOFFSETFROM:-0400
TZOFFSETTO:-0500
TZNAME:EST
DTSTART:20261101T060000
END:STANDARD
END:VTIMEZONE
BEGIN:VEVENT
DTSTART;TZID=America/Toronto:20250724T123000
DTEND;TZID=America/Toronto:20250724T200000
DTSTAMP:20260420T042009
CREATED:20250520T135314Z
LAST-MODIFIED:20250603T184156Z
UID:10003054-1753360200-1753387200@membership.ontariosoilcrop.org
SUMMARY:Bounty in the County: Ecological Farms in PEC
DESCRIPTION:Join EFAO for a day in Prince Edward County that’s not to be missed! Three fabulous EFAO farms will open their doors for a tour in late July. Join us for one\, two or all three stops! \nThe afternoon will kick off at Fiddlehead Farm\, where farmers Heather and Stephanie will walk you through their operation from seed to CSA bin. They’ll share notes on the simple\, inexpensive DIY farm building options that have gotten them through their first fourteen years of farming and dreams of next steps. During an in-depth farm tour\, they will also share about learning from mistakes\, keeping curiosity alive\, and continually improving their systems – a framing that has led to greater satisfaction in farming for themselves\, the team\, and their customers. \nReturn to Earth farm is the second stop\, where participants will have a behind-the-scenes tour of their rotational grazing systems for farm-raised lamb\, pork\, poultry and rabbit. Owners Ben and Kate will also talk about their maple syrup production\, homemade soaps\, and other value-added items. \nAt the final stop for the day\, participants will start with a farm raised and made dinner at Paper Kite Farm. Following a shared meal\, Farmers Hans and Judy will give a farm tour of their diverse multi faceted farm and the ecological production practices they employ. The tour will include a conversation about and look at production of their value-added products\, on-farm camp operations\, and aspirations for a more secure local food system. \nParticipants can participate in one\, two\, or all three farm tours. Entry to Paper Kite Farm includes a dinner ticket. Please note that there is some travel time between each farm\, and participants will need to arrange their own transportation from farm to farm. \nSchedule \n12:45pm – Arrive at Fiddlehead Farm (978 Fish Lake Rd\, Demorestville) \n1:00-3:00pm – Tour at Fiddlehead Farm \n3-3:30pm – Travel to Return to Earth (1418 County Road 8\, Picton) \n3:30-5:30pm – Tour at Return to Earth \n5:30-5:45pm – Travel to Paper Kite Farm (212 County Road 16\, Milford) \n5:45-7:45pm – Light dinner and tour at Paper Kite farm \n7:45pm – Departures \n\n\n\n\n\n\n\n\n\n\nWhen? Thursday July 24 @ 12:45 pm – 7:45 pm \n\n\n\n\n\n\n\n\n\n\nWhere? Fiddlehead Farm\, Demorestville\, ON \nCost? Members $10-$40  Non-Members $15-$55 \nREGISTER HERE \nBounty in the County: Ecological Farms in PEC is an OSCIA-recognized Knowledge Sharing Event (KSE) for farmers with On-Farm Climate Action Fund (OFCAF) projects in the Rotational Grazing category. 
URL:https://membership.ontariosoilcrop.org/event/multi-species-regenerative-grazing-with-up-north-lamb-co-2/
LOCATION:Fiddlehead Farm\, 978 Fish Lake Rd\, Demorestville\, ON\, K0K 1W0\, Canada
CATEGORIES:ÉPC,KSE,Rotational Grazing Systems,Systèmes de rotation des pâturages
ORGANIZER;CN="Ecological Farmers Association of Ontario (EFAO)":MAILTO:info@efao.ca
END:VEVENT
END:VCALENDAR