BEGIN:VCALENDAR
VERSION:2.0
PRODID:-//OSCIA - ECPv6.15.17.1//NONSGML v1.0//EN
CALSCALE:GREGORIAN
METHOD:PUBLISH
X-ORIGINAL-URL:https://membership.ontariosoilcrop.org
X-WR-CALDESC:Events for OSCIA
REFRESH-INTERVAL;VALUE=DURATION:PT1H
X-Robots-Tag:noindex
X-PUBLISHED-TTL:PT1H
BEGIN:VTIMEZONE
TZID:America/Toronto
BEGIN:DAYLIGHT
TZOFFSETFROM:-0500
TZOFFSETTO:-0400
TZNAME:EDT
DTSTART:20240310T070000
END:DAYLIGHT
BEGIN:STANDARD
TZOFFSETFROM:-0400
TZOFFSETTO:-0500
TZNAME:EST
DTSTART:20241103T060000
END:STANDARD
BEGIN:DAYLIGHT
TZOFFSETFROM:-0500
TZOFFSETTO:-0400
TZNAME:EDT
DTSTART:20250309T070000
END:DAYLIGHT
BEGIN:STANDARD
TZOFFSETFROM:-0400
TZOFFSETTO:-0500
TZNAME:EST
DTSTART:20251102T060000
END:STANDARD
BEGIN:DAYLIGHT
TZOFFSETFROM:-0500
TZOFFSETTO:-0400
TZNAME:EDT
DTSTART:20260308T070000
END:DAYLIGHT
BEGIN:STANDARD
TZOFFSETFROM:-0400
TZOFFSETTO:-0500
TZNAME:EST
DTSTART:20261101T060000
END:STANDARD
END:VTIMEZONE
BEGIN:VEVENT
DTSTART;TZID=America/Toronto:20250813T160000
DTEND;TZID=America/Toronto:20250813T180000
DTSTAMP:20260422T202021
CREATED:20250716T200255Z
LAST-MODIFIED:20250716T200255Z
UID:10003112-1755100800-1755108000@membership.ontariosoilcrop.org
SUMMARY:Stories of Innovation at Ferme Houle Farm
DESCRIPTION:All Indigenous growers\, land stewards and community members are welcome to attend this field day free of charge! Please use the coupon code BOOT2025 when filling out the registration form to receive free admission. \nAndre Houle of Ferme Houle Farm isn’t scared to try something new. Andre and his family are third and fourth generation farmers on this land\, and transitioned it to organic in 2021\, after many years of more conventional farming. \nWithin a few years of this transition\, they went from a corn/soybean rotation and plowing every inch of soil\, to growing wheat\, rye\, barley\, peas\, hairy vetch\, red clover\, buckwheat\, oats\, and fava beans along with corn and soybeans. They intercrop many of these crops in an effort to feed the soil biology\, and use cover crops to keep the soil covered as much as we can. They are using roller-crimping techniques\, no-till\, minimal tillage and plowing only when necessary. \nThis year\, in an effort to continue to experiment and innovate\, Andre and his team have embarked on some soil health trials on the farm. \nJoin us at this field day for a field tour and discussion of the Ferme Houle Farm story\, a look at their cover cropping methods and processes\, a drone demonstration and an exploration and discussion of some of these on-farm trials: \n1. Intercropping: Barley and Peas\, Fall Rye and Hairy Vetch\, Fall Rye\, Hairy Vetch and Oats\, Oats and Clover\, Corn and Soybeans \n2. Polycropping: Small sections of multiple crops to see what we can harvest together – Peas\, Faba beans\, Wheat\, Barley\, Oats\, Flax\, Phacaelia\, Rye\, Hairy vetch \n3. No-till Soybeans: Baling fall rye for the cows and no-till seeding soybeans in the stubble \n4. No-till Buckwheat: Harvesting Fall Rye and no-tilling Buckwheat 5. Wheat and Oat Breeding: Participatory Plant Breeding (PPB) program—a collaboration between the University of Manitoba and the Bauta Initiative (a program of SeedChange) that supports farmers in developing wheat\, oat\, and potato varieties for organic and ecological farming. \n\n\n\n\n\n\n\n\n\n\nWhen? Wednesday\, August 13 @ 4:00 pm – 6:00 pm \n\n\n\n\n\n\n\n\n\n\nWhere? Ferme Houle Farm\, 2300 County Road #2 Curran\, Ontario K0B 1C0 \nCost? Members $10  Non-Members $15 \nREGISTER HERE \nStories of Innovation at Ferme Houle Farm is an OSCIA-recognized Knowledge Sharing Event (KSE) for farmers with On-Farm Climate Action Fund (OFCAF) projects in the Cover Cropping category. 
URL:https://membership.ontariosoilcrop.org/event/stories-of-innovation-at-ferme-houle-farm/
LOCATION:Ferme Houle Farm\, 2300 County Road #2\, Curran\, ON\, K0B 1C0\, Canada
CATEGORIES:Cover Cropping,ÉPC,KSE,Recours aux cultures de couverturev
ORGANIZER;CN="Ecological Farmers Association of Ontario (EFAO)":MAILTO:info@efao.ca
END:VEVENT
END:VCALENDAR