BEGIN:VCALENDAR
VERSION:2.0
PRODID:-//OSCIA - ECPv6.15.17.1//NONSGML v1.0//EN
CALSCALE:GREGORIAN
METHOD:PUBLISH
X-ORIGINAL-URL:https://membership.ontariosoilcrop.org
X-WR-CALDESC:Events for OSCIA
REFRESH-INTERVAL;VALUE=DURATION:PT1H
X-Robots-Tag:noindex
X-PUBLISHED-TTL:PT1H
BEGIN:VTIMEZONE
TZID:America/Toronto
BEGIN:DAYLIGHT
TZOFFSETFROM:-0500
TZOFFSETTO:-0400
TZNAME:EDT
DTSTART:20230312T070000
END:DAYLIGHT
BEGIN:STANDARD
TZOFFSETFROM:-0400
TZOFFSETTO:-0500
TZNAME:EST
DTSTART:20231105T060000
END:STANDARD
BEGIN:DAYLIGHT
TZOFFSETFROM:-0500
TZOFFSETTO:-0400
TZNAME:EDT
DTSTART:20240310T070000
END:DAYLIGHT
BEGIN:STANDARD
TZOFFSETFROM:-0400
TZOFFSETTO:-0500
TZNAME:EST
DTSTART:20241103T060000
END:STANDARD
BEGIN:DAYLIGHT
TZOFFSETFROM:-0500
TZOFFSETTO:-0400
TZNAME:EDT
DTSTART:20250309T070000
END:DAYLIGHT
BEGIN:STANDARD
TZOFFSETFROM:-0400
TZOFFSETTO:-0500
TZNAME:EST
DTSTART:20251102T060000
END:STANDARD
END:VTIMEZONE
BEGIN:VEVENT
DTSTART;TZID=America/Toronto:20240312T080000
DTEND;TZID=America/Toronto:20240314T160000
DTSTAMP:20260422T043206
CREATED:20230922T180806Z
LAST-MODIFIED:20230922T180806Z
UID:10001562-1710230400-1710432000@membership.ontariosoilcrop.org
SUMMARY:Ottawa Valley Farm Show
DESCRIPTION:Make sure you mark your calendar to attend the Ottawa Valley Farm Show will take place at the EY Centre in Ottawa on March 12 – 14th\, 2024!
URL:https://membership.ontariosoilcrop.org/event/ottawa-valley-farm-show/
LOCATION:EY Centre\, Ottawa\, ON\, Canada
CATEGORIES:Eastern Valley,Frontenac,Grenville,Leeds,Ottawa Carleton,Ottawa Rideau,Renfrew
ATTACH;FMTTYPE=image/png:https://membership.ontariosoilcrop.org/wp-content/uploads/2023/09/OVFS-logo.png
GEO:45.4215296;-75.6971931
END:VEVENT
END:VCALENDAR