BEGIN:VCALENDAR
VERSION:2.0
PRODID:-//OSCIA - ECPv6.15.17.1//NONSGML v1.0//EN
CALSCALE:GREGORIAN
METHOD:PUBLISH
X-WR-CALNAME:OSCIA
X-ORIGINAL-URL:https://membership.ontariosoilcrop.org
X-WR-CALDESC:Events for OSCIA
REFRESH-INTERVAL;VALUE=DURATION:PT1H
X-Robots-Tag:noindex
X-PUBLISHED-TTL:PT1H
BEGIN:VTIMEZONE
TZID:America/Toronto
BEGIN:DAYLIGHT
TZOFFSETFROM:-0500
TZOFFSETTO:-0400
TZNAME:EDT
DTSTART:20220313T070000
END:DAYLIGHT
BEGIN:STANDARD
TZOFFSETFROM:-0400
TZOFFSETTO:-0500
TZNAME:EST
DTSTART:20221106T060000
END:STANDARD
BEGIN:DAYLIGHT
TZOFFSETFROM:-0500
TZOFFSETTO:-0400
TZNAME:EDT
DTSTART:20230312T070000
END:DAYLIGHT
BEGIN:STANDARD
TZOFFSETFROM:-0400
TZOFFSETTO:-0500
TZNAME:EST
DTSTART:20231105T060000
END:STANDARD
BEGIN:DAYLIGHT
TZOFFSETFROM:-0500
TZOFFSETTO:-0400
TZNAME:EDT
DTSTART:20240310T070000
END:DAYLIGHT
BEGIN:STANDARD
TZOFFSETFROM:-0400
TZOFFSETTO:-0500
TZNAME:EST
DTSTART:20241103T060000
END:STANDARD
BEGIN:DAYLIGHT
TZOFFSETFROM:-0500
TZOFFSETTO:-0400
TZNAME:EDT
DTSTART:20250309T070000
END:DAYLIGHT
BEGIN:STANDARD
TZOFFSETFROM:-0400
TZOFFSETTO:-0500
TZNAME:EST
DTSTART:20251102T060000
END:STANDARD
BEGIN:DAYLIGHT
TZOFFSETFROM:-0500
TZOFFSETTO:-0400
TZNAME:EDT
DTSTART:20260308T070000
END:DAYLIGHT
BEGIN:STANDARD
TZOFFSETFROM:-0400
TZOFFSETTO:-0500
TZNAME:EST
DTSTART:20261101T060000
END:STANDARD
END:VTIMEZONE
BEGIN:VEVENT
DTSTART;TZID=America/Toronto:20250724T190000
DTEND;TZID=America/Toronto:20250724T210000
DTSTAMP:20260420T073159
CREATED:20250707T202425Z
LAST-MODIFIED:20250707T202425Z
UID:10003108-1753383600-1753390800@membership.ontariosoilcrop.org
SUMMARY:Elora Forage and Pasture Night
DESCRIPTION:Come out to hear about the projects Ontario Crops Research Station Elora is working on including a pasture nitrogen fertility trial and simulated grazing plots. Stay for ice cream from Mapleton organic dairy! \n\n\n\n\n\n\n\n\n\n\nWhen? Thursday July 24 @ 7:00 pm – 9:00 pm \n\n\n\n\n\n\n\n\n\n\nWhere? 6182 2 Line E\, Ariss\, ON N0B 1S0 \nRegistration? No pre-registration needed\, contact Caroline for more information (creisige@uoguelph.ca) \n  \nElora Forage and Pasture Night is an OSCIA-recognized Knowledge Sharing Event (KSE) for farmers with On-Farm Climate Action Fund (OFCAF) projects in the Rotational Grazing category. 
URL:https://membership.ontariosoilcrop.org/event/elora-forage-and-pasture-night/
LOCATION:Elora Research Station\, 6195 2 Line East\, Ariss\, ON\, N0B 1B0\, Canada
CATEGORIES:ÉPC,KSE,Rotational Grazing Systems,Systèmes de rotation des pâturages
GEO:43.683715;-80.4305427
X-APPLE-STRUCTURED-LOCATION;VALUE=URI;X-ADDRESS=Elora Research Station 6195 2 Line East Ariss ON N0B 1B0 Canada;X-APPLE-RADIUS=500;X-TITLE=6195 2 Line East:geo:-80.4305427,43.683715
END:VEVENT
BEGIN:VEVENT
DTSTART;TZID=America/Toronto:20230921T143000
DTEND;TZID=America/Toronto:20230921T163000
DTSTAMP:20260420T073159
CREATED:20230824T134702Z
LAST-MODIFIED:20230824T135055Z
UID:10001539-1695306600-1695313800@membership.ontariosoilcrop.org
SUMMARY:U of G Cover Crop Research Field Day - Elora Research Station
DESCRIPTION:Come to the University of Guelph Elora Research Station for a tour of cover crop research. This includes research related to greenhouse gas emissions and the 4Rs; legume mix yield and forage quality; long-term impact of cover crop trials; and more. There will also be a demonstration showing water movement through the soil profile using a blue dye. Come\, see\, ask questions. Also\, meet new and familiar University of Guelph faculty\, new and familiar OMAFRA soils extension staff\, other researchers\, and growers. The FREE event runs from 2:30 pm to 4:30 pm. You can arrive at 2pm for light refreshments and conversation. If you are able\, stay for 4:30 pm pizza and join the Pasture tour\, both hosted by Beef@Guelph. Walk-ins welcome. Pre-registration preferred. Click here for registration. The event has been co-organized by people with Soils At Guelph\, Plant Agriculture and the OMAFRA Soils Extension Team. \nTo register\, visit https://omafra.my.site.com/survey/ArdiraSurvey/SurveyResponse.app?recordId=a1GMm00000064dd&logicalId=f8d7d7f5-d7f1-c043-81c9-56a59cc5c53b \nFor more information\, contact soils@uoguelph.ca
URL:https://membership.ontariosoilcrop.org/event/u-of-g-cover-crop-research-field-day-elora-research-station/
LOCATION:Elora Research Station\, 6195 2 Line East\, Ariss\, ON\, N0B 1B0\, Canada
CATEGORIES:Cover Cropping,KSE,Nitrogen Management
GEO:43.683715;-80.4305427
X-APPLE-STRUCTURED-LOCATION;VALUE=URI;X-ADDRESS=Elora Research Station 6195 2 Line East Ariss ON N0B 1B0 Canada;X-APPLE-RADIUS=500;X-TITLE=6195 2 Line East:geo:-80.4305427,43.683715
END:VEVENT
END:VCALENDAR