BEGIN:VCALENDAR
VERSION:2.0
PRODID:-//OSCIA - ECPv6.15.17.1//NONSGML v1.0//EN
CALSCALE:GREGORIAN
METHOD:PUBLISH
X-ORIGINAL-URL:https://membership.ontariosoilcrop.org
X-WR-CALDESC:Events for OSCIA
REFRESH-INTERVAL;VALUE=DURATION:PT1H
X-Robots-Tag:noindex
X-PUBLISHED-TTL:PT1H
BEGIN:VTIMEZONE
TZID:America/Toronto
BEGIN:DAYLIGHT
TZOFFSETFROM:-0500
TZOFFSETTO:-0400
TZNAME:EDT
DTSTART:20220313T070000
END:DAYLIGHT
BEGIN:STANDARD
TZOFFSETFROM:-0400
TZOFFSETTO:-0500
TZNAME:EST
DTSTART:20221106T060000
END:STANDARD
BEGIN:DAYLIGHT
TZOFFSETFROM:-0500
TZOFFSETTO:-0400
TZNAME:EDT
DTSTART:20230312T070000
END:DAYLIGHT
BEGIN:STANDARD
TZOFFSETFROM:-0400
TZOFFSETTO:-0500
TZNAME:EST
DTSTART:20231105T060000
END:STANDARD
BEGIN:DAYLIGHT
TZOFFSETFROM:-0500
TZOFFSETTO:-0400
TZNAME:EDT
DTSTART:20240310T070000
END:DAYLIGHT
BEGIN:STANDARD
TZOFFSETFROM:-0400
TZOFFSETTO:-0500
TZNAME:EST
DTSTART:20241103T060000
END:STANDARD
END:VTIMEZONE
BEGIN:VEVENT
DTSTART;VALUE=DATE:20230908
DTEND;VALUE=DATE:20230910
DTSTAMP:20260422T055248
CREATED:20230518T145113Z
LAST-MODIFIED:20230804T130358Z
UID:10001403-1694131200-1694303999@membership.ontariosoilcrop.org
SUMMARY:BFO Cow Calf Management Tour (Durham Region)
DESCRIPTION:Beef Farmers of Ontario invite you to join us for farm tours of commercial and purebred cow-calf producers across Durham Region. This event will provide an opportunity to learn from other cow-calf producers\, along with a tour of a feedlot to understand the attributes that lead to calves performing well throughout the feeding period. We look forward to discussing rotational grazing plans\, pasture management\, and cover crop production. \nVisit https://www.eventbrite.ca/e/2023-cow-calf-management-tour-tickets-687322148047 to register. \nPlease note: The complete agenda\, including addresses for tour stops will be provided after registration. Please contact Jaclyn or Dan with BFO if you have questions.
URL:https://membership.ontariosoilcrop.org/event/bfo-cow-calf-management-tour/
LOCATION:Durham County
CATEGORIES:KSE,Rotational Grazing Systems
ORGANIZER;CN="Beef Farmers of Ontario":MAILTO:info@ontariobeef.com
END:VEVENT
END:VCALENDAR