BEGIN:VCALENDAR
VERSION:2.0
PRODID:-//OSCIA - ECPv6.15.17.1//NONSGML v1.0//EN
CALSCALE:GREGORIAN
METHOD:PUBLISH
X-WR-CALNAME:OSCIA
X-ORIGINAL-URL:https://membership.ontariosoilcrop.org
X-WR-CALDESC:Events for OSCIA
REFRESH-INTERVAL;VALUE=DURATION:PT1H
X-Robots-Tag:noindex
X-PUBLISHED-TTL:PT1H
BEGIN:VTIMEZONE
TZID:America/Toronto
BEGIN:DAYLIGHT
TZOFFSETFROM:-0500
TZOFFSETTO:-0400
TZNAME:EDT
DTSTART:20230312T070000
END:DAYLIGHT
BEGIN:STANDARD
TZOFFSETFROM:-0400
TZOFFSETTO:-0500
TZNAME:EST
DTSTART:20231105T060000
END:STANDARD
BEGIN:DAYLIGHT
TZOFFSETFROM:-0500
TZOFFSETTO:-0400
TZNAME:EDT
DTSTART:20240310T070000
END:DAYLIGHT
BEGIN:STANDARD
TZOFFSETFROM:-0400
TZOFFSETTO:-0500
TZNAME:EST
DTSTART:20241103T060000
END:STANDARD
BEGIN:DAYLIGHT
TZOFFSETFROM:-0500
TZOFFSETTO:-0400
TZNAME:EDT
DTSTART:20250309T070000
END:DAYLIGHT
BEGIN:STANDARD
TZOFFSETFROM:-0400
TZOFFSETTO:-0500
TZNAME:EST
DTSTART:20251102T060000
END:STANDARD
BEGIN:DAYLIGHT
TZOFFSETFROM:-0500
TZOFFSETTO:-0400
TZNAME:EDT
DTSTART:20260308T070000
END:DAYLIGHT
BEGIN:STANDARD
TZOFFSETFROM:-0400
TZOFFSETTO:-0500
TZNAME:EST
DTSTART:20261101T060000
END:STANDARD
BEGIN:DAYLIGHT
TZOFFSETFROM:-0500
TZOFFSETTO:-0400
TZNAME:EDT
DTSTART:20270314T070000
END:DAYLIGHT
BEGIN:STANDARD
TZOFFSETFROM:-0400
TZOFFSETTO:-0500
TZNAME:EST
DTSTART:20271107T060000
END:STANDARD
END:VTIMEZONE
BEGIN:VEVENT
DTSTART;TZID=America/Toronto:20260312T083000
DTEND;TZID=America/Toronto:20260312T120000
DTSTAMP:20260425T110307
CREATED:20260227T204112Z
LAST-MODIFIED:20260227T204204Z
UID:10003297-1773304200-1773316800@membership.ontariosoilcrop.org
SUMMARY:Norfolk SCIA March Grower Day: Agronomy & Lunch
DESCRIPTION:Norfolk SCIA presents its March Grower Day: Agronomy & Lunch\nDate/Time: March 12\, 2026 from 8:30am until lunch \nLocation: Courtland Community Centre \nCost: FREE for OSCIA Members ($15 for non-members) \nFeatured Speakers: \n\nRON BIANCHI: ATMOSPHERIC PHYSICIST /METEOROLOGIST\nRICK DEJONG: MAKING FERTILIZER DOLLARS COUNT\nHONEYLAND AG SERVICES: STAYGREEN DATASET & PATH TO HIGHER YIELD\n\nRSVP: Contact Alex at 519-410-5344 or Jaime at 519-550-0632
URL:https://membership.ontariosoilcrop.org/event/norfolk-scia-march-grower-day-agronomy-lunch/
LOCATION:Courtland Community Center\, 272 Main Street\, Courtland\, ON\, Canada
CATEGORIES:Event,General Interest,Local Event,Norfolk,Provincial
END:VEVENT
BEGIN:VEVENT
DTSTART;TZID=America/Toronto:20250326T083000
DTEND;TZID=America/Toronto:20250326T130000
DTSTAMP:20260425T110307
CREATED:20250314T144747Z
LAST-MODIFIED:20250314T144747Z
UID:10003011-1742977800-1742994000@membership.ontariosoilcrop.org
SUMMARY:March Grower Meeting
DESCRIPTION:Norfolk Compaction Day results\, New Technology from Precision Planting\, Water Movement in Soils under Irrigation Systems and Cost Share Opportunities for 2025. \nOSCIA members Free! Non-Members $15 to cover lunch \nContact Tracey: 519-532-2959 or tkcourt@execulink.com
URL:https://membership.ontariosoilcrop.org/event/march-grower-meeting/
LOCATION:Courtland Community Center\, 272 Main Street\, Courtland\, ON\, Canada
CATEGORIES:Golden Horseshoe
ATTACH;FMTTYPE=image/png:https://membership.ontariosoilcrop.org/wp-content/uploads/2025/03/NSCIA-March-Grower-Day-Details.png
END:VEVENT
BEGIN:VEVENT
DTSTART;TZID=America/Toronto:20240305T083000
DTEND;TZID=America/Toronto:20240305T133000
DTSTAMP:20260425T110307
CREATED:20240209T012459Z
LAST-MODIFIED:20240209T020753Z
UID:10001673-1709627400-1709645400@membership.ontariosoilcrop.org
SUMMARY:Norfolk March Grower Day
DESCRIPTION:Discover the results of the Norfolk Compaction Day in August 2023 as Ian McDonald and Jim Warren discuss the qualities of Norfolk’s soils and how they compact.  Also learn about the flow of water through our sand soils with Kevin McKague.  The 2023 trials data and upcoming cost-share opportunities will also be explored. \nLimited seating\, so please reserve your ticket today \nLunch included \nFree for OSCIA members\, $15.00 for non-members paid at the door
URL:https://membership.ontariosoilcrop.org/event/norfolk-march-grower-day/
LOCATION:Courtland Community Center\, 272 Main Street\, Courtland\, ON\, Canada
CATEGORIES:Golden Horseshoe,Norfolk
ATTACH;FMTTYPE=image/png:https://membership.ontariosoilcrop.org/wp-content/uploads/2024/02/March-Grower-Day-2024.png
END:VEVENT
END:VCALENDAR