BEGIN:VCALENDAR
VERSION:2.0
PRODID:-//OSCIA - ECPv6.15.17.1//NONSGML v1.0//EN
CALSCALE:GREGORIAN
METHOD:PUBLISH
X-ORIGINAL-URL:https://membership.ontariosoilcrop.org
X-WR-CALDESC:Events for OSCIA
REFRESH-INTERVAL;VALUE=DURATION:PT1H
X-Robots-Tag:noindex
X-PUBLISHED-TTL:PT1H
BEGIN:VTIMEZONE
TZID:America/Toronto
BEGIN:DAYLIGHT
TZOFFSETFROM:-0500
TZOFFSETTO:-0400
TZNAME:EDT
DTSTART:20240310T070000
END:DAYLIGHT
BEGIN:STANDARD
TZOFFSETFROM:-0400
TZOFFSETTO:-0500
TZNAME:EST
DTSTART:20241103T060000
END:STANDARD
BEGIN:DAYLIGHT
TZOFFSETFROM:-0500
TZOFFSETTO:-0400
TZNAME:EDT
DTSTART:20250309T070000
END:DAYLIGHT
BEGIN:STANDARD
TZOFFSETFROM:-0400
TZOFFSETTO:-0500
TZNAME:EST
DTSTART:20251102T060000
END:STANDARD
BEGIN:DAYLIGHT
TZOFFSETFROM:-0500
TZOFFSETTO:-0400
TZNAME:EDT
DTSTART:20260308T070000
END:DAYLIGHT
BEGIN:STANDARD
TZOFFSETFROM:-0400
TZOFFSETTO:-0500
TZNAME:EST
DTSTART:20261101T060000
END:STANDARD
END:VTIMEZONE
BEGIN:VEVENT
DTSTART;TZID=America/Toronto:20250116T093000
DTEND;TZID=America/Toronto:20250116T153000
DTSTAMP:20260424T081502
CREATED:20241217T193422Z
LAST-MODIFIED:20241218T182450Z
UID:10002897-1737019800-1737041400@membership.ontariosoilcrop.org
SUMMARY:Bruce County SCIA Winter Meeting
DESCRIPTION:Join the Bruce Country SCIA Winter Meeting! Nitrogen Management topics will be covered with a Grower Panel on yield enhancement network with Joanna Follings\, from  OMAFA and maximizing its use. Learn about upside robotics on season long nitrogen sidedressing in corn from Jana Tian and Sam Dugan (owners) and Tanya Franklin( in house agronomy) \n\n\n\n\n\n  \n\n\nWhen? January 16\, 9:30 am to 3:30 pm \n\n\n\nWhere? Chepstow Lion’s Park\, (444 Chepstow Rd\,  Chepstow\, ON) \nRegistration: is free by emailing georgiancentraloscia@ontariosoilcrop.org. \nBruce County SCIA Winter Meeting is an OSCIA recognized Knowledge Sharing Event (KSE) for farmers with On-Farm Climate Action Fund (OFCAF) projects in the Nitrogen Management category
URL:https://membership.ontariosoilcrop.org/event/bruce-county-scia-agm/
LOCATION:Chepstow Lion’s Park\, 444 Chepstow Rd\, Chepstow\, ON\, N0G1K0\, Canada
CATEGORIES:ÉPC,Gestion de l’azote,KSE,Nitrogen Management
END:VEVENT
END:VCALENDAR