BEGIN:VCALENDAR
VERSION:2.0
PRODID:-//OSCIA - ECPv6.15.17.1//NONSGML v1.0//EN
CALSCALE:GREGORIAN
METHOD:PUBLISH
X-WR-CALNAME:OSCIA
X-ORIGINAL-URL:https://membership.ontariosoilcrop.org
X-WR-CALDESC:Events for OSCIA
REFRESH-INTERVAL;VALUE=DURATION:PT1H
X-Robots-Tag:noindex
X-PUBLISHED-TTL:PT1H
BEGIN:VTIMEZONE
TZID:America/Toronto
BEGIN:DAYLIGHT
TZOFFSETFROM:-0500
TZOFFSETTO:-0400
TZNAME:EDT
DTSTART:20250309T070000
END:DAYLIGHT
BEGIN:STANDARD
TZOFFSETFROM:-0400
TZOFFSETTO:-0500
TZNAME:EST
DTSTART:20251102T060000
END:STANDARD
BEGIN:DAYLIGHT
TZOFFSETFROM:-0500
TZOFFSETTO:-0400
TZNAME:EDT
DTSTART:20260308T070000
END:DAYLIGHT
BEGIN:STANDARD
TZOFFSETFROM:-0400
TZOFFSETTO:-0500
TZNAME:EST
DTSTART:20261101T060000
END:STANDARD
BEGIN:DAYLIGHT
TZOFFSETFROM:-0500
TZOFFSETTO:-0400
TZNAME:EDT
DTSTART:20270314T070000
END:DAYLIGHT
BEGIN:STANDARD
TZOFFSETFROM:-0400
TZOFFSETTO:-0500
TZNAME:EST
DTSTART:20271107T060000
END:STANDARD
END:VTIMEZONE
BEGIN:VEVENT
DTSTART;TZID=America/Toronto:20260122T133000
DTEND;TZID=America/Toronto:20260122T153000
DTSTAMP:20260419T094825
CREATED:20260114T162038Z
LAST-MODIFIED:20260114T162038Z
UID:10003242-1769088600-1769095800@membership.ontariosoilcrop.org
SUMMARY:Carlotte Ag & Grand River Robotics Winter Meeting
DESCRIPTION:  \nWhen: January 22 @ 1:30 – 3:30 pm \nWhere:Carlotte Farms\, 7538 First Line\, Arthur\, ON N0G 1A0 \nRegister Here   \n  \nOMAFA Manure and Nitrogen Management is an OSCIA-recognized Knowledge Sharing Event (KSE) for farmers with On-Farm Climate Action Fund (OFCAF) projects in the Nitrogen Management category. \n 
URL:https://membership.ontariosoilcrop.org/event/carlotte-ag-grand-river-robotics-winter-meeting-2/
LOCATION:Carlotte Farms\, 7538 First Line\, Arthur\, Ontario\, N0G 1A0\, Canada
CATEGORIES:ÉPC,Gestion de l’azote,KSE,Nitrogen Management
END:VEVENT
END:VCALENDAR