BEGIN:VCALENDAR
VERSION:2.0
PRODID:-//OSCIA - ECPv6.15.17.1//NONSGML v1.0//EN
CALSCALE:GREGORIAN
METHOD:PUBLISH
X-WR-CALNAME:OSCIA
X-ORIGINAL-URL:https://membership.ontariosoilcrop.org
X-WR-CALDESC:Events for OSCIA
REFRESH-INTERVAL;VALUE=DURATION:PT1H
X-Robots-Tag:noindex
X-PUBLISHED-TTL:PT1H
BEGIN:VTIMEZONE
TZID:America/Toronto
BEGIN:DAYLIGHT
TZOFFSETFROM:-0500
TZOFFSETTO:-0400
TZNAME:EDT
DTSTART:20230312T070000
END:DAYLIGHT
BEGIN:STANDARD
TZOFFSETFROM:-0400
TZOFFSETTO:-0500
TZNAME:EST
DTSTART:20231105T060000
END:STANDARD
BEGIN:DAYLIGHT
TZOFFSETFROM:-0500
TZOFFSETTO:-0400
TZNAME:EDT
DTSTART:20240310T070000
END:DAYLIGHT
BEGIN:STANDARD
TZOFFSETFROM:-0400
TZOFFSETTO:-0500
TZNAME:EST
DTSTART:20241103T060000
END:STANDARD
BEGIN:DAYLIGHT
TZOFFSETFROM:-0500
TZOFFSETTO:-0400
TZNAME:EDT
DTSTART:20250309T070000
END:DAYLIGHT
BEGIN:STANDARD
TZOFFSETFROM:-0400
TZOFFSETTO:-0500
TZNAME:EST
DTSTART:20251102T060000
END:STANDARD
END:VTIMEZONE
BEGIN:VEVENT
DTSTART;TZID=America/Toronto:20240118T093000
DTEND;TZID=America/Toronto:20240118T153000
DTSTAMP:20260423T125517
CREATED:20231121T212114Z
LAST-MODIFIED:20231206T151429Z
UID:10001597-1705570200-1705591800@membership.ontariosoilcrop.org
SUMMARY:Bruce County Winter Meeting
DESCRIPTION:Please mark your calendars for Bruce County SCIA’s Winter Meeting – January 18th 2024 from 9:30 am to 3:30 pm. \nThe meeting will be moving to a new location this year\, the Cargill Community Centre\, 999 Greenock Brant Townline\, Cargill ON\, N0G 1J0. \nTopics will include: \n· How to do practical or essential precision ag\n· How to setup good on-farm trials\n· Nitrogen emissions???\n· Hay as a cash crop\n· And perennial updates for OSCIA/OMAFRA. \nA hot lunch will be catered by Harley’s Pub & Perk from Mildmay. \nIf you have crop plot results that you would like shared during the meeting\, please forward them to Jonathan Zettler or another Bruce SCIA director. \nPlease pre-register for the meeting by emailing info@greyagservices.ca or calling 519-986-3756.
URL:https://membership.ontariosoilcrop.org/event/bruce-county-winter-meeting/
LOCATION:Cargill Community Centre\, 999 Greenock Brant Townline\, Cargill\, Ontario\, N0G 1J0\, Canada
CATEGORIES:Bruce,Dufferin,Georgian Central,Grey,Huron,KSE,Nitrogen Management,Perth,Simcoe North,Wellington
ATTACH;FMTTYPE=image/png:https://membership.ontariosoilcrop.org/wp-content/uploads/2023/11/Bruce-County-Soil-Crop-Winter-Meeting.png
END:VEVENT
END:VCALENDAR