BEGIN:VCALENDAR
VERSION:2.0
PRODID:-//OSCIA - ECPv6.15.17.1//NONSGML v1.0//EN
CALSCALE:GREGORIAN
METHOD:PUBLISH
X-WR-CALNAME:OSCIA
X-ORIGINAL-URL:https://membership.ontariosoilcrop.org
X-WR-CALDESC:Events for OSCIA
REFRESH-INTERVAL;VALUE=DURATION:PT1H
X-Robots-Tag:noindex
X-PUBLISHED-TTL:PT1H
BEGIN:VTIMEZONE
TZID:America/Toronto
BEGIN:DAYLIGHT
TZOFFSETFROM:-0500
TZOFFSETTO:-0400
TZNAME:EDT
DTSTART:20220313T070000
END:DAYLIGHT
BEGIN:STANDARD
TZOFFSETFROM:-0400
TZOFFSETTO:-0500
TZNAME:EST
DTSTART:20221106T060000
END:STANDARD
BEGIN:DAYLIGHT
TZOFFSETFROM:-0500
TZOFFSETTO:-0400
TZNAME:EDT
DTSTART:20230312T070000
END:DAYLIGHT
BEGIN:STANDARD
TZOFFSETFROM:-0400
TZOFFSETTO:-0500
TZNAME:EST
DTSTART:20231105T060000
END:STANDARD
BEGIN:DAYLIGHT
TZOFFSETFROM:-0500
TZOFFSETTO:-0400
TZNAME:EDT
DTSTART:20240310T070000
END:DAYLIGHT
BEGIN:STANDARD
TZOFFSETFROM:-0400
TZOFFSETTO:-0500
TZNAME:EST
DTSTART:20241103T060000
END:STANDARD
BEGIN:DAYLIGHT
TZOFFSETFROM:-0500
TZOFFSETTO:-0400
TZNAME:EDT
DTSTART:20250309T070000
END:DAYLIGHT
BEGIN:STANDARD
TZOFFSETFROM:-0400
TZOFFSETTO:-0500
TZNAME:EST
DTSTART:20251102T060000
END:STANDARD
BEGIN:DAYLIGHT
TZOFFSETFROM:-0500
TZOFFSETTO:-0400
TZNAME:EDT
DTSTART:20260308T070000
END:DAYLIGHT
BEGIN:STANDARD
TZOFFSETFROM:-0400
TZOFFSETTO:-0500
TZNAME:EST
DTSTART:20261101T060000
END:STANDARD
END:VTIMEZONE
BEGIN:VEVENT
DTSTART;TZID=America/Toronto:20250911T143000
DTEND;TZID=America/Toronto:20250911T150000
DTSTAMP:20260424T095925
CREATED:20250702T143313Z
LAST-MODIFIED:20250702T143313Z
UID:10003095-1757601000-1757602800@membership.ontariosoilcrop.org
SUMMARY:Canada's Outdoor Farm Show - Rotational Grazing Demo
DESCRIPTION:Join Tim Prior at Canada’s Outdoor Farm Show for a demonstration of the rotational grazing technologies Brussels Agri Services has to offer. \nDate(s): Sept 9. 10\, and 11 \nTime(s): 10 am and 2:30 pm Daily \nAttendees will need to purchase a ticket to Canada’s Outdoor Farm Show to attend this event. \nCanada’s Outdoor Farm Show – Rotational Grazing Demo is an OSCIA recognized Knowledge Sharing Event (KSE) for farmers with On-Farm Climate Action Fund (OFCAF) projects in the Rotational Grazing category.
URL:https://membership.ontariosoilcrop.org/event/canadas-outdoor-farm-show-rotational-grazing-demo-4/
LOCATION:Canada’s Outdoor Farm Show
CATEGORIES:ÉPC,KSE,Rotational Grazing Systems,Systèmes de rotation des pâturages
ORGANIZER;CN="Brussels Agri Services Ltd.":MAILTO:tim@brusselsagri.com
END:VEVENT
BEGIN:VEVENT
DTSTART;TZID=America/Toronto:20250911T110000
DTEND;TZID=America/Toronto:20250911T110000
DTSTAMP:20260424T095925
CREATED:20250908T134853Z
LAST-MODIFIED:20250908T134853Z
UID:10003144-1757588400-1757588400@membership.ontariosoilcrop.org
SUMMARY:Canada's Outdoor Farm Show - Cover Crops from the Sky
DESCRIPTION:Curious about drones on the farm? Come see how they’re changing the game. \nDrones offer the opportunity to seed into moist soils that could not otherwise be trafficked\, to capture an extra month or more of warm growing conditions in early fall\, and to leverage specialized custom operators during an otherwise busy period. We’ll explore the best crop staging for aerial seeding—complete with a look at early-season results\, and side-by-side comparisons with traditional seeding methods. Join us to see how smart tech can save time\, cut costs\, and boost results. Don’t miss it! \nDate(s): Sept 9. 10\, and 11 \nTime(s): 11 am Daily \nWhere? In front of OSCIA  tent (very end of 6th lane south) booth S-610 \nAttendees will need to purchase a ticket to Canada’s Outdoor Farm Show to attend this event. \nCanada’s Outdoor Farm Show – Cover Crops from the Sky is an OSCIA recognized Knowledge Sharing Event (KSE) for farmers with On-Farm Climate Action Fund (OFCAF) projects in the Cover Cropping category.
URL:https://membership.ontariosoilcrop.org/event/canadas-outdoor-farm-show-cover-crops-from-the-sky-3/
LOCATION:Canada’s Outdoor Farm Show
CATEGORIES:Cover Cropping,ÉPC,KSE,Recours aux cultures de couverturev
END:VEVENT
BEGIN:VEVENT
DTSTART;TZID=America/Toronto:20250911T100000
DTEND;TZID=America/Toronto:20250911T103000
DTSTAMP:20260424T095926
CREATED:20250702T143640Z
LAST-MODIFIED:20250702T143640Z
UID:10003097-1757584800-1757586600@membership.ontariosoilcrop.org
SUMMARY:Canada's Outdoor Farm Show - Rotational Grazing Demo
DESCRIPTION:Join Tim Prior at Canada’s Outdoor Farm Show for a demonstration of the rotational grazing technologies Brussels Agri Services has to offer. \nDate(s): Sept 9. 10\, and 11 \nTime(s): 10 am and 2:30 pm Daily \nAttendees will need to purchase a ticket to Canada’s Outdoor Farm Show to attend this event. \nCanada’s Outdoor Farm Show – Rotational Grazing Demo is an OSCIA recognized Knowledge Sharing Event (KSE) for farmers with On-Farm Climate Action Fund (OFCAF) projects in the Rotational Grazing category.
URL:https://membership.ontariosoilcrop.org/event/canadas-outdoor-farm-show-rotational-grazing-demo-6/
LOCATION:Canada’s Outdoor Farm Show
CATEGORIES:ÉPC,KSE,Rotational Grazing Systems,Systèmes de rotation des pâturages
ORGANIZER;CN="Brussels Agri Services Ltd.":MAILTO:tim@brusselsagri.com
END:VEVENT
BEGIN:VEVENT
DTSTART;TZID=America/Toronto:20250910T143000
DTEND;TZID=America/Toronto:20250910T150000
DTSTAMP:20260424T095926
CREATED:20250702T142859Z
LAST-MODIFIED:20250702T142859Z
UID:10003094-1757514600-1757516400@membership.ontariosoilcrop.org
SUMMARY:Canada's Outdoor Farm Show - Rotational Grazing Demo
DESCRIPTION:Join Tim Prior at Canada’s Outdoor Farm Show for a demonstration of the rotational grazing technologies Brussels Agri Services has to offer. \nDate(s): Sept 9. 10\, and 11 \nTime(s): 10 am and 2:30 pm Daily \nAttendees will need to purchase a ticket to Canada’s Outdoor Farm Show to attend this event. \nCanada’s Outdoor Farm Show – Rotational Grazing Demo is an OSCIA recognized Knowledge Sharing Event (KSE) for farmers with On-Farm Climate Action Fund (OFCAF) projects in the Rotational Grazing category.
URL:https://membership.ontariosoilcrop.org/event/canadas-outdoor-farm-show-rotational-grazing-demo-3/
LOCATION:Canada’s Outdoor Farm Show
CATEGORIES:ÉPC,KSE,Rotational Grazing Systems,Systèmes de rotation des pâturages
ORGANIZER;CN="Brussels Agri Services Ltd.":MAILTO:tim@brusselsagri.com
END:VEVENT
BEGIN:VEVENT
DTSTART;TZID=America/Toronto:20250910T110000
DTEND;TZID=America/Toronto:20250910T110000
DTSTAMP:20260424T095926
CREATED:20250908T134845Z
LAST-MODIFIED:20250908T134845Z
UID:10003143-1757502000-1757502000@membership.ontariosoilcrop.org
SUMMARY:Canada's Outdoor Farm Show - Cover Crops from the Sky
DESCRIPTION:Curious about drones on the farm? Come see how they’re changing the game. \nDrones offer the opportunity to seed into moist soils that could not otherwise be trafficked\, to capture an extra month or more of warm growing conditions in early fall\, and to leverage specialized custom operators during an otherwise busy period. We’ll explore the best crop staging for aerial seeding—complete with a look at early-season results\, and side-by-side comparisons with traditional seeding methods. Join us to see how smart tech can save time\, cut costs\, and boost results. Don’t miss it! \nDate(s): Sept 9. 10\, and 11 \nTime(s): 11 am Daily \nWhere? In front of OSCIA  tent (very end of 6th lane south) booth S-610 \nAttendees will need to purchase a ticket to Canada’s Outdoor Farm Show to attend this event. \nCanada’s Outdoor Farm Show – Cover Crops from the Sky is an OSCIA recognized Knowledge Sharing Event (KSE) for farmers with On-Farm Climate Action Fund (OFCAF) projects in the Cover Cropping category.
URL:https://membership.ontariosoilcrop.org/event/canadas-outdoor-farm-show-cover-crops-from-the-sky-2/
LOCATION:Canada’s Outdoor Farm Show
CATEGORIES:Cover Cropping,ÉPC,KSE,Recours aux cultures de couverturev
END:VEVENT
BEGIN:VEVENT
DTSTART;TZID=America/Toronto:20250910T100000
DTEND;TZID=America/Toronto:20250910T103000
DTSTAMP:20260424T095926
CREATED:20250702T143441Z
LAST-MODIFIED:20250702T143441Z
UID:10003096-1757498400-1757500200@membership.ontariosoilcrop.org
SUMMARY:Canada's Outdoor Farm Show - Rotational Grazing Demo
DESCRIPTION:Join Tim Prior at Canada’s Outdoor Farm Show for a demonstration of the rotational grazing technologies Brussels Agri Services has to offer. \nDate(s): Sept 9. 10\, and 11 \nTime(s): 10 am and 2:30 pm Daily \nAttendees will need to purchase a ticket to Canada’s Outdoor Farm Show to attend this event. \nCanada’s Outdoor Farm Show – Rotational Grazing Demo is an OSCIA recognized Knowledge Sharing Event (KSE) for farmers with On-Farm Climate Action Fund (OFCAF) projects in the Rotational Grazing category.
URL:https://membership.ontariosoilcrop.org/event/canadas-outdoor-farm-show-rotational-grazing-demo-5/
LOCATION:Canada’s Outdoor Farm Show
CATEGORIES:ÉPC,KSE,Rotational Grazing Systems,Systèmes de rotation des pâturages
ORGANIZER;CN="Brussels Agri Services Ltd.":MAILTO:tim@brusselsagri.com
END:VEVENT
BEGIN:VEVENT
DTSTART;TZID=America/Toronto:20250909T143000
DTEND;TZID=America/Toronto:20250909T150000
DTSTAMP:20260424T095926
CREATED:20250702T142809Z
LAST-MODIFIED:20250702T142809Z
UID:10003093-1757428200-1757430000@membership.ontariosoilcrop.org
SUMMARY:Canada's Outdoor Farm Show - Rotational Grazing Demo
DESCRIPTION:Join Tim Prior at Canada’s Outdoor Farm Show for a demonstration of the rotational grazing technologies Brussels Agri Services has to offer. \nDate(s): Sept 9. 10\, and 11 \nTime(s): 10 am and 2:30 pm Daily \nAttendees will need to purchase a ticket to Canada’s Outdoor Farm Show to attend this event. \nCanada’s Outdoor Farm Show – Rotational Grazing Demo is an OSCIA recognized Knowledge Sharing Event (KSE) for farmers with On-Farm Climate Action Fund (OFCAF) projects in the Rotational Grazing category.
URL:https://membership.ontariosoilcrop.org/event/canadas-outdoor-farm-show-rotational-grazing-demo-2/
LOCATION:Canada’s Outdoor Farm Show
CATEGORIES:ÉPC,KSE,Rotational Grazing Systems,Systèmes de rotation des pâturages
ORGANIZER;CN="Brussels Agri Services Ltd.":MAILTO:tim@brusselsagri.com
END:VEVENT
BEGIN:VEVENT
DTSTART;TZID=America/Toronto:20250909T100000
DTEND;TZID=America/Toronto:20250909T103000
DTSTAMP:20260424T095926
CREATED:20250908T134637Z
LAST-MODIFIED:20250908T134637Z
UID:10003142-1757412000-1757413800@membership.ontariosoilcrop.org
SUMMARY:Canada's Outdoor Farm Show - Cover Crops from the Sky
DESCRIPTION:Curious about drones on the farm? Come see how they’re changing the game. \nDrones offer the opportunity to seed into moist soils that could not otherwise be trafficked\, to capture an extra month or more of warm growing conditions in early fall\, and to leverage specialized custom operators during an otherwise busy period. We’ll explore the best crop staging for aerial seeding—complete with a look at early-season results\, and side-by-side comparisons with traditional seeding methods. Join us to see how smart tech can save time\, cut costs\, and boost results. Don’t miss it! \nDate(s): Sept 9. 10\, and 11 \nTime(s): 11 am Daily \nWhere? In front of OSCIA  tent (very end of 6th lane south) booth S-610 \nAttendees will need to purchase a ticket to Canada’s Outdoor Farm Show to attend this event. \nCanada’s Outdoor Farm Show – Cover Crops from the Sky is an OSCIA recognized Knowledge Sharing Event (KSE) for farmers with On-Farm Climate Action Fund (OFCAF) projects in the Cover Cropping category.
URL:https://membership.ontariosoilcrop.org/event/canadas-outdoor-farm-show-cover-crops-from-the-sky/
LOCATION:Canada’s Outdoor Farm Show
CATEGORIES:Cover Cropping,ÉPC,KSE,Recours aux cultures de couverturev
END:VEVENT
BEGIN:VEVENT
DTSTART;TZID=America/Toronto:20250909T100000
DTEND;TZID=America/Toronto:20250909T103000
DTSTAMP:20260424T095926
CREATED:20250702T135935Z
LAST-MODIFIED:20250702T135935Z
UID:10003092-1757412000-1757413800@membership.ontariosoilcrop.org
SUMMARY:Canada's Outdoor Farm Show - Rotational Grazing Demo
DESCRIPTION:Join Tim Prior at Canada’s Outdoor Farm Show for a demonstration of the rotational grazing technologies Brussels Agri Services has to offer. \nDate(s): Sept 9. 10\, and 11 \nTime(s): 10 am and 2:30 pm Daily \nAttendees will need to purchase a ticket to Canada’s Outdoor Farm Show to attend this event. \nCanada’s Outdoor Farm Show – Rotational Grazing Demo is an OSCIA recognized Knowledge Sharing Event (KSE) for farmers with On-Farm Climate Action Fund (OFCAF) projects in the Rotational Grazing category.
URL:https://membership.ontariosoilcrop.org/event/canadas-outdoor-farm-show-rotational-grazing-demo/
LOCATION:Canada’s Outdoor Farm Show
CATEGORIES:ÉPC,KSE,Rotational Grazing Systems,Systèmes de rotation des pâturages
ORGANIZER;CN="Brussels Agri Services Ltd.":MAILTO:tim@brusselsagri.com
END:VEVENT
BEGIN:VEVENT
DTSTART;TZID=America/Toronto:20240912T153000
DTEND;TZID=America/Toronto:20240912T160000
DTSTAMP:20260424T095926
CREATED:20240828T193237Z
LAST-MODIFIED:20240830T164938Z
UID:10002828-1726155000-1726156800@membership.ontariosoilcrop.org
SUMMARY:Rotational Grazing Tips\, Tools\, and Technologies
DESCRIPTION:Join Tim Prior & James Clarke at the Gallagher Animal Management Booth in Livestock Central at Canada’s Outdoor Farm Show for a demonstration of the rotational grazing technologies Brussels Agri Services has to offer. \nLearn more about: \n\nRotational Grazing\nTools of Grazing\neShepard Virtual Fence\nPasture Water System\n\nDate(s): Sept 10\, 11 and 12 \nTime(s): 11-11:30 am and 3:30-4pm Daily \nLocation: Gallagher Animal Management Booth- Livestock Central – Canada’s Outdoor Farm Show \nAttendees will need to purchase a ticket to Canada’s Outdoor Farm Show to attend this event. \nRotational Grazing Tips\, Tools and Technologies is an OSCIA recognized Knowledge Sharing Event (KSE) for farmers with On-Farm Climate Action Fund (OFCAF) projects in the Rotational Grazing category.
URL:https://membership.ontariosoilcrop.org/event/rotational-grazing-tips-tools-and-technologies/2024-09-12/2/
LOCATION:Canada’s Outdoor Farm Show
CATEGORIES:KSE,Rotational Grazing Systems
ORGANIZER;CN="Brussels Agri Services Ltd.":MAILTO:tim@brusselsagri.com
END:VEVENT
BEGIN:VEVENT
DTSTART;TZID=America/Toronto:20240912T110000
DTEND;TZID=America/Toronto:20240912T113000
DTSTAMP:20260424T095926
CREATED:20240828T193237Z
LAST-MODIFIED:20240830T164938Z
UID:10002827-1726138800-1726140600@membership.ontariosoilcrop.org
SUMMARY:Rotational Grazing Tips\, Tools\, and Technologies
DESCRIPTION:Join Tim Prior & James Clarke at the Gallagher Animal Management Booth in Livestock Central at Canada’s Outdoor Farm Show for a demonstration of the rotational grazing technologies Brussels Agri Services has to offer. \nLearn more about: \n\nRotational Grazing\nTools of Grazing\neShepard Virtual Fence\nPasture Water System\n\nDate(s): Sept 10\, 11 and 12 \nTime(s): 11-11:30 am and 3:30-4pm Daily \nLocation: Gallagher Animal Management Booth- Livestock Central – Canada’s Outdoor Farm Show \nAttendees will need to purchase a ticket to Canada’s Outdoor Farm Show to attend this event. \nRotational Grazing Tips\, Tools and Technologies is an OSCIA recognized Knowledge Sharing Event (KSE) for farmers with On-Farm Climate Action Fund (OFCAF) projects in the Rotational Grazing category.
URL:https://membership.ontariosoilcrop.org/event/rotational-grazing-tips-tools-and-technologies/2024-09-12/1/
LOCATION:Canada’s Outdoor Farm Show
CATEGORIES:KSE,Rotational Grazing Systems
ORGANIZER;CN="Brussels Agri Services Ltd.":MAILTO:tim@brusselsagri.com
END:VEVENT
BEGIN:VEVENT
DTSTART;TZID=America/Toronto:20240911T153000
DTEND;TZID=America/Toronto:20240911T160000
DTSTAMP:20260424T095926
CREATED:20240828T193237Z
LAST-MODIFIED:20240830T164938Z
UID:10002826-1726068600-1726070400@membership.ontariosoilcrop.org
SUMMARY:Rotational Grazing Tips\, Tools\, and Technologies
DESCRIPTION:Join Tim Prior & James Clarke at the Gallagher Animal Management Booth in Livestock Central at Canada’s Outdoor Farm Show for a demonstration of the rotational grazing technologies Brussels Agri Services has to offer. \nLearn more about: \n\nRotational Grazing\nTools of Grazing\neShepard Virtual Fence\nPasture Water System\n\nDate(s): Sept 10\, 11 and 12 \nTime(s): 11-11:30 am and 3:30-4pm Daily \nLocation: Gallagher Animal Management Booth- Livestock Central – Canada’s Outdoor Farm Show \nAttendees will need to purchase a ticket to Canada’s Outdoor Farm Show to attend this event. \nRotational Grazing Tips\, Tools and Technologies is an OSCIA recognized Knowledge Sharing Event (KSE) for farmers with On-Farm Climate Action Fund (OFCAF) projects in the Rotational Grazing category.
URL:https://membership.ontariosoilcrop.org/event/rotational-grazing-tips-tools-and-technologies/2024-09-11/2/
LOCATION:Canada’s Outdoor Farm Show
CATEGORIES:KSE,Rotational Grazing Systems
ORGANIZER;CN="Brussels Agri Services Ltd.":MAILTO:tim@brusselsagri.com
END:VEVENT
BEGIN:VEVENT
DTSTART;TZID=America/Toronto:20240911T110000
DTEND;TZID=America/Toronto:20240911T113000
DTSTAMP:20260424T095926
CREATED:20240828T193237Z
LAST-MODIFIED:20240830T164938Z
UID:10002825-1726052400-1726054200@membership.ontariosoilcrop.org
SUMMARY:Rotational Grazing Tips\, Tools\, and Technologies
DESCRIPTION:Join Tim Prior & James Clarke at the Gallagher Animal Management Booth in Livestock Central at Canada’s Outdoor Farm Show for a demonstration of the rotational grazing technologies Brussels Agri Services has to offer. \nLearn more about: \n\nRotational Grazing\nTools of Grazing\neShepard Virtual Fence\nPasture Water System\n\nDate(s): Sept 10\, 11 and 12 \nTime(s): 11-11:30 am and 3:30-4pm Daily \nLocation: Gallagher Animal Management Booth- Livestock Central – Canada’s Outdoor Farm Show \nAttendees will need to purchase a ticket to Canada’s Outdoor Farm Show to attend this event. \nRotational Grazing Tips\, Tools and Technologies is an OSCIA recognized Knowledge Sharing Event (KSE) for farmers with On-Farm Climate Action Fund (OFCAF) projects in the Rotational Grazing category.
URL:https://membership.ontariosoilcrop.org/event/rotational-grazing-tips-tools-and-technologies/2024-09-11/1/
LOCATION:Canada’s Outdoor Farm Show
CATEGORIES:KSE,Rotational Grazing Systems
ORGANIZER;CN="Brussels Agri Services Ltd.":MAILTO:tim@brusselsagri.com
END:VEVENT
BEGIN:VEVENT
DTSTART;TZID=America/Toronto:20240910T153000
DTEND;TZID=America/Toronto:20240910T160000
DTSTAMP:20260424T095926
CREATED:20240828T193237Z
LAST-MODIFIED:20240830T164938Z
UID:10002824-1725982200-1725984000@membership.ontariosoilcrop.org
SUMMARY:Rotational Grazing Tips\, Tools\, and Technologies
DESCRIPTION:Join Tim Prior & James Clarke at the Gallagher Animal Management Booth in Livestock Central at Canada’s Outdoor Farm Show for a demonstration of the rotational grazing technologies Brussels Agri Services has to offer. \nLearn more about: \n\nRotational Grazing\nTools of Grazing\neShepard Virtual Fence\nPasture Water System\n\nDate(s): Sept 10\, 11 and 12 \nTime(s): 11-11:30 am and 3:30-4pm Daily \nLocation: Gallagher Animal Management Booth- Livestock Central – Canada’s Outdoor Farm Show \nAttendees will need to purchase a ticket to Canada’s Outdoor Farm Show to attend this event. \nRotational Grazing Tips\, Tools and Technologies is an OSCIA recognized Knowledge Sharing Event (KSE) for farmers with On-Farm Climate Action Fund (OFCAF) projects in the Rotational Grazing category.
URL:https://membership.ontariosoilcrop.org/event/rotational-grazing-tips-tools-and-technologies/2024-09-10/2/
LOCATION:Canada’s Outdoor Farm Show
CATEGORIES:KSE,Rotational Grazing Systems
ORGANIZER;CN="Brussels Agri Services Ltd.":MAILTO:tim@brusselsagri.com
END:VEVENT
BEGIN:VEVENT
DTSTART;TZID=America/Toronto:20240910T110000
DTEND;TZID=America/Toronto:20240910T113000
DTSTAMP:20260424T095926
CREATED:20240828T193237Z
LAST-MODIFIED:20240830T164938Z
UID:10002823-1725966000-1725967800@membership.ontariosoilcrop.org
SUMMARY:Rotational Grazing Tips\, Tools\, and Technologies
DESCRIPTION:Join Tim Prior & James Clarke at the Gallagher Animal Management Booth in Livestock Central at Canada’s Outdoor Farm Show for a demonstration of the rotational grazing technologies Brussels Agri Services has to offer. \nLearn more about: \n\nRotational Grazing\nTools of Grazing\neShepard Virtual Fence\nPasture Water System\n\nDate(s): Sept 10\, 11 and 12 \nTime(s): 11-11:30 am and 3:30-4pm Daily \nLocation: Gallagher Animal Management Booth- Livestock Central – Canada’s Outdoor Farm Show \nAttendees will need to purchase a ticket to Canada’s Outdoor Farm Show to attend this event. \nRotational Grazing Tips\, Tools and Technologies is an OSCIA recognized Knowledge Sharing Event (KSE) for farmers with On-Farm Climate Action Fund (OFCAF) projects in the Rotational Grazing category.
URL:https://membership.ontariosoilcrop.org/event/rotational-grazing-tips-tools-and-technologies/2024-09-10/1/
LOCATION:Canada’s Outdoor Farm Show
CATEGORIES:KSE,Rotational Grazing Systems
ORGANIZER;CN="Brussels Agri Services Ltd.":MAILTO:tim@brusselsagri.com
END:VEVENT
BEGIN:VEVENT
DTSTART;TZID=America/Toronto:20230914T153000
DTEND;TZID=America/Toronto:20230914T160000
DTSTAMP:20260424T095926
CREATED:20230811T124948Z
LAST-MODIFIED:20230912T150059Z
UID:10001406-1694705400-1694707200@membership.ontariosoilcrop.org
SUMMARY:Rotational Grazing Demo at Canada's Outdoor Farm Show
DESCRIPTION:Gallagher Animal Management\, along with Brussels Agri Services Ltd. will be hosting a Rotational Grazing Demo at the Outdoor Farm Show. \n\nRuns daily at 11:00 a.m. and 3:30 p.m.\nLocated behind the Gallagher booth at the corner of North Mall and 8th Lane (see exhibitor map)\n\n 
URL:https://membership.ontariosoilcrop.org/event/rotational-grazing-demo-at-canadas-outdoor-farm-show-2/2023-09-14/
LOCATION:Canada’s Outdoor Farm Show
CATEGORIES:KSE,Rotational Grazing Systems
ORGANIZER;CN="Brussels Agri Services Ltd.":MAILTO:tim@brusselsagri.com
END:VEVENT
BEGIN:VEVENT
DTSTART;TZID=America/Toronto:20230913T153000
DTEND;TZID=America/Toronto:20230913T160000
DTSTAMP:20260424T095926
CREATED:20230811T124948Z
LAST-MODIFIED:20230912T150059Z
UID:10001405-1694619000-1694620800@membership.ontariosoilcrop.org
SUMMARY:Rotational Grazing Demo at Canada's Outdoor Farm Show
DESCRIPTION:Gallagher Animal Management\, along with Brussels Agri Services Ltd. will be hosting a Rotational Grazing Demo at the Outdoor Farm Show. \n\nRuns daily at 11:00 a.m. and 3:30 p.m.\nLocated behind the Gallagher booth at the corner of North Mall and 8th Lane (see exhibitor map)\n\n 
URL:https://membership.ontariosoilcrop.org/event/rotational-grazing-demo-at-canadas-outdoor-farm-show-2/2023-09-13/
LOCATION:Canada’s Outdoor Farm Show
CATEGORIES:KSE,Rotational Grazing Systems
ORGANIZER;CN="Brussels Agri Services Ltd.":MAILTO:tim@brusselsagri.com
END:VEVENT
BEGIN:VEVENT
DTSTART;TZID=America/Toronto:20230913T110000
DTEND;TZID=America/Toronto:20230913T113000
DTSTAMP:20260424T095926
CREATED:20230811T124659Z
LAST-MODIFIED:20230912T145727Z
UID:10001402-1694602800-1694604600@membership.ontariosoilcrop.org
SUMMARY:Rotational Grazing Demo at Canada's Outdoor Farm Show
DESCRIPTION:Gallagher Animal Management\, along with Brussels Agri Services Ltd. will be hosting a Rotational Grazing Demo at the Outdoor Farm Show. \n\nRuns daily at 11:00 a.m. and 3:30 p.m.\nLocated behind the Gallagher booth at the corner of North Mall and 8th Lane (see exhibitor map)\n\n 
URL:https://membership.ontariosoilcrop.org/event/rotational-grazing-demo-at-canadas-outdoor-farm-show/2023-09-13/
LOCATION:Canada’s Outdoor Farm Show
CATEGORIES:KSE,Rotational Grazing Systems
ORGANIZER;CN="Brussels Agri Services Ltd.":MAILTO:tim@brusselsagri.com
END:VEVENT
BEGIN:VEVENT
DTSTART;TZID=America/Toronto:20230912T153000
DTEND;TZID=America/Toronto:20230912T160000
DTSTAMP:20260424T095926
CREATED:20230811T124948Z
LAST-MODIFIED:20230912T150059Z
UID:10001404-1694532600-1694534400@membership.ontariosoilcrop.org
SUMMARY:Rotational Grazing Demo at Canada's Outdoor Farm Show
DESCRIPTION:Gallagher Animal Management\, along with Brussels Agri Services Ltd. will be hosting a Rotational Grazing Demo at the Outdoor Farm Show. \n\nRuns daily at 11:00 a.m. and 3:30 p.m.\nLocated behind the Gallagher booth at the corner of North Mall and 8th Lane (see exhibitor map)\n\n 
URL:https://membership.ontariosoilcrop.org/event/rotational-grazing-demo-at-canadas-outdoor-farm-show-2/2023-09-12/
LOCATION:Canada’s Outdoor Farm Show
CATEGORIES:KSE,Rotational Grazing Systems
ORGANIZER;CN="Brussels Agri Services Ltd.":MAILTO:tim@brusselsagri.com
END:VEVENT
BEGIN:VEVENT
DTSTART;TZID=America/Toronto:20230912T110000
DTEND;TZID=America/Toronto:20230912T113000
DTSTAMP:20260424T095926
CREATED:20230811T124659Z
LAST-MODIFIED:20230912T145727Z
UID:10001401-1694516400-1694518200@membership.ontariosoilcrop.org
SUMMARY:Rotational Grazing Demo at Canada's Outdoor Farm Show
DESCRIPTION:Gallagher Animal Management\, along with Brussels Agri Services Ltd. will be hosting a Rotational Grazing Demo at the Outdoor Farm Show. \n\nRuns daily at 11:00 a.m. and 3:30 p.m.\nLocated behind the Gallagher booth at the corner of North Mall and 8th Lane (see exhibitor map)\n\n 
URL:https://membership.ontariosoilcrop.org/event/rotational-grazing-demo-at-canadas-outdoor-farm-show/2023-09-12/
LOCATION:Canada’s Outdoor Farm Show
CATEGORIES:KSE,Rotational Grazing Systems
ORGANIZER;CN="Brussels Agri Services Ltd.":MAILTO:tim@brusselsagri.com
END:VEVENT
BEGIN:VEVENT
DTSTART;TZID=America/Toronto:20230911T190000
DTEND;TZID=America/Toronto:20230911T220000
DTSTAMP:20260424T095926
CREATED:20230909T104454Z
LAST-MODIFIED:20230909T104454Z
UID:10001555-1694458800-1694469600@membership.ontariosoilcrop.org
SUMMARY:Oxford SCIA Fall Producer Update
DESCRIPTION:Featuring: \n\nTyler Durst – RBC Marketing Outlook\nProducer Panel – Double Cropping Trials and Tribulations\nPeter Johnson – RealAgriculture Bantering and Bragging\n\nIn the Special Events Tent north of the pond near the main gate. Please park in the lot north of the main gate on Oxford Road 17. Refreshments Provided\, Everyone Welcome!
URL:https://membership.ontariosoilcrop.org/event/oxford-scia-fall-producer-update/
LOCATION:Canada’s Outdoor Farm Show
CATEGORIES:Thames Valley
END:VEVENT
END:VCALENDAR