BEGIN:VCALENDAR
VERSION:2.0
PRODID:-//OSCIA - ECPv6.15.17.1//NONSGML v1.0//EN
CALSCALE:GREGORIAN
METHOD:PUBLISH
X-WR-CALNAME:OSCIA
X-ORIGINAL-URL:https://membership.ontariosoilcrop.org
X-WR-CALDESC:Events for OSCIA
REFRESH-INTERVAL;VALUE=DURATION:PT1H
X-Robots-Tag:noindex
X-PUBLISHED-TTL:PT1H
BEGIN:VTIMEZONE
TZID:America/Toronto
BEGIN:DAYLIGHT
TZOFFSETFROM:-0500
TZOFFSETTO:-0400
TZNAME:EDT
DTSTART:20220313T070000
END:DAYLIGHT
BEGIN:STANDARD
TZOFFSETFROM:-0400
TZOFFSETTO:-0500
TZNAME:EST
DTSTART:20221106T060000
END:STANDARD
BEGIN:DAYLIGHT
TZOFFSETFROM:-0500
TZOFFSETTO:-0400
TZNAME:EDT
DTSTART:20230312T070000
END:DAYLIGHT
BEGIN:STANDARD
TZOFFSETFROM:-0400
TZOFFSETTO:-0500
TZNAME:EST
DTSTART:20231105T060000
END:STANDARD
BEGIN:DAYLIGHT
TZOFFSETFROM:-0500
TZOFFSETTO:-0400
TZNAME:EDT
DTSTART:20240310T070000
END:DAYLIGHT
BEGIN:STANDARD
TZOFFSETFROM:-0400
TZOFFSETTO:-0500
TZNAME:EST
DTSTART:20241103T060000
END:STANDARD
BEGIN:DAYLIGHT
TZOFFSETFROM:-0500
TZOFFSETTO:-0400
TZNAME:EDT
DTSTART:20250309T070000
END:DAYLIGHT
BEGIN:STANDARD
TZOFFSETFROM:-0400
TZOFFSETTO:-0500
TZNAME:EST
DTSTART:20251102T060000
END:STANDARD
END:VTIMEZONE
BEGIN:VEVENT
DTSTART;TZID=America/Toronto:20240711T100000
DTEND;TZID=America/Toronto:20240711T120000
DTSTAMP:20260420T130758
CREATED:20240617T202028Z
LAST-MODIFIED:20240626T160021Z
UID:10002793-1720692000-1720699200@membership.ontariosoilcrop.org
SUMMARY:On-Farm Research Meet Up (Niagara)
DESCRIPTION:Join OSCIA and Larry Dyck at Campden Grain to talk all things on-farm research\, nitrogen efficiency\, cover cropping and soil health! \nFor years\, Larry Dyck and his family have been experimenting with practices like no-till\, cover cropping and planting green to make their clay soils more manageable and resilient. Larry’s search for knowledge has contributed to his decision to participate in applied research programs like ONFARM and Living Lab – Ontario. \nLearn more about the on-farm research underway at Larry’s farm\, including: \nONFARM \nThe On-Farm Applied Research and Monitoring (ONFARM) program is a nine-year applied research initiative that supports soil health and water quality research on farms across Ontario. Hear from researchers at the Soil Resource Group about Larry’s ONFARM trial comparing different cover crop mixes (including a biostrip treatment) to increase organic matter and improve soil structure. \nLiving Lab – Ontario \nThe Living Lab – Ontario (LL-ON) is a five-year innovation project that brings together farmers\, organizations\, researchers\, and other experts to co-develop\, test\, and evaluate beneficial management practices (BMPs) that address climate change challenges in livestock and cropping systems. Hear from Craig Drury\, Agriculture and Agri-Food Canada\, who is working with farmers\, including Larry\, to trial various 4R strategies to enhance nitrogen use efficiency in corn. \nGreenbelt Foundation Soil Health Program \nThe Greenbelt Foundation will also be joining to discuss their Free Soil Health Program which aims to develop an interpretable\, scalable\, locally relevant method for evaluating and monitoring soil health. Enjoy a soil health demonstration and learn how farmers in York\, Durham\, and Niagara regions may be eligible for a free soil health report. \nRegistration is required. Visit https://www.eventbrite.com/e/on-farm-research-meet-up-tickets-927263238307?aff=oddtdtcreator \nFor more information\, please contact onfarm@ontariosoilcrop.org. \n 
URL:https://membership.ontariosoilcrop.org/event/on-farm-research-meet-up-niagara/
LOCATION:Campden Grain\, Campden\, Ontario\, Canada
CATEGORIES:Cover Cropping,Golden Horseshoe,KSE,Niagara,Nitrogen Management
END:VEVENT
BEGIN:VEVENT
DTSTART;TZID=America/Toronto:20230815T120000
DTEND;TZID=America/Toronto:20230815T130000
DTSTAMP:20260420T130758
CREATED:20230803T195129Z
LAST-MODIFIED:20230803T195129Z
UID:10001515-1692100800-1692104400@membership.ontariosoilcrop.org
SUMMARY:Ontario Soil Roadtrip - Greenbelt Region
DESCRIPTION:From August 14 – 19th\, the Ontario Soil Network will be making its way across the province with many great stops along the way. \nThe Ontario Soil Roadtrip is a multi-day cross-provincial farm tour featuring amazing producers and multiple stops throughout each day. It’s a chance to learn about different soil health practices\,  see them in action across different soil types\, and network! It’s a choose-your-own-adventure style. You can join for just one stop or all stops; the choice is yours! Coffee/water and snacks are provided at each stop. \nAugust 15 – Greenbelt Region \n\nGordon Alblas: No-tilling Corn and Soil Structure – Branchton\, ON\, N0B1L0\nLarry Dyck: Soil Biologicals and Planting Green – Campden\, ON (This stop is an OFCAF Cover Cropping KSE)\n\nNo registration is required. Please note: For washrooms/food(lunch)\, please make your own stops as needed! \nCheck here for all details/locations of each stop: 2023 Ontario Soil Roadtrip – Ontario Soil Network. Contact the Ontario Soil Network at admin@ontariosoil.net or follow them for updates.
URL:https://membership.ontariosoilcrop.org/event/ontario-soil-roadtrip-greenbelt-region/
LOCATION:Campden Grain\, Campden\, Ontario\, Canada
CATEGORIES:Cover Cropping,KSE
END:VEVENT
END:VCALENDAR