BEGIN:VCALENDAR
VERSION:2.0
PRODID:-//OSCIA - ECPv6.15.17.1//NONSGML v1.0//EN
CALSCALE:GREGORIAN
METHOD:PUBLISH
X-WR-CALNAME:OSCIA
X-ORIGINAL-URL:https://membership.ontariosoilcrop.org
X-WR-CALDESC:Events for OSCIA
REFRESH-INTERVAL;VALUE=DURATION:PT1H
X-Robots-Tag:noindex
X-PUBLISHED-TTL:PT1H
BEGIN:VTIMEZONE
TZID:America/Toronto
BEGIN:DAYLIGHT
TZOFFSETFROM:-0500
TZOFFSETTO:-0400
TZNAME:EDT
DTSTART:20240310T070000
END:DAYLIGHT
BEGIN:STANDARD
TZOFFSETFROM:-0400
TZOFFSETTO:-0500
TZNAME:EST
DTSTART:20241103T060000
END:STANDARD
BEGIN:DAYLIGHT
TZOFFSETFROM:-0500
TZOFFSETTO:-0400
TZNAME:EDT
DTSTART:20250309T070000
END:DAYLIGHT
BEGIN:STANDARD
TZOFFSETFROM:-0400
TZOFFSETTO:-0500
TZNAME:EST
DTSTART:20251102T060000
END:STANDARD
BEGIN:DAYLIGHT
TZOFFSETFROM:-0500
TZOFFSETTO:-0400
TZNAME:EDT
DTSTART:20260308T070000
END:DAYLIGHT
BEGIN:STANDARD
TZOFFSETFROM:-0400
TZOFFSETTO:-0500
TZNAME:EST
DTSTART:20261101T060000
END:STANDARD
END:VTIMEZONE
BEGIN:VEVENT
DTSTART;TZID=America/Toronto:20250118T100000
DTEND;TZID=America/Toronto:20250118T130000
DTSTAMP:20260420T083056
CREATED:20250115T211801Z
LAST-MODIFIED:20250115T211801Z
UID:10002920-1737194400-1737205200@membership.ontariosoilcrop.org
SUMMARY:Lanark County Beef Farmers AGM
DESCRIPTION:Join Lanark County Beef Farmers AGM to learn from James Byrne\, the Beef Specialist from OMAFA on Rotational Grazing. \nWhen? January 18\, 2025 \n Time?  10 am to 1 pm \nWhere? 2202 Beckwith Park Lane\, Beckwith ON K7C3P2 \nRegistration: Contact Laurie Latham at lcbeeffarmers@gmail.com or call 613-485-0403. \nLanark County Beef Farmers AGM is an OSCIA recognized Knowledge Sharing Event (KSE) for farmers with On-Farm Climate Action Fund (OFCAF) projects in the Rotational Grazing category.
URL:https://membership.ontariosoilcrop.org/event/lanark-county-beef-farmers-agm/
LOCATION:Brunton Community Hall\, 2202 Beckwith Park Lane\, Beckwith\, ON\, K7C 3P2\, Canada
CATEGORIES:ÉPC,KSE,Rotational Grazing Systems,Systèmes de rotation des pâturages
END:VEVENT
END:VCALENDAR