BEGIN:VCALENDAR
VERSION:2.0
PRODID:-//OSCIA - ECPv6.15.17.1//NONSGML v1.0//EN
CALSCALE:GREGORIAN
METHOD:PUBLISH
X-ORIGINAL-URL:https://membership.ontariosoilcrop.org
X-WR-CALDESC:Events for OSCIA
REFRESH-INTERVAL;VALUE=DURATION:PT1H
X-Robots-Tag:noindex
X-PUBLISHED-TTL:PT1H
BEGIN:VTIMEZONE
TZID:America/Toronto
BEGIN:DAYLIGHT
TZOFFSETFROM:-0500
TZOFFSETTO:-0400
TZNAME:EDT
DTSTART:20240310T070000
END:DAYLIGHT
BEGIN:STANDARD
TZOFFSETFROM:-0400
TZOFFSETTO:-0500
TZNAME:EST
DTSTART:20241103T060000
END:STANDARD
BEGIN:DAYLIGHT
TZOFFSETFROM:-0500
TZOFFSETTO:-0400
TZNAME:EDT
DTSTART:20250309T070000
END:DAYLIGHT
BEGIN:STANDARD
TZOFFSETFROM:-0400
TZOFFSETTO:-0500
TZNAME:EST
DTSTART:20251102T060000
END:STANDARD
BEGIN:DAYLIGHT
TZOFFSETFROM:-0500
TZOFFSETTO:-0400
TZNAME:EDT
DTSTART:20260308T070000
END:DAYLIGHT
BEGIN:STANDARD
TZOFFSETFROM:-0400
TZOFFSETTO:-0500
TZNAME:EST
DTSTART:20261101T060000
END:STANDARD
END:VTIMEZONE
BEGIN:VEVENT
DTSTART;TZID=America/Toronto:20250625T100000
DTEND;TZID=America/Toronto:20250625T120000
DTSTAMP:20260424T033241
CREATED:20250520T130236Z
LAST-MODIFIED:20250603T183409Z
UID:10003051-1750845600-1750852800@membership.ontariosoilcrop.org
SUMMARY:Rotational Grazing with Black Sheep Farm
DESCRIPTION:Black Sheep Farm is an organic farm\, raising sheep on pasture for lamb meat\, fibre\, and tanned lambskins. \nOwners Brenda and Skyler (and their daughter Emma) run this agroecological farm\, prioritizing soil health\, biodiversity\, and social justice. The sheep are grazed on pasture using intensive managed grazing\, to maximize the positive soil carbon capture benefits of ruminants\, while producing food and fibre from something humans can’t eat\, grass. \nJoin us for a morning farm tour and field walk at Black Sheep Farm\, where participants will have an up close look at rotational grazing in action and a chance to have a conversation about lessons learned. \n\n\n\n\n\n\n\n\n\n\nWhen? Wednesday June 25 @ 10:00 am – 12:00 pm \n\n\n\n\n\n\n\n\n\n\nWhere? Black Sheep Farm\, Chesley\, ON \nCost? Members $10  Non-Members $15 \nREGISTER HERE \nRotational Grazing with Black Sheep Farm is an OSCIA-recognized Knowledge Sharing Event (KSE) for farmers with On-Farm Climate Action Fund (OFCAF) projects in the Rotational Grazing category. 
URL:https://membership.ontariosoilcrop.org/event/soil-connections-at-springfield-farm-2/
LOCATION:Black Sheep Farm\, 115415 Grey Road 3\, Chesley\, ON\, N0G 1L0\, Canada
CATEGORIES:ÉPC,KSE,Rotational Grazing Systems,Systèmes de rotation des pâturages
ORGANIZER;CN="Ecological Farmers Association of Ontario (EFAO)":MAILTO:info@efao.ca
END:VEVENT
END:VCALENDAR