BEGIN:VCALENDAR
VERSION:2.0
PRODID:-//OSCIA - ECPv6.15.17.1//NONSGML v1.0//EN
CALSCALE:GREGORIAN
METHOD:PUBLISH
X-ORIGINAL-URL:https://membership.ontariosoilcrop.org
X-WR-CALDESC:Events for OSCIA
REFRESH-INTERVAL;VALUE=DURATION:PT1H
X-Robots-Tag:noindex
X-PUBLISHED-TTL:PT1H
BEGIN:VTIMEZONE
TZID:America/Toronto
BEGIN:DAYLIGHT
TZOFFSETFROM:-0500
TZOFFSETTO:-0400
TZNAME:EDT
DTSTART:20230312T070000
END:DAYLIGHT
BEGIN:STANDARD
TZOFFSETFROM:-0400
TZOFFSETTO:-0500
TZNAME:EST
DTSTART:20231105T060000
END:STANDARD
BEGIN:DAYLIGHT
TZOFFSETFROM:-0500
TZOFFSETTO:-0400
TZNAME:EDT
DTSTART:20240310T070000
END:DAYLIGHT
BEGIN:STANDARD
TZOFFSETFROM:-0400
TZOFFSETTO:-0500
TZNAME:EST
DTSTART:20241103T060000
END:STANDARD
BEGIN:DAYLIGHT
TZOFFSETFROM:-0500
TZOFFSETTO:-0400
TZNAME:EDT
DTSTART:20250309T070000
END:DAYLIGHT
BEGIN:STANDARD
TZOFFSETFROM:-0400
TZOFFSETTO:-0500
TZNAME:EST
DTSTART:20251102T060000
END:STANDARD
END:VTIMEZONE
BEGIN:VEVENT
DTSTART;TZID=America/Toronto:20240829T150000
DTEND;TZID=America/Toronto:20240829T170000
DTSTAMP:20260420T091816
CREATED:20240725T150149Z
LAST-MODIFIED:20240731T183153Z
UID:10002812-1724943600-1724950800@membership.ontariosoilcrop.org
SUMMARY:Hog Manure & Mineralizing Nitrogen for Corn with Ron Martin
DESCRIPTION:Take a field tour with Ron Martin to look at his corn after winter wheat with cover crops (oat peas crimson clover and tillage radish) which was planted after wheat and worked down before winter. Ron also has plots with varying levels of applied hog manure (5000gpa hog manure and 3000gpa hog manure) and side dress 24-0-0 nitrogen applied at 6 leaves which is compared against a zero-fertility plot to measure difference between cover crop fertility as opposed to applied fertility. \nFor more information: \nHog Manure and Mineralizing Nitrogen for Corn with Ron Martin – Ontario Soil Network \nHog Manure & Mineralizing Nitrogen for Corn with Ron Martin is an OSCIA-recognized Knowledge Sharing Event (KSE) for farmers with On-Farm Climate Action Fund (OFCAF) projects in the Cover Cropping and Nitrogen Management categories.
URL:https://membership.ontariosoilcrop.org/event/hog-manure-mineralizing-nitrogen-for-corn-with-ron-martin/
LOCATION:7771 6 Line Drayton\, ON\, N0G 1P0\, 7771 6 Line\, Drayton\, Ontario\, N0G1P0\, Canada
CATEGORIES:Cover Cropping,KSE,Nitrogen Management
END:VEVENT
END:VCALENDAR