BEGIN:VCALENDAR
VERSION:2.0
PRODID:-//OSCIA - ECPv6.15.17.1//NONSGML v1.0//EN
CALSCALE:GREGORIAN
METHOD:PUBLISH
X-ORIGINAL-URL:https://membership.ontariosoilcrop.org
X-WR-CALDESC:Events for OSCIA
REFRESH-INTERVAL;VALUE=DURATION:PT1H
X-Robots-Tag:noindex
X-PUBLISHED-TTL:PT1H
BEGIN:VTIMEZONE
TZID:America/Toronto
BEGIN:DAYLIGHT
TZOFFSETFROM:-0500
TZOFFSETTO:-0400
TZNAME:EDT
DTSTART:20240310T070000
END:DAYLIGHT
BEGIN:STANDARD
TZOFFSETFROM:-0400
TZOFFSETTO:-0500
TZNAME:EST
DTSTART:20241103T060000
END:STANDARD
BEGIN:DAYLIGHT
TZOFFSETFROM:-0500
TZOFFSETTO:-0400
TZNAME:EDT
DTSTART:20250309T070000
END:DAYLIGHT
BEGIN:STANDARD
TZOFFSETFROM:-0400
TZOFFSETTO:-0500
TZNAME:EST
DTSTART:20251102T060000
END:STANDARD
BEGIN:DAYLIGHT
TZOFFSETFROM:-0500
TZOFFSETTO:-0400
TZNAME:EDT
DTSTART:20260308T070000
END:DAYLIGHT
BEGIN:STANDARD
TZOFFSETFROM:-0400
TZOFFSETTO:-0500
TZNAME:EST
DTSTART:20261101T060000
END:STANDARD
END:VTIMEZONE
BEGIN:VEVENT
DTSTART;TZID=America/Toronto:20250825T120000
DTEND;TZID=America/Toronto:20250825T170000
DTSTAMP:20260422T202519
CREATED:20250725T195833Z
LAST-MODIFIED:20250820T153838Z
UID:10003122-1756123200-1756141200@membership.ontariosoilcrop.org
SUMMARY:Ontario Soil Network Road Trip Day 3 - Huron County
DESCRIPTION:Join the OSN and Ben Van Dieten with Maitland Valley Conservation Authority for a tour of Alan Willits’s operation. Alan will share what he is working on focusing on planting black beans into green cereal rye with strip till\, as well as his trial of using Calcium Nitrate to increase Brix of his black beans and soyabeans. Ben will share more information on local funding opportunities. Join the OSN and Ben Van Dieten with Maitland Valley Conservation for a tour of Harrison Burgsma’s operation. Harrison will share his work with no-till as well as the farms water management structures. Harrison Burgsma is a third generation farmer who runs a cash crop\, hog and broiler operation near Dungannon. \nWhen? Monday August 25 @ 12:00pm – 5:00 pm \nWhere? 42489 Salem Rd Wingham ON N0G 2W0 \nREGISTER NOW \nOntario Soil Network Road Trip Day 3 is an OSCIA-recognized Knowledge Sharing Event (KSE) for farmers with On-Farm Climate Action Fund (OFCAF) projects in the Cover Cropping category. 
URL:https://membership.ontariosoilcrop.org/event/ontario-soil-network-road-trip-day-3-huron-county/
LOCATION:42489 Salem Rd Wingham ON N0G 2W0\, 42489 Salem Rd\, Wingham\, ON\, N0G 2W0\, Canada
CATEGORIES:Cover Cropping,ÉPC,KSE,Recours aux cultures de couverturev
END:VEVENT
END:VCALENDAR