BEGIN:VCALENDAR
VERSION:2.0
PRODID:-//OSCIA - ECPv6.15.17.1//NONSGML v1.0//EN
CALSCALE:GREGORIAN
METHOD:PUBLISH
X-ORIGINAL-URL:https://membership.ontariosoilcrop.org
X-WR-CALDESC:Events for OSCIA
REFRESH-INTERVAL;VALUE=DURATION:PT1H
X-Robots-Tag:noindex
X-PUBLISHED-TTL:PT1H
BEGIN:VTIMEZONE
TZID:America/Toronto
BEGIN:DAYLIGHT
TZOFFSETFROM:-0500
TZOFFSETTO:-0400
TZNAME:EDT
DTSTART:20240310T070000
END:DAYLIGHT
BEGIN:STANDARD
TZOFFSETFROM:-0400
TZOFFSETTO:-0500
TZNAME:EST
DTSTART:20241103T060000
END:STANDARD
BEGIN:DAYLIGHT
TZOFFSETFROM:-0500
TZOFFSETTO:-0400
TZNAME:EDT
DTSTART:20250309T070000
END:DAYLIGHT
BEGIN:STANDARD
TZOFFSETFROM:-0400
TZOFFSETTO:-0500
TZNAME:EST
DTSTART:20251102T060000
END:STANDARD
BEGIN:DAYLIGHT
TZOFFSETFROM:-0500
TZOFFSETTO:-0400
TZNAME:EDT
DTSTART:20260308T070000
END:DAYLIGHT
BEGIN:STANDARD
TZOFFSETFROM:-0400
TZOFFSETTO:-0500
TZNAME:EST
DTSTART:20261101T060000
END:STANDARD
END:VTIMEZONE
BEGIN:VEVENT
DTSTART;TZID=America/Toronto:20250820T090000
DTEND;TZID=America/Toronto:20250820T110000
DTSTAMP:20260420T104255
CREATED:20250725T142619Z
LAST-MODIFIED:20250725T142946Z
UID:10003121-1755680400-1755687600@membership.ontariosoilcrop.org
SUMMARY:Ontario Soil Network Road Trip Day 2- Ottawa Region
DESCRIPTION:Arjan and his partner Chelsea have a small farm in Cumberland\, ON where they grow cash crops and have a herd of beef cows. Join the OSN and Arjan Leeuwerke for a tour of his field and learn about his rotational grazing work as well as his use of a12-way forage mix. \n  \nWhen? Wednesday August 20 @ 9:00 am – 11:00 am \nWhere? 3846 Wilhaven Drive\, Cumberland\, ON \nREGISTER NOW \nOntario Soil Network Road Trip Day 2 is an OSCIA-recognized Knowledge Sharing Event (KSE) for farmers with On-Farm Climate Action Fund (OFCAF) projects in the Rotational Grazing category. 
URL:https://membership.ontariosoilcrop.org/event/ontario-soil-network-road-trip-day-2-ottawa-region/
LOCATION:3846 Wilhaven Drive\, Cumberland\, ON\, 3846 Wilhaven Drive\, Cumberland\, ON\, Canada
CATEGORIES:ÉPC,KSE,Rotational Grazing Systems,Systèmes de rotation des pâturages
END:VEVENT
END:VCALENDAR