BEGIN:VCALENDAR
VERSION:2.0
PRODID:-//OSCIA - ECPv6.15.17.1//NONSGML v1.0//EN
CALSCALE:GREGORIAN
METHOD:PUBLISH
X-WR-CALNAME:OSCIA
X-ORIGINAL-URL:https://membership.ontariosoilcrop.org
X-WR-CALDESC:Events for OSCIA
REFRESH-INTERVAL;VALUE=DURATION:PT1H
X-Robots-Tag:noindex
X-PUBLISHED-TTL:PT1H
BEGIN:VTIMEZONE
TZID:America/Toronto
BEGIN:DAYLIGHT
TZOFFSETFROM:-0500
TZOFFSETTO:-0400
TZNAME:EDT
DTSTART:20240310T070000
END:DAYLIGHT
BEGIN:STANDARD
TZOFFSETFROM:-0400
TZOFFSETTO:-0500
TZNAME:EST
DTSTART:20241103T060000
END:STANDARD
BEGIN:DAYLIGHT
TZOFFSETFROM:-0500
TZOFFSETTO:-0400
TZNAME:EDT
DTSTART:20250309T070000
END:DAYLIGHT
BEGIN:STANDARD
TZOFFSETFROM:-0400
TZOFFSETTO:-0500
TZNAME:EST
DTSTART:20251102T060000
END:STANDARD
BEGIN:DAYLIGHT
TZOFFSETFROM:-0500
TZOFFSETTO:-0400
TZNAME:EDT
DTSTART:20260308T070000
END:DAYLIGHT
BEGIN:STANDARD
TZOFFSETFROM:-0400
TZOFFSETTO:-0500
TZNAME:EST
DTSTART:20261101T060000
END:STANDARD
END:VTIMEZONE
BEGIN:VEVENT
DTSTART;TZID=America/Toronto:20250826T090000
DTEND;TZID=America/Toronto:20250826T150000
DTSTAMP:20260424T222007
CREATED:20250729T200129Z
LAST-MODIFIED:20250729T200129Z
UID:10003120-1756198800-1756220400@membership.ontariosoilcrop.org
SUMMARY:Ontario Soil Network Road Trip Day 4 - Middlesex County
DESCRIPTION:STOP 1: \nIn 2021\, the UTRCA established a 58 acre demonstration farm near Thorndale\, Ontario. The farm is used to research and demonstrate a number of agricultural best management practices (BMPs)\, including cover cropping\, and showcase how they can improve and protect soil health and water quality while maintaining productivity in the southern Ontario landscape. The farm exhibits a suite of BMPs\, offering multiple opportunities to reduce nutrient and sediment loss at the field scale. \nThe highlight feature of the farm is the contoured controlled drainage system which utilizes a series of Agri-Drain control structures to manage sub-surface drainage across 14 acres of the field\, which can be compared to the conventional tile system covering the remainder of the farm. \nSTOP 2: \nDanny Jefferies is the Agronomy Lead at Honeyland Ag Services\, he oversee a diverse range of agronomic and research-focused initiatives to support customer success and drive innovation in nutrient management. Join Danny for an informal tour looking at tillage treatment & some sulfur treatments in soybeans at the field level and around the lab. Honeyland Ag Services is an agricultural lab located in Southwestern Ontario that provides agricultural decision making services through strong partnerships and innovation. They are focused on providing cutting edge analysis so you can better manage your agricultural inputs. \n  \nWhen? Tuesday August 26 @ 9:00 am – 3:00 pm \nWhere? 16364 Thorndale Road Thorndale\, ON N0M 2P0; 3918 W Corner Dr\, Ailsa Craig\, ON N0M 1A0 \nREGISTER NOW \nOntario Soil Network Road Trip Day 4 is an OSCIA-recognized Knowledge Sharing Event (KSE) for farmers with On-Farm Climate Action Fund (OFCAF) projects in the Nitrogen Management and Cover Cropping category. 
URL:https://membership.ontariosoilcrop.org/event/ontario-soil-network-road-trip-day-4-middlesex-county/
LOCATION:16364 Thorndale Road\, 16364 Thorndale Road\, Thorndale\, ON\, N0M 2P0\, Canada
CATEGORIES:Cover Cropping,ÉPC,Gestion de l’azote,KSE,Nitrogen Management,Recours aux cultures de couverturev
END:VEVENT
END:VCALENDAR