BEGIN:VCALENDAR
VERSION:2.0
PRODID:-//OSCIA - ECPv6.15.17.1//NONSGML v1.0//EN
CALSCALE:GREGORIAN
METHOD:PUBLISH
X-ORIGINAL-URL:https://membership.ontariosoilcrop.org
X-WR-CALDESC:Events for OSCIA
REFRESH-INTERVAL;VALUE=DURATION:PT1H
X-Robots-Tag:noindex
X-PUBLISHED-TTL:PT1H
BEGIN:VTIMEZONE
TZID:America/Toronto
BEGIN:DAYLIGHT
TZOFFSETFROM:-0500
TZOFFSETTO:-0400
TZNAME:EDT
DTSTART:20240310T070000
END:DAYLIGHT
BEGIN:STANDARD
TZOFFSETFROM:-0400
TZOFFSETTO:-0500
TZNAME:EST
DTSTART:20241103T060000
END:STANDARD
BEGIN:DAYLIGHT
TZOFFSETFROM:-0500
TZOFFSETTO:-0400
TZNAME:EDT
DTSTART:20250309T070000
END:DAYLIGHT
BEGIN:STANDARD
TZOFFSETFROM:-0400
TZOFFSETTO:-0500
TZNAME:EST
DTSTART:20251102T060000
END:STANDARD
BEGIN:DAYLIGHT
TZOFFSETFROM:-0500
TZOFFSETTO:-0400
TZNAME:EDT
DTSTART:20260308T070000
END:DAYLIGHT
BEGIN:STANDARD
TZOFFSETFROM:-0400
TZOFFSETTO:-0500
TZNAME:EST
DTSTART:20261101T060000
END:STANDARD
END:VTIMEZONE
BEGIN:VEVENT
DTSTART;TZID=America/Toronto:20250827T090000
DTEND;TZID=America/Toronto:20250827T130000
DTSTAMP:20260423T052639
CREATED:20250725T200842Z
LAST-MODIFIED:20250820T192321Z
UID:10003123-1756285200-1756299600@membership.ontariosoilcrop.org
SUMMARY:Ontario Soil Network Road Trip Day 5 - Essex County
DESCRIPTION:Join Henry Denotter\, Patrick Handyside (Senior Water Management Engineer\, AAFC) and Owen Ricker (Farmer Engagement and Research Liaison\, OSCIA) to discuss Henry’s Living Labs Ontario site and the research being collected around BMP use and water quality. The Living Lab project focuses on on-farm innovation to address climate change through farmer/researcher co-development. We’ll continue the conversation with Essex Region Conservation Authority discussing the use of cover crops\, looking at equipment\, and connecting with local farmers. Learn about ERCA program opportunities and chat with other farmers. Bring your questions and curiosity! \nWhen? Wednesday August 27 @ 9:00 am – 1:00 pm \nWhere? 1240 Rd 3 West\, Kingsville\, ON \nREGISTER NOW \nOntario Soil Network Road Trip Day 3 is an OSCIA-recognized Knowledge Sharing Event (KSE) for farmers with On-Farm Climate Action Fund (OFCAF) projects in the Cover Cropping and Nitrogen Management category. 
URL:https://membership.ontariosoilcrop.org/event/ontario-soil-network-road-trip-day-5-essex-county/
LOCATION:1240 Rd 3 West\, Kingsville\, ON\, 1240 Rd 3 West\, Kingsville\, ON\, Canada
CATEGORIES:Cover Cropping,ÉPC,Gestion de l’azote,KSE,Nitrogen Management,Recours aux cultures de couverturev
END:VEVENT
END:VCALENDAR