BEGIN:VCALENDAR
VERSION:2.0
PRODID:-//OSCIA - ECPv6.15.17.1//NONSGML v1.0//EN
CALSCALE:GREGORIAN
METHOD:PUBLISH
X-ORIGINAL-URL:https://membership.ontariosoilcrop.org
X-WR-CALDESC:Events for OSCIA
REFRESH-INTERVAL;VALUE=DURATION:PT1H
X-Robots-Tag:noindex
X-PUBLISHED-TTL:PT1H
BEGIN:VTIMEZONE
TZID:America/Toronto
BEGIN:DAYLIGHT
TZOFFSETFROM:-0500
TZOFFSETTO:-0400
TZNAME:EDT
DTSTART:20230312T070000
END:DAYLIGHT
BEGIN:STANDARD
TZOFFSETFROM:-0400
TZOFFSETTO:-0500
TZNAME:EST
DTSTART:20231105T060000
END:STANDARD
BEGIN:DAYLIGHT
TZOFFSETFROM:-0500
TZOFFSETTO:-0400
TZNAME:EDT
DTSTART:20240310T070000
END:DAYLIGHT
BEGIN:STANDARD
TZOFFSETFROM:-0400
TZOFFSETTO:-0500
TZNAME:EST
DTSTART:20241103T060000
END:STANDARD
BEGIN:DAYLIGHT
TZOFFSETFROM:-0500
TZOFFSETTO:-0400
TZNAME:EDT
DTSTART:20250309T070000
END:DAYLIGHT
BEGIN:STANDARD
TZOFFSETFROM:-0400
TZOFFSETTO:-0500
TZNAME:EST
DTSTART:20251102T060000
END:STANDARD
BEGIN:DAYLIGHT
TZOFFSETFROM:-0500
TZOFFSETTO:-0400
TZNAME:EDT
DTSTART:20260308T070000
END:DAYLIGHT
BEGIN:STANDARD
TZOFFSETFROM:-0400
TZOFFSETTO:-0500
TZNAME:EST
DTSTART:20261101T060000
END:STANDARD
END:VTIMEZONE
BEGIN:VEVENT
DTSTART;TZID=America/Toronto:20250129T100000
DTEND;TZID=America/Toronto:20250129T143000
DTSTAMP:20260420T111517
CREATED:20250127T134145Z
LAST-MODIFIED:20250127T134145Z
UID:10002922-1738144800-1738161000@membership.ontariosoilcrop.org
SUMMARY:Victoria SCIA AGM
DESCRIPTION:Wednesday\, January 29\, 2025\, Fenelon Township Community Centre\, Cambray \n$45 membership and lunch; lunch only $25.00 \n  \n9:30 a.m.  Registration opens; Coffee sponsored by Midnight Acres \n10 a.m.     President Remarks\, Peter Peeters \n10:05 a.m. OSCIA program updates\, Robin Brown \n  \n10:30 a.m. Secretary/Treasurer Report\,  Adam Bent \n10:50 a.m.  Kawartha Lakes Ag. Development Updates\, Adam Shea \n11:10 a.m.  Ontario Association Updates\, Brady Jones \n11:25 a.m.  Update on Yield Challenge project\, Adam Bent \n  \n12:00 p.m. Lunch by Diana’s Country Cooking and Catering \n1 p.m.       Speaker–Paul Sullivan \n1:30 p.m.  Question and answer for speaker \n1:45 p.m.  Voting for New Directors \n2:00 p.m.  Adjournment
URL:https://membership.ontariosoilcrop.org/event/victoria-scia-agm-3/
CATEGORIES:AGM
END:VEVENT
BEGIN:VEVENT
DTSTART;TZID=America/Toronto:20240715T180000
DTEND;TZID=America/Toronto:20240715T210000
DTSTAMP:20260420T111517
CREATED:20240620T153536Z
LAST-MODIFIED:20240710T153451Z
UID:10002795-1721066400-1721077200@membership.ontariosoilcrop.org
SUMMARY:Victoria SCIA Tour
DESCRIPTION:Join Victoria SCIA for a tour on July 15th. The tour will start at Alliance Agri-Turf Fertilizer at Lindsay at 6:00 pm. It will then head to Sunderland Co-op Fertilizer at Oakwood at 7 pm. The last stop will be at Graeme Little’s\, 290 Eldon Rd (enter off Ranch Rd) at 7:45 pm to see a collection of Case tractors and memorabilia. \nFor more information\, please contact: \nAdam Bent (Local Secretary) at 705-328-1185 or bentipac@hotmail.com \nNote: This event is an OSCIA-recognized Knowledge Sharing Event (KSE) for farmers with On-Farm Climate Action Fund (OFCAF) projects in the Nitrogen Management category.
URL:https://membership.ontariosoilcrop.org/event/victoria-scia-tour/
CATEGORIES:KSE,Local Event,Nitrogen Management,Victoria
END:VEVENT
END:VCALENDAR