BEGIN:VCALENDAR
VERSION:2.0
PRODID:-//OSCIA - ECPv6.15.17.1//NONSGML v1.0//EN
CALSCALE:GREGORIAN
METHOD:PUBLISH
X-ORIGINAL-URL:https://membership.ontariosoilcrop.org
X-WR-CALDESC:Events for OSCIA
REFRESH-INTERVAL;VALUE=DURATION:PT1H
X-Robots-Tag:noindex
X-PUBLISHED-TTL:PT1H
BEGIN:VTIMEZONE
TZID:America/Toronto
BEGIN:DAYLIGHT
TZOFFSETFROM:-0500
TZOFFSETTO:-0400
TZNAME:EDT
DTSTART:20220313T070000
END:DAYLIGHT
BEGIN:STANDARD
TZOFFSETFROM:-0400
TZOFFSETTO:-0500
TZNAME:EST
DTSTART:20221106T060000
END:STANDARD
BEGIN:DAYLIGHT
TZOFFSETFROM:-0500
TZOFFSETTO:-0400
TZNAME:EDT
DTSTART:20230312T070000
END:DAYLIGHT
BEGIN:STANDARD
TZOFFSETFROM:-0400
TZOFFSETTO:-0500
TZNAME:EST
DTSTART:20231105T060000
END:STANDARD
BEGIN:DAYLIGHT
TZOFFSETFROM:-0500
TZOFFSETTO:-0400
TZNAME:EDT
DTSTART:20240310T070000
END:DAYLIGHT
BEGIN:STANDARD
TZOFFSETFROM:-0400
TZOFFSETTO:-0500
TZNAME:EST
DTSTART:20241103T060000
END:STANDARD
BEGIN:DAYLIGHT
TZOFFSETFROM:-0500
TZOFFSETTO:-0400
TZNAME:EDT
DTSTART:20250309T070000
END:DAYLIGHT
BEGIN:STANDARD
TZOFFSETFROM:-0400
TZOFFSETTO:-0500
TZNAME:EST
DTSTART:20251102T060000
END:STANDARD
END:VTIMEZONE
BEGIN:VEVENT
DTSTART;TZID=America/Toronto:20240606T173000
DTEND;TZID=America/Toronto:20240606T203000
DTSTAMP:20260422T200043
CREATED:20240530T200015Z
LAST-MODIFIED:20240530T200015Z
UID:10002788-1717695000-1717705800@membership.ontariosoilcrop.org
SUMMARY:Sunderland Co-op Pasture Walk 2024
DESCRIPTION:Join Sunderland Co-op for the 2024 Pasture Walk\, held Thursday\, June 6th at Heritage Cattle Company 3333 Hwy 7\, Norwood) from 5:30pm to 8:30pm. \nThe event will begin with a BBQ Fundraiser Supper put on by Peterborough 4-H before taking an in-depth look at industry-leading rotational grazing systems\, techniques & equipment. \nStations Include:\n1. Pasture Mineral (Wallenstein Feed)\n2. Ask the Vet (Peterborough Vet Services & Merck Animal Health)\n3. Rotational Fencing Utilizing Reels (Tim Campbell & Kent Fraser)\n4. Soil Sampling (Dale Bolton) \nREGISTRATION:\n$20/person – non-refundable\nAll ticket proceeds will be donated to Peterborough 4-H \nCALL 705-745-4607 FOR TICKETS!
URL:https://membership.ontariosoilcrop.org/event/sunderland-co-op-pasture-walk-2024/
LOCATION:Heritage Cattle Company\, 3333 Hwy 7\, Norwood\, Ontario\, Canada
CATEGORIES:KSE,Rotational Grazing Systems
ATTACH;FMTTYPE=image/jpeg:https://membership.ontariosoilcrop.org/wp-content/uploads/2024/05/440770448_987167836745856_7230159555579260193_n.jpg
ORGANIZER;CN="Sunderland Cooperative":MAILTO:ptbo@sunderlandco-op.on.ca
END:VEVENT
BEGIN:VEVENT
DTSTART;TZID=America/Toronto:20230830T100000
DTEND;TZID=America/Toronto:20230830T130000
DTSTAMP:20260422T200043
CREATED:20230616T154535Z
LAST-MODIFIED:20230616T154614Z
UID:10001456-1693389600-1693400400@membership.ontariosoilcrop.org
SUMMARY:Sunderland Co-op Agronomy Day
DESCRIPTION:Join Sunderland Co-op in Oakwood for their annual Agronomy Day on August 30th. \nHear from Don McLean\, Strategic Agronomy Manager\, Growmark on Nitrogen Management\, including 4R principals\, as well as cover cropping options and management. \nTo register or for more info\, contact Ryan Feasby at rfeasby@sunderlandco-op.on.ca
URL:https://membership.ontariosoilcrop.org/event/sunderland-co-op-agronomy-day/
LOCATION:Sunderland Oakwood\, 381 Taylors Rd\, Oakwood\, Ontario\, K0M 2M0\, Canada
CATEGORIES:Cover Cropping,KSE,Nitrogen Management
ORGANIZER;CN="Sunderland Cooperative":MAILTO:ptbo@sunderlandco-op.on.ca
END:VEVENT
END:VCALENDAR