BEGIN:VCALENDAR
VERSION:2.0
PRODID:-//OSCIA - ECPv6.15.17.1//NONSGML v1.0//EN
CALSCALE:GREGORIAN
METHOD:PUBLISH
X-ORIGINAL-URL:https://membership.ontariosoilcrop.org
X-WR-CALDESC:Events for OSCIA
REFRESH-INTERVAL;VALUE=DURATION:PT1H
X-Robots-Tag:noindex
X-PUBLISHED-TTL:PT1H
BEGIN:VTIMEZONE
TZID:America/Toronto
BEGIN:DAYLIGHT
TZOFFSETFROM:-0500
TZOFFSETTO:-0400
TZNAME:EDT
DTSTART:20240310T070000
END:DAYLIGHT
BEGIN:STANDARD
TZOFFSETFROM:-0400
TZOFFSETTO:-0500
TZNAME:EST
DTSTART:20241103T060000
END:STANDARD
BEGIN:DAYLIGHT
TZOFFSETFROM:-0500
TZOFFSETTO:-0400
TZNAME:EDT
DTSTART:20250309T070000
END:DAYLIGHT
BEGIN:STANDARD
TZOFFSETFROM:-0400
TZOFFSETTO:-0500
TZNAME:EST
DTSTART:20251102T060000
END:STANDARD
BEGIN:DAYLIGHT
TZOFFSETFROM:-0500
TZOFFSETTO:-0400
TZNAME:EDT
DTSTART:20260308T070000
END:DAYLIGHT
BEGIN:STANDARD
TZOFFSETFROM:-0400
TZOFFSETTO:-0500
TZNAME:EST
DTSTART:20261101T060000
END:STANDARD
END:VTIMEZONE
BEGIN:VEVENT
DTSTART;TZID=America/Toronto:20250807T093000
DTEND;TZID=America/Toronto:20250807T153000
DTSTAMP:20260420T123242
CREATED:20250526T134014Z
LAST-MODIFIED:20250802T133956Z
UID:10003065-1754559000-1754580600@membership.ontariosoilcrop.org
SUMMARY:St. Clair Region SCIA – Compaction Day
DESCRIPTION:Join the St. Clair Region Soil and Crop Improvement Association  for their Compaction Day!  \nThis event\, hosted by Essex\, Chatham-Kent and Lambton Soil & Crop Associations will replace the usual summer twilight tours and events. \nLearn how your equipment and its configuration can impact and manage compaction. Other sessions include soil pit on what compaction does to plants\, productivity\, water infiltration; cover crop types and benefits; tire troubles – how to get the most life out of your tires and what happens when things go wrong! \nDemos will be provided to show potential for compaction. The event features guest speakers and the Ontario Compaction Team. There will  Cover Cropping topics discussed during the event. \nLunch by Burns of Dresden. Sponsorship tent – meet your suppliers! \n\n\n\n\n\n\n\n\n\n\nWhen? Thursday\, August 7 @ 9:30 AM – 3:30 pm \n\n\n\n\n\n\n\n\n\n\nWhere? Jackson Seed Services\, Rutherford Elevator \nParking? Babula Curtis Auctioneering Services\, 584 Oil Heritage Rd\, Dresden \nCost? $40 OSCIA members\, $60 non-members\, $90 at the door registration \nIf needing to renew your S&C membership to take advantage of the $20 discount: https://osciaportal.org/Identity/Account/Login \nREGISTER HERE \nSt. Clair Region SCIA – Compaction Day is an OSCIA-recognized Knowledge Sharing Event (KSE) for farmers with On-Farm Climate Action Fund (OFCAF) projects in the Cover Cropping category.
URL:https://membership.ontariosoilcrop.org/event/soil-connections-at-springfield-farm-3/
LOCATION:520 Dawn Mills Road\, 520 Dawn Mills Road\, Dresden\, Ontario\, N0P 1M0\, Canada
CATEGORIES:Cover Cropping,ÉPC,Event,Georgian Central,Info Sessions,KSE,Programs,Provincial,Recours aux cultures de couverturev,Regional Event,St. Clair
END:VEVENT
END:VCALENDAR