BEGIN:VCALENDAR
VERSION:2.0
PRODID:-//OSCIA - ECPv6.15.17.1//NONSGML v1.0//EN
CALSCALE:GREGORIAN
METHOD:PUBLISH
X-WR-CALNAME:OSCIA
X-ORIGINAL-URL:https://membership.ontariosoilcrop.org
X-WR-CALDESC:Events for OSCIA
REFRESH-INTERVAL;VALUE=DURATION:PT1H
X-Robots-Tag:noindex
X-PUBLISHED-TTL:PT1H
BEGIN:VTIMEZONE
TZID:America/Toronto
BEGIN:DAYLIGHT
TZOFFSETFROM:-0500
TZOFFSETTO:-0400
TZNAME:EDT
DTSTART:20230312T070000
END:DAYLIGHT
BEGIN:STANDARD
TZOFFSETFROM:-0400
TZOFFSETTO:-0500
TZNAME:EST
DTSTART:20231105T060000
END:STANDARD
BEGIN:DAYLIGHT
TZOFFSETFROM:-0500
TZOFFSETTO:-0400
TZNAME:EDT
DTSTART:20240310T070000
END:DAYLIGHT
BEGIN:STANDARD
TZOFFSETFROM:-0400
TZOFFSETTO:-0500
TZNAME:EST
DTSTART:20241103T060000
END:STANDARD
BEGIN:DAYLIGHT
TZOFFSETFROM:-0500
TZOFFSETTO:-0400
TZNAME:EDT
DTSTART:20250309T070000
END:DAYLIGHT
BEGIN:STANDARD
TZOFFSETFROM:-0400
TZOFFSETTO:-0500
TZNAME:EST
DTSTART:20251102T060000
END:STANDARD
BEGIN:DAYLIGHT
TZOFFSETFROM:-0500
TZOFFSETTO:-0400
TZNAME:EDT
DTSTART:20260308T070000
END:DAYLIGHT
BEGIN:STANDARD
TZOFFSETFROM:-0400
TZOFFSETTO:-0500
TZNAME:EST
DTSTART:20261101T060000
END:STANDARD
BEGIN:DAYLIGHT
TZOFFSETFROM:-0500
TZOFFSETTO:-0400
TZNAME:EDT
DTSTART:20270314T070000
END:DAYLIGHT
BEGIN:STANDARD
TZOFFSETFROM:-0400
TZOFFSETTO:-0500
TZNAME:EST
DTSTART:20271107T060000
END:STANDARD
END:VTIMEZONE
BEGIN:VEVENT
DTSTART;TZID=America/Toronto:20260227T100000
DTEND;TZID=America/Toronto:20260227T143000
DTSTAMP:20260422T193325
CREATED:20260225T151007Z
LAST-MODIFIED:20260225T151007Z
UID:10003288-1772186400-1772202600@membership.ontariosoilcrop.org
SUMMARY:Innovative Agriculture Conference
DESCRIPTION:Innovative Agriculture Conference: \nExploring innovative agricultural technology and practices to bring to your 2026 season \nTOPICS: \nVariable rate applications\neShepherd cattle fencing\nMulti species cover crops\nManure injection\nAutoweigher\nAgrobotics\nDrone scouting\nSoilOptix \nStrathroy Lions Club\nStrathroy\, ON\n432 Albert St.\nFebruary 27\, 2026\n10 AM-2:30 PM \n  \nInnovative Agriculture Poster \n*this event is recognized as OSCIA OFCAF KSE under BMP category Nitrogen Management and Rotational Grazing 
URL:https://membership.ontariosoilcrop.org/event/innovative-agriculture-conference/
LOCATION:Strathroy Lions Club\, 432 Albert St.\, Strathroy\, Ontario
CATEGORIES:KSE,Nitrogen Management,Rotational Grazing Systems
END:VEVENT
BEGIN:VEVENT
DTSTART;TZID=America/Toronto:20260212T080000
DTEND;TZID=America/Toronto:20260212T170000
DTSTAMP:20260422T193325
CREATED:20260114T164632Z
LAST-MODIFIED:20260119T193916Z
UID:10003245-1770883200-1770915600@membership.ontariosoilcrop.org
SUMMARY:SCRCA’s Soil Health Conference - Phosphorus: The Balancing Act
DESCRIPTION:The SCRCA’s soil health conference returns in-person for the first time since 2020 with Phosphorus: The Balancing Act\, where farmers\, researchers\, and agronomists will provide tips\, tools\, and knowledge for building soil health that can be incorporated into their own farming systems. \nThe Agenda is jam-packed from 8 am-5 pm of informative presentations\, time for networking and catching up\, and meeting new farmers\, researchers\, and ag-industry professionals! Guest speakers include Dale Cowan (Agris Co-op)\, Lori Phillips (AAFC)\, Aaron Breimer (CCA\, Moose-Ag)\, and a panel discussion with Ontario Soil Network Farmers\, among many others! \nWhen? February 12\, 2026 @ 8 am – 5 pm \nWhere? John Bradley Convention Centre\, 565 Richmond St\, Chatham\, ON \nDetails: $25/person\, light breakfast\, refreshments\, and lunch provided! \nREGISTER HERE \nSCRCA’s Soil Health Conference – Phosphorus: The Balancing Act is an OSCIA-recognized Knowledge Sharing Event (KSE) for farmers with On-Farm Climate Action Fund (OFCAF) projects in the Cover Cropping and Nitrogen Management category.  \n 
URL:https://membership.ontariosoilcrop.org/event/scrcas-soil-health-conference-phosphorus-the-balancing-act/
LOCATION:John Bradley Convention Centre\, 565 Richmond Street\, Chatham\, ON\, Canada
CATEGORIES:Association,Chatham-Kent,Cover Cropping,ÉPC,Gestion de l’azote,KSE,Nitrogen Management,Recours aux cultures de couverturev,St. Clair
GEO:42.3904147;-82.201412
X-APPLE-STRUCTURED-LOCATION;VALUE=URI;X-ADDRESS=John Bradley Convention Centre 565 Richmond Street Chatham ON Canada;X-APPLE-RADIUS=500;X-TITLE=565 Richmond Street:geo:-82.201412,42.3904147
END:VEVENT
BEGIN:VEVENT
DTSTART;TZID=America/Toronto:20241204T130000
DTEND;TZID=America/Toronto:20241204T150000
DTSTAMP:20260422T193325
CREATED:20241018T175053Z
LAST-MODIFIED:20241018T175319Z
UID:10002852-1733317200-1733324400@membership.ontariosoilcrop.org
SUMMARY:Soil Resiliency Workshop
DESCRIPTION:Attention Farmers and Agricultural Extension Professionals: Join St. Clair Region Conservation Authority to hear from experts in soil erosion and cover crops! Refreshments provided. \nSt. Clair Region Conservation Authority to hear from experts in soil erosion and cover crops! Speakers will highlight factors contributing to soil erosion\, the importance of reducing soil erosion in terms of farm and ecosystem health\, and how soil erosion can be mitigated through various best management practices (BMPs). Refreshments provided.\nWhen? December 4\, 1-3 PM \nWhere? Warwick Community Centre (7074 Egremont Rd\, Warwick\, ON) \nRegister here! \nThe Soil Resiliency Workshop is an OSCIA-recognized Knowledge Sharing Event (KSE) for farmers with On-Farm Climate Action Fund (OFCAF) projects in the Cover Cropping category.
URL:https://membership.ontariosoilcrop.org/event/soil-resiliency-workshop/
LOCATION:Warwick Community Centre\, 7074 Egremont Road\, Watford\, Ontario\, Canada
CATEGORIES:Cover Cropping,KSE
END:VEVENT
BEGIN:VEVENT
DTSTART;TZID=America/Toronto:20241106T100000
DTEND;TZID=America/Toronto:20241106T120000
DTSTAMP:20260422T193325
CREATED:20241018T174034Z
LAST-MODIFIED:20241031T165155Z
UID:10002851-1730887200-1730894400@membership.ontariosoilcrop.org
SUMMARY:McKeough Demo Day
DESCRIPTION:Attention Farmers and Agricultural Extension Professionals! St. Clair Region Conservation Authority (SCRCA) is hosting a workshop at two of our properties to tour different soil erosion control structures\, discuss drone seeding possibilities\, on-farm grant opportunities\, soil samples\, and more! \nThere will be several guest speakers\, including speakers from SCRCA\, Drone Canada\, and A & L Labs. There will be some walking during this event (upwards of about 2km). Lunch is included! Please register below so we have an idea of the numbers for lunch.\nWhen? November 6th\, 10:00 a.m. – 12:00 p.m. \nWhere? 1327 Wilkesport Line \nRegister here! \nThe McKeough Demo Day  is an OSCIA-recognized Knowledge Sharing Event (KSE) for farmers with On-Farm Climate Action Fund (OFCAF) projects in the Cover Cropping category.
URL:https://membership.ontariosoilcrop.org/event/mckeough-demo-day/
LOCATION:1327 Wilkesport Line\, 1327 Wilkesport Line\, Wilkesport\, ON\, Canada
CATEGORIES:Cover Cropping,KSE
END:VEVENT
BEGIN:VEVENT
DTSTART;TZID=America/Toronto:20240313T100000
DTEND;TZID=America/Toronto:20240313T123000
DTSTAMP:20260422T193325
CREATED:20240221T143721Z
LAST-MODIFIED:20240221T144721Z
UID:10001690-1710324000-1710333000@membership.ontariosoilcrop.org
SUMMARY:AgriSuite & Soil Analysis Workshop
DESCRIPTION:Join the St. Clair Region Conservation Authorities and OMAFRA staff for this free\, hands-on AgriSuite Workshop on March 13. \nAt this workshop\, you will learn about the new AgriSuite tools available\, how to use them\, how to prepare a custom Field Management Plan\, and how to interpret your soil sample results. \nFor the hands-on portion\, please bring: \n\nA laptop/tablet (recommended) or smartphone to access AgriSuite online\nA set of information for a field of interest (for example: soil tests\, crop and yield history\, records of manure/organic amendments and fertilizer applied – note that this information is not collected\, it is for your own use)\n\nA complimentary lunch to follow. \nTo register\, visit https://www.scrca.on.ca/events/agrisuite-2024/.
URL:https://membership.ontariosoilcrop.org/event/agrisuite-workshop/
LOCATION:Warwick Community Centre\, 7074 Egremont Road\, Watford\, Ontario\, Canada
CATEGORIES:KSE,Nitrogen Management
END:VEVENT
END:VCALENDAR