BEGIN:VCALENDAR
VERSION:2.0
PRODID:-//OSCIA - ECPv6.15.17.1//NONSGML v1.0//EN
CALSCALE:GREGORIAN
METHOD:PUBLISH
X-ORIGINAL-URL:https://membership.ontariosoilcrop.org
X-WR-CALDESC:Events for OSCIA
REFRESH-INTERVAL;VALUE=DURATION:PT1H
X-Robots-Tag:noindex
X-PUBLISHED-TTL:PT1H
BEGIN:VTIMEZONE
TZID:America/Toronto
BEGIN:DAYLIGHT
TZOFFSETFROM:-0500
TZOFFSETTO:-0400
TZNAME:EDT
DTSTART:20250309T070000
END:DAYLIGHT
BEGIN:STANDARD
TZOFFSETFROM:-0400
TZOFFSETTO:-0500
TZNAME:EST
DTSTART:20251102T060000
END:STANDARD
BEGIN:DAYLIGHT
TZOFFSETFROM:-0500
TZOFFSETTO:-0400
TZNAME:EDT
DTSTART:20260308T070000
END:DAYLIGHT
BEGIN:STANDARD
TZOFFSETFROM:-0400
TZOFFSETTO:-0500
TZNAME:EST
DTSTART:20261101T060000
END:STANDARD
BEGIN:DAYLIGHT
TZOFFSETFROM:-0500
TZOFFSETTO:-0400
TZNAME:EDT
DTSTART:20270314T070000
END:DAYLIGHT
BEGIN:STANDARD
TZOFFSETFROM:-0400
TZOFFSETTO:-0500
TZNAME:EST
DTSTART:20271107T060000
END:STANDARD
END:VTIMEZONE
BEGIN:VEVENT
DTSTART;TZID=America/Toronto:20260530T110000
DTEND;TZID=America/Toronto:20260530T123000
DTSTAMP:20260424T210311
CREATED:20260424T135452Z
LAST-MODIFIED:20260424T140507Z
UID:10003312-1780138800-1780144200@membership.ontariosoilcrop.org
SUMMARY:Adaptive Multi-Paddock Grazing Field Tour
DESCRIPTION:Adaptive Multi-Paddock Grazing Field Tour \nDrover’s Way Farm – Perth\, ON. (11:00AM – 12:30PM) \nTour the fields of Drover’s Way Farm. With over 30 years of pasture-based sheep production\, Oliver & Sarah Loten manage 500+ sheep using adaptive multi-paddock grazing. Their system shows how strategic grazing can regenerate marginal land while maintaining flock productivity. \nSpaces are limited and registration is required. Bio-security protocols will be enforced. \nLearn more or register. \n*Adaptive Multi-Paddock Grazing Field Tour is an OSCIA-recognized Knowledge Sharing Event (KSE) for farmers with On-Farm Climate Action Fund (OFCAF) projects in the Rotational Grazing category.* \n 
URL:https://membership.ontariosoilcrop.org/event/adaptive-multi-paddock-grazing-field-tour/
LOCATION:Drover’s Way Farm\, 1161 Drummond Concession 1\, Perth\, Ontario\, K7H3C3\, Canada
CATEGORIES:ÉPC,KSE,Rotational Grazing Systems,Systèmes de rotation des pâturages
END:VEVENT
BEGIN:VEVENT
DTSTART;TZID=America/Toronto:20260530T140000
DTEND;TZID=America/Toronto:20260530T153000
DTSTAMP:20260424T210311
CREATED:20260424T140424Z
LAST-MODIFIED:20260424T140424Z
UID:10003313-1780149600-1780155000@membership.ontariosoilcrop.org
SUMMARY:Pasture Walk with Black Kreek Ranch
DESCRIPTION:  \n \nPasture Walk with Black Kreek Ranch \nBlack Kreek Farm – Lansdowne\, ON. (2:00PM – 3:30PM) \n2021 Mapleseed Pasture Award recipients\, Brad & Karen Davis\, manage over 1\,000 ewes on pasture using high-density rotational grazing\, pasture lambing\, and nutrient cycling to support healthy soils and productive livestock. Come tour the farm. Walk the fields\, see their grazing system in action\, and learn from one of Ontario’s leading pasture-based sheep producers. \nSpaces are limited and registration is required. Bio-security protocols will be enforced. \nLearn more or register. \n*Pasture Walk with Black Kreek Ranch is an OSCIA-recognized Knowledge Sharing Event (KSE) for farmers with On-Farm Climate Action Fund (OFCAF) projects in the Rotational Grazing category.* \n 
URL:https://membership.ontariosoilcrop.org/event/pasture-walk-with-black-kreek-ranch/
LOCATION:Black Kreek Ranch\, 1104 Kidd Road North\, Lansdowne\, Ontario\, K0E1L0\, Canada
CATEGORIES:ÉPC,KSE,Rotational Grazing Systems,Systèmes de rotation des pâturages
END:VEVENT
END:VCALENDAR