BEGIN:VCALENDAR
VERSION:2.0
PRODID:-//OSCIA - ECPv6.15.17.1//NONSGML v1.0//EN
CALSCALE:GREGORIAN
METHOD:PUBLISH
X-ORIGINAL-URL:https://membership.ontariosoilcrop.org
X-WR-CALDESC:Events for OSCIA
REFRESH-INTERVAL;VALUE=DURATION:PT1H
X-Robots-Tag:noindex
X-PUBLISHED-TTL:PT1H
BEGIN:VTIMEZONE
TZID:America/Toronto
BEGIN:DAYLIGHT
TZOFFSETFROM:-0500
TZOFFSETTO:-0400
TZNAME:EDT
DTSTART:20240310T070000
END:DAYLIGHT
BEGIN:STANDARD
TZOFFSETFROM:-0400
TZOFFSETTO:-0500
TZNAME:EST
DTSTART:20241103T060000
END:STANDARD
BEGIN:DAYLIGHT
TZOFFSETFROM:-0500
TZOFFSETTO:-0400
TZNAME:EDT
DTSTART:20250309T070000
END:DAYLIGHT
BEGIN:STANDARD
TZOFFSETFROM:-0400
TZOFFSETTO:-0500
TZNAME:EST
DTSTART:20251102T060000
END:STANDARD
BEGIN:DAYLIGHT
TZOFFSETFROM:-0500
TZOFFSETTO:-0400
TZNAME:EDT
DTSTART:20260308T070000
END:DAYLIGHT
BEGIN:STANDARD
TZOFFSETFROM:-0400
TZOFFSETTO:-0500
TZNAME:EST
DTSTART:20261101T060000
END:STANDARD
END:VTIMEZONE
BEGIN:VEVENT
DTSTART;TZID=America/Toronto:20250617T093000
DTEND;TZID=America/Toronto:20250617T103000
DTSTAMP:20260424T051129
CREATED:20250520T143150Z
LAST-MODIFIED:20250520T143216Z
UID:10003060-1750152600-1750156200@membership.ontariosoilcrop.org
SUMMARY:MCCC Cover Crop Resources
DESCRIPTION:Join the Midwest Cover Crops Council as we review our new or updated resources and how they can be used to inform cover crop decisions and management. \nMonday\, June 16- MCCC Tools for Cover Crop Selection & Management (Anna Morrow\, MCCC Program Manager):  9:30 am to 10:30 am \nTuesday\, June 17- Cover Crop Identification & Using the Field Guide (Stephanie McLain\, MN NRCS State Soil Health Specialist):  9:30 am to 10:30 am \nREGISTER HERE! \nMCCC Cover Crop Resources is an OSCIA-recognized Knowledge Sharing Event (KSE) for farmers with On-Farm Climate Action Fund (OFCAF) projects in the Cover Cropping category. 
URL:https://membership.ontariosoilcrop.org/event/mccc-cover-crop-resources-2/
CATEGORIES:Cover Cropping,ÉPC,KSE,Recours aux cultures de couverturev
END:VEVENT
BEGIN:VEVENT
DTSTART;TZID=America/Toronto:20250616T093000
DTEND;TZID=America/Toronto:20250616T103000
DTSTAMP:20260424T051129
CREATED:20250520T143859Z
LAST-MODIFIED:20250520T143859Z
UID:10003063-1750066200-1750069800@membership.ontariosoilcrop.org
SUMMARY:MCCC Cover Crop Resources
DESCRIPTION:Join the Midwest Cover Crops Council as we review our new or updated resources and how they can be used to inform cover crop decisions and management. \nMonday\, June 16- MCCC Tools for Cover Crop Selection & Management (Anna Morrow\, MCCC Program Manager):  9:30 am to 10:30 am \nTuesday\, June 17- Cover Crop Identification & Using the Field Guide (Stephanie McLain\, MN NRCS State Soil Health Specialist):  9:30 am to 10:30 am \nREGISTER HERE! \nMCCC Cover Crop Resources is an OSCIA-recognized Knowledge Sharing Event (KSE) for farmers with On-Farm Climate Action Fund (OFCAF) projects in the Cover Cropping category. 
URL:https://membership.ontariosoilcrop.org/event/mccc-cover-crop-resources/
CATEGORIES:Cover Cropping,ÉPC,KSE,Recours aux cultures de couverturev
END:VEVENT
END:VCALENDAR