BEGIN:VCALENDAR
VERSION:2.0
PRODID:-//OSCIA - ECPv6.15.17.1//NONSGML v1.0//EN
CALSCALE:GREGORIAN
METHOD:PUBLISH
X-ORIGINAL-URL:https://membership.ontariosoilcrop.org
X-WR-CALDESC:Events for OSCIA
REFRESH-INTERVAL;VALUE=DURATION:PT1H
X-Robots-Tag:noindex
X-PUBLISHED-TTL:PT1H
BEGIN:VTIMEZONE
TZID:America/Toronto
BEGIN:DAYLIGHT
TZOFFSETFROM:-0500
TZOFFSETTO:-0400
TZNAME:EDT
DTSTART:20220313T070000
END:DAYLIGHT
BEGIN:STANDARD
TZOFFSETFROM:-0400
TZOFFSETTO:-0500
TZNAME:EST
DTSTART:20221106T060000
END:STANDARD
BEGIN:DAYLIGHT
TZOFFSETFROM:-0500
TZOFFSETTO:-0400
TZNAME:EDT
DTSTART:20230312T070000
END:DAYLIGHT
BEGIN:STANDARD
TZOFFSETFROM:-0400
TZOFFSETTO:-0500
TZNAME:EST
DTSTART:20231105T060000
END:STANDARD
BEGIN:DAYLIGHT
TZOFFSETFROM:-0500
TZOFFSETTO:-0400
TZNAME:EDT
DTSTART:20240310T070000
END:DAYLIGHT
BEGIN:STANDARD
TZOFFSETFROM:-0400
TZOFFSETTO:-0500
TZNAME:EST
DTSTART:20241103T060000
END:STANDARD
END:VTIMEZONE
BEGIN:VEVENT
DTSTART;TZID=America/Toronto:20230816T100000
DTEND;TZID=America/Toronto:20230816T143000
DTSTAMP:20260422T233737
CREATED:20230623T141932Z
LAST-MODIFIED:20230728T175335Z
UID:10001462-1692180000-1692196200@membership.ontariosoilcrop.org
SUMMARY:Leeds SCIA Plot Day: Nitrogen placement - does it make a difference?
DESCRIPTION:Join Leeds SCIA for a plot tour on August 16. \nThe day will consist of 4 sessions: \n\nEquipment for Different Nitrogen Applications\n\nGreg Millard\, Vernon Valley Farms\n\n\nCorn Root Pit and Plot Layout and Discussion\n\nAndreas Baumann\, Plot Day Host\n\n\n\nLunch is provided by Pride Seeds. \n\nAgronomy Update from Pride Seeds\n\nNeil McGregor\, Market Development Agronomist\n\n\nHarvest Fire Safety\n\nLeeds and Thousand Islands Fire Department\n\n\n\nPre-registering by August 10th would be greatly appreciated.  \nTo register or for additional info\, please contact Andreas Baumann at 613-349-2876. The event will run\, rain or shine.
URL:https://membership.ontariosoilcrop.org/event/leeds-scia-plot-day-nitrogen-placement-does-it-make-a-difference/
LOCATION:Wittekind Jersey Farm\, 173 Black Church Road\, Athens\, Ontario\, Canada
CATEGORIES:KSE,Nitrogen Management
END:VEVENT
END:VCALENDAR