BEGIN:VCALENDAR
VERSION:2.0
PRODID:-//OSCIA - ECPv6.15.17.1//NONSGML v1.0//EN
CALSCALE:GREGORIAN
METHOD:PUBLISH
X-ORIGINAL-URL:https://membership.ontariosoilcrop.org
X-WR-CALDESC:Events for OSCIA
REFRESH-INTERVAL;VALUE=DURATION:PT1H
X-Robots-Tag:noindex
X-PUBLISHED-TTL:PT1H
BEGIN:VTIMEZONE
TZID:America/Toronto
BEGIN:DAYLIGHT
TZOFFSETFROM:-0500
TZOFFSETTO:-0400
TZNAME:EDT
DTSTART:20220313T070000
END:DAYLIGHT
BEGIN:STANDARD
TZOFFSETFROM:-0400
TZOFFSETTO:-0500
TZNAME:EST
DTSTART:20221106T060000
END:STANDARD
BEGIN:DAYLIGHT
TZOFFSETFROM:-0500
TZOFFSETTO:-0400
TZNAME:EDT
DTSTART:20230312T070000
END:DAYLIGHT
BEGIN:STANDARD
TZOFFSETFROM:-0400
TZOFFSETTO:-0500
TZNAME:EST
DTSTART:20231105T060000
END:STANDARD
BEGIN:DAYLIGHT
TZOFFSETFROM:-0500
TZOFFSETTO:-0400
TZNAME:EDT
DTSTART:20240310T070000
END:DAYLIGHT
BEGIN:STANDARD
TZOFFSETFROM:-0400
TZOFFSETTO:-0500
TZNAME:EST
DTSTART:20241103T060000
END:STANDARD
BEGIN:DAYLIGHT
TZOFFSETFROM:-0500
TZOFFSETTO:-0400
TZNAME:EDT
DTSTART:20250309T070000
END:DAYLIGHT
BEGIN:STANDARD
TZOFFSETFROM:-0400
TZOFFSETTO:-0500
TZNAME:EST
DTSTART:20251102T060000
END:STANDARD
BEGIN:DAYLIGHT
TZOFFSETFROM:-0500
TZOFFSETTO:-0400
TZNAME:EDT
DTSTART:20260308T070000
END:DAYLIGHT
BEGIN:STANDARD
TZOFFSETFROM:-0400
TZOFFSETTO:-0500
TZNAME:EST
DTSTART:20261101T060000
END:STANDARD
BEGIN:DAYLIGHT
TZOFFSETFROM:-0500
TZOFFSETTO:-0400
TZNAME:EDT
DTSTART:20270314T070000
END:DAYLIGHT
BEGIN:STANDARD
TZOFFSETFROM:-0400
TZOFFSETTO:-0500
TZNAME:EST
DTSTART:20271107T060000
END:STANDARD
END:VTIMEZONE
BEGIN:VEVENT
DTSTART;TZID=America/Toronto:20260204T130000
DTEND;TZID=America/Toronto:20260204T140000
DTSTAMP:20260424T065746
CREATED:20260114T163012Z
LAST-MODIFIED:20260121T191949Z
UID:10003244-1770210000-1770213600@membership.ontariosoilcrop.org
SUMMARY:Webinar: Factors affecting the Soil Microbial Ecosystem
DESCRIPTION:As part of Essex Region Conservation Authorities’ winter webinars on Crops and Conservation\, this webinar will discuss the soil microorganism world via microscope slides to talk about the various factors affecting them\, such as cover crops\, residue\, tillage and fertilizer applications. We plan to show actual samples taken from Essex County from different soil management systems and give farmers an understanding of what they can do to positively affect their growing systems! \nSpeakers: Vivian Kaloxilos \nWhen? Wednesday\, February 4 @ 1:00 pm -2:00 pm \nREGISTER HERE \nFactors affecting the Soil Microbial Ecosystem is an OSCIA-recognized Knowledge Sharing Event (KSE) for farmers with On-Farm Climate Action Fund (OFCAF) projects in the Cover Cropping and Nitrogen Management category. 
URL:https://membership.ontariosoilcrop.org/event/webinar-factors-affecting-the-soil-microbial-ecosystem/
CATEGORIES:Cover Cropping,ÉPC,Gestion de l’azote,KSE,Nitrogen Management,Recours aux cultures de couverturev
END:VEVENT
BEGIN:VEVENT
DTSTART;TZID=America/Toronto:20250328T150000
DTEND;TZID=America/Toronto:20250328T160000
DTSTAMP:20260424T065746
CREATED:20250324T151932Z
LAST-MODIFIED:20250324T151932Z
UID:10003013-1743174000-1743177600@membership.ontariosoilcrop.org
SUMMARY:Seeding Cover Crops using Drones
DESCRIPTION:Seeding Cover Crops with Drones Ad – Jay \nJoin us to hear agricultural experts talk about cover cropping using drones based on their experiences and research. \n\nPlease note that the OFCAF program guide for the upcoming cover cropping intake is not currently available. As program details are subject to possible change between intakes\, the KSE opportunity is meant to share broad knowledge on cover cropping techniques. \n\n\n\n\n\n\n\n\n\nWhen? Friday\, March 28 3:00 PM – 4:00 PM \nWhere? Online via Zoom \n Visit the link to reserve your spot! \n  \nSeeding Cover Crops using Drones is an OSCIA-recognized Knowledge Sharing Event (KSE) for farmers with On-Farm Climate Action Fund (OFCAF) projects in the Cover Cropping category. \n 
URL:https://membership.ontariosoilcrop.org/event/seeding-cover-crops-using-drones/
CATEGORIES:Cover Cropping,ÉPC,KSE,Recours aux cultures de couverturev
END:VEVENT
BEGIN:VEVENT
DTSTART;TZID=America/Toronto:20230801T140000
DTEND;TZID=America/Toronto:20230801T160000
DTSTAMP:20260424T065746
CREATED:20230616T153954Z
LAST-MODIFIED:20230705T130748Z
UID:10001455-1690898400-1690905600@membership.ontariosoilcrop.org
SUMMARY:Cover Crop Information Session
DESCRIPTION:This event will allow participants to view several different cover crop demonstrations\, including buckwheat\, cereal rye\, oats\, radish and peas. Speakers include Chris Snip\, CCA from AGRIS and Dr. Katie Stammler from ERCA. Topics discussed will include soil health benefits\, water quality improvement\, carbon sequestration\, pollinator benefits and more. \nParticipants are encouraged to share their successes and challenges with growing cover crops on heavy clay soil. This will also be an opportunity to celebrate the Demonstration Farm in its final year of operation. \nTo register\, visit https://www.eventbrite.ca/e/cover-crop-information-session-tickets-671544958047?aff=oddtdtcreator  \n 
URL:https://membership.ontariosoilcrop.org/event/cover-crop-information-session/
LOCATION:Essex County Demonstration Farm\, 6952 County Road 50 W\, Amherstburg\, Ontario\, Canada
CATEGORIES:Cover Cropping,KSE
END:VEVENT
END:VCALENDAR