BEGIN:VCALENDAR
VERSION:2.0
PRODID:-//OSCIA - ECPv6.15.17.1//NONSGML v1.0//EN
CALSCALE:GREGORIAN
METHOD:PUBLISH
X-WR-CALNAME:OSCIA
X-ORIGINAL-URL:https://membership.ontariosoilcrop.org
X-WR-CALDESC:Events for OSCIA
REFRESH-INTERVAL;VALUE=DURATION:PT1H
X-Robots-Tag:noindex
X-PUBLISHED-TTL:PT1H
BEGIN:VTIMEZONE
TZID:America/Toronto
BEGIN:DAYLIGHT
TZOFFSETFROM:-0500
TZOFFSETTO:-0400
TZNAME:EDT
DTSTART:20220313T070000
END:DAYLIGHT
BEGIN:STANDARD
TZOFFSETFROM:-0400
TZOFFSETTO:-0500
TZNAME:EST
DTSTART:20221106T060000
END:STANDARD
BEGIN:DAYLIGHT
TZOFFSETFROM:-0500
TZOFFSETTO:-0400
TZNAME:EDT
DTSTART:20230312T070000
END:DAYLIGHT
BEGIN:STANDARD
TZOFFSETFROM:-0400
TZOFFSETTO:-0500
TZNAME:EST
DTSTART:20231105T060000
END:STANDARD
BEGIN:DAYLIGHT
TZOFFSETFROM:-0500
TZOFFSETTO:-0400
TZNAME:EDT
DTSTART:20240310T070000
END:DAYLIGHT
BEGIN:STANDARD
TZOFFSETFROM:-0400
TZOFFSETTO:-0500
TZNAME:EST
DTSTART:20241103T060000
END:STANDARD
BEGIN:DAYLIGHT
TZOFFSETFROM:-0500
TZOFFSETTO:-0400
TZNAME:EDT
DTSTART:20250309T070000
END:DAYLIGHT
BEGIN:STANDARD
TZOFFSETFROM:-0400
TZOFFSETTO:-0500
TZNAME:EST
DTSTART:20251102T060000
END:STANDARD
END:VTIMEZONE
BEGIN:VEVENT
DTSTART;TZID=America/Toronto:20240905T120000
DTEND;TZID=America/Toronto:20240905T130000
DTSTAMP:20260422T094949
CREATED:20240822T192703Z
LAST-MODIFIED:20240822T192728Z
UID:10002821-1725537600-1725541200@membership.ontariosoilcrop.org
SUMMARY:Cover Crop Establishment Webinar
DESCRIPTION:Join Aaron Breimer to discuss Cover Crop Establishment. Aaron is a seasoned agronomist and the Ontario Certified Crop Advisor Board Chair. He is passionate about the science and economics of agriculture\, recently launching his own ag data venture and advisory service called Moose Ag. \nDuring this webinar\, Aaron will be covering ins and outs of Cover Crop Establishment. Planting\, species selection\, timing\, and more! \nYou will also hear about an exciting opportunity to submit field surface photos for a chance to win one of ten $250 Visa Gift cards! \nDate: September 5th\, 2024 \nTime: 12-1PM \nRegister (free) here. \nThis Webinar is a OSCIA Recognized Knowledge Sharing Event (KSE) for recognized Knowledge Sharing Event (KSE) for farmers with On-Farm Climate Action Fund (OFCAF) projects in the Cover Cropping category.
URL:https://membership.ontariosoilcrop.org/event/cover-crop-establishment-webinar/
CATEGORIES:Cover Cropping,KSE
END:VEVENT
BEGIN:VEVENT
DTSTART;TZID=America/Toronto:20240903T120000
DTEND;TZID=America/Toronto:20240903T130000
DTSTAMP:20260422T094949
CREATED:20240822T192126Z
LAST-MODIFIED:20240830T122355Z
UID:10002820-1725364800-1725368400@membership.ontariosoilcrop.org
SUMMARY:Dual Action Nitrogen Stabilizers Webinar
DESCRIPTION:Join Aaron Breimer to discuss Dual Action Nitrogen Stabilizers. Aaron is a seasoned agronomist and the Ontario Certified Crop Advisor Board Chair. He is passionate about the science and economics of agriculture\, recently launching his own ag data venture and advisory service called Moose Ag. \nDuring this webinar\, Aaron will be covering the What\, When\, Where and How of Dual Action Nitrogen Stabilizers. \nYou will also hear about an exciting opportunity to submit field surface photos for a chance to win one of ten $250 Visa Gift cards! \nDate: September 3rd\, 2024 \nTime: 12-1PM \nRegister (free) here. \nThis Webinar is a OSCIA Recognized Knowledge Sharing Event (KSE) for recognized Knowledge Sharing Event (KSE) for farmers with On-Farm Climate Action Fund (OFCAF) projects in the Nitrogen Management category.
URL:https://membership.ontariosoilcrop.org/event/dual-action-nitrogen-stabilizers/
CATEGORIES:KSE,Nitrogen Management
END:VEVENT
BEGIN:VEVENT
DTSTART;TZID=America/Toronto:20231018T190000
DTEND;TZID=America/Toronto:20231018T200000
DTSTAMP:20260422T094949
CREATED:20230929T155118Z
LAST-MODIFIED:20230929T155159Z
UID:10001568-1697655600-1697659200@membership.ontariosoilcrop.org
SUMMARY:Cover Crop Lessons and Insights from Two Independent Certified Crop Advisors (Virtual)
DESCRIPTION:Join Deb Campbell and Aaron Breimer as they discuss what they have learned during their careers for what works and doesn’t work when it comes to cover crops. Including species mixes\, seeding rates\, establishment methods\, termination techniques\, nitrogen benefits and improving soil health. \nAaron Breimer has been a Certified Crop Advisor for 20 years and has been an independent consultant since 2011. Starting in 2015 when there was significant interest in planting green and utilizing complex multi-species cover crop mixes he began doing strip trials to determine the net positive/negative impacts of different mixes and ideal rates. Deb Campbell has been a Certified Crop Advisor for 25+ years and has extensive knowledge of working with farmers to optimize their productivity including how cover crops can increase yield\, improve nutrient use effeciency and how to optimize crop rotations when mother nature challenges normal production plans. \n  \nTo register for this session\, visit: https://us06web.zoom.us/meeting/register/tZIvdOugrTorE9ZH9KFKQeczQlvK8cbdcCyg#/registration \nNote: This webinar must be attended live. Watching a recording of the session will not qualify for a KSE.
URL:https://membership.ontariosoilcrop.org/event/cover-crop-lessons-and-insights-from-two-independent-certified-crop-advisors/
CATEGORIES:Cover Cropping,KSE
END:VEVENT
BEGIN:VEVENT
DTSTART;TZID=America/Toronto:20231011T200000
DTEND;TZID=America/Toronto:20231011T210000
DTSTAMP:20260422T094949
CREATED:20230929T154751Z
LAST-MODIFIED:20230929T155805Z
UID:10001566-1697054400-1697058000@membership.ontariosoilcrop.org
SUMMARY:Intensive Nitrogen Management Lessons from Texas (Virtual)
DESCRIPTION:The rumour is that everything is bigger in Texas. Join Aaron Breimer (CCA-ON) as he has a conversation with Eric Burton from the panhandle region of Texas who consults on irrigated corn production. Eric utilizes an intensive nitrogen monitoring and managment program that pursues high yields through strategic nitrogen planning/application. \nTo register for the Zoom session\, visit: https://us06web.zoom.us/meeting/register/tZ0tc-2qqjkvH9ZJKF5ptrE_6TULM6mUO3mF \nNote: This webinar must be attended live. Watching a recording of the session will not qualify for a KSE.
URL:https://membership.ontariosoilcrop.org/event/intensive-nitrogen-management-lessons-from-texas/
CATEGORIES:KSE,Nitrogen Management
END:VEVENT
BEGIN:VEVENT
DTSTART;TZID=America/Toronto:20230706T070000
DTEND;TZID=America/Toronto:20230706T203000
DTSTAMP:20260422T094949
CREATED:20230623T132039Z
LAST-MODIFIED:20230623T132039Z
UID:10001459-1688626800-1688675400@membership.ontariosoilcrop.org
SUMMARY:Utilizing Precision Ag Fundamentals for Nitrogen Optimization (Virtual)
DESCRIPTION:Join Elite Agri Solutions and Aaron Breimer\, Certified Crop Advisor (CCA) and Ontario CCA Board Chair\, for a virtual meeting to understand how precision ag can be utilized to optimize nitrogen management. \nTo register\, visit https://us06web.zoom.us/meeting/register/tZcudemhqDMsHtHj0Uia3pGpj42eHv90lFBR \nNote: You must attend this virtual meeting for it to qualify as a Nitrogen Management KSE. Watching a recording would not qualify. For more information\, contact aaron@eliteagrisolutions.ca \n 
URL:https://membership.ontariosoilcrop.org/event/utilizing-precision-ag-fundamentals-for-nitrogen-optimization-virtual/
CATEGORIES:KSE,Nitrogen Management
END:VEVENT
END:VCALENDAR