BEGIN:VCALENDAR
VERSION:2.0
PRODID:-//OSCIA - ECPv6.15.17.1//NONSGML v1.0//EN
CALSCALE:GREGORIAN
METHOD:PUBLISH
X-ORIGINAL-URL:https://membership.ontariosoilcrop.org
X-WR-CALDESC:Events for OSCIA
REFRESH-INTERVAL;VALUE=DURATION:PT1H
X-Robots-Tag:noindex
X-PUBLISHED-TTL:PT1H
BEGIN:VTIMEZONE
TZID:America/Toronto
BEGIN:DAYLIGHT
TZOFFSETFROM:-0500
TZOFFSETTO:-0400
TZNAME:EDT
DTSTART:20250309T070000
END:DAYLIGHT
BEGIN:STANDARD
TZOFFSETFROM:-0400
TZOFFSETTO:-0500
TZNAME:EST
DTSTART:20251102T060000
END:STANDARD
BEGIN:DAYLIGHT
TZOFFSETFROM:-0500
TZOFFSETTO:-0400
TZNAME:EDT
DTSTART:20260308T070000
END:DAYLIGHT
BEGIN:STANDARD
TZOFFSETFROM:-0400
TZOFFSETTO:-0500
TZNAME:EST
DTSTART:20261101T060000
END:STANDARD
BEGIN:DAYLIGHT
TZOFFSETFROM:-0500
TZOFFSETTO:-0400
TZNAME:EDT
DTSTART:20270314T070000
END:DAYLIGHT
BEGIN:STANDARD
TZOFFSETFROM:-0400
TZOFFSETTO:-0500
TZNAME:EST
DTSTART:20271107T060000
END:STANDARD
END:VTIMEZONE
BEGIN:VEVENT
DTSTART;TZID=America/Toronto:20260918T093000
DTEND;TZID=America/Toronto:20260918T140000
DTSTAMP:20260420T150855
CREATED:20260401T125539Z
LAST-MODIFIED:20260401T125539Z
UID:10003309-1789723800-1789740000@membership.ontariosoilcrop.org
SUMMARY:Fieldwalker 2026 Sandbox Field Day
DESCRIPTION:Fieldwalker 2026 Sandbox Field Day: Dialing in crop nutrition plans and application along with a\ntillage demonstration \n9:30 AM – 2 PM\, a final agenda will be distributed shortly.\nJonathan Zettler\, CPA\, CMA\, CCA-ON\nKey Details:\n•Location – Formosa (meal) and local fields to Formosa\, ON\n•Date – Friday\, September 18\, 2026\, ~9 am Coffee to 2 pm\n•Lunch – Pineridge BBQ \nThere is a small nominal fee of $25\, mainly to ensure the people attending want to participate\nand contribute to this type of event. A portion of this fee is donated to 4-H Ontario.\nTo participate\, drop me an email by clicking on the link below.\nPayment – if you are an existing Fieldwalker customer I’ll invoice your account. If not\, you can etransfer $25 to jz@fieldwalker.ca. RSVP by August 30th\, 2026 for food! \n*This event is recognized as OSCIA OFCAF KSE under BMP category Nitrogen Management 
URL:https://membership.ontariosoilcrop.org/event/fieldwalker-2026-sandbox-field-day/
LOCATION:Formosa\, ON
CATEGORIES:KSE,Nitrogen Management
END:VEVENT
END:VCALENDAR