BEGIN:VCALENDAR
VERSION:2.0
PRODID:-//OSCIA - ECPv6.15.17.1//NONSGML v1.0//EN
CALSCALE:GREGORIAN
METHOD:PUBLISH
X-ORIGINAL-URL:https://membership.ontariosoilcrop.org
X-WR-CALDESC:Events for OSCIA
REFRESH-INTERVAL;VALUE=DURATION:PT1H
X-Robots-Tag:noindex
X-PUBLISHED-TTL:PT1H
BEGIN:VTIMEZONE
TZID:America/Toronto
BEGIN:DAYLIGHT
TZOFFSETFROM:-0500
TZOFFSETTO:-0400
TZNAME:EDT
DTSTART:20220313T070000
END:DAYLIGHT
BEGIN:STANDARD
TZOFFSETFROM:-0400
TZOFFSETTO:-0500
TZNAME:EST
DTSTART:20221106T060000
END:STANDARD
BEGIN:DAYLIGHT
TZOFFSETFROM:-0500
TZOFFSETTO:-0400
TZNAME:EDT
DTSTART:20230312T070000
END:DAYLIGHT
BEGIN:STANDARD
TZOFFSETFROM:-0400
TZOFFSETTO:-0500
TZNAME:EST
DTSTART:20231105T060000
END:STANDARD
BEGIN:DAYLIGHT
TZOFFSETFROM:-0500
TZOFFSETTO:-0400
TZNAME:EDT
DTSTART:20240310T070000
END:DAYLIGHT
BEGIN:STANDARD
TZOFFSETFROM:-0400
TZOFFSETTO:-0500
TZNAME:EST
DTSTART:20241103T060000
END:STANDARD
BEGIN:DAYLIGHT
TZOFFSETFROM:-0500
TZOFFSETTO:-0400
TZNAME:EDT
DTSTART:20250309T070000
END:DAYLIGHT
BEGIN:STANDARD
TZOFFSETFROM:-0400
TZOFFSETTO:-0500
TZNAME:EST
DTSTART:20251102T060000
END:STANDARD
END:VTIMEZONE
BEGIN:VEVENT
DTSTART;TZID=America/Toronto:20240819T180000
DTEND;TZID=America/Toronto:20240819T200000
DTSTAMP:20260424T144645
CREATED:20240726T145225Z
LAST-MODIFIED:20240726T145846Z
UID:10002813-1724090400-1724097600@membership.ontariosoilcrop.org
SUMMARY:Northumberland SCIA Summer BBQ
DESCRIPTION:Everyone is welcome to join us for an unforgettable evening of mouth-watering BBQ\, great company and world-famous carousel rides. \nMonday\, August 19\, 2024\, 6:00–8:00 p.m.\nThe carousel will be open for every child aged 1 to 100 for free rides from 7:00–8:00 p.m.\nRoseneath Fairgrounds \nMembers and Spouse or Partner = $15.00\nNon-member Adults = $20.00\nYouth 13 and up = $20.00\nYouth 7 to 12 = $10.00\nChildren 6 and under = Free \nFor more information: Eric Lawlor at 905-269-8555 or foxfire@xplornet.com
URL:https://membership.ontariosoilcrop.org/event/northumberland-scia-summer-bbq/
LOCATION:9109 Cty Rd 45\, Roseneath\, ON\, 9109 Cty Rd 45\, Roseneath\, ON\, Canada
CATEGORIES:Northumberland,Quinte
ATTACH;FMTTYPE=image/jpeg:https://membership.ontariosoilcrop.org/wp-content/uploads/2024/07/NSCIA-Summer-BBQ-2024.jpg
END:VEVENT
BEGIN:VEVENT
DTSTART;TZID=America/Toronto:20240404T180000
DTEND;TZID=America/Toronto:20240404T210000
DTSTAMP:20260424T144645
CREATED:20240315T182555Z
LAST-MODIFIED:20240318T152832Z
UID:10001482-1712253600-1712264400@membership.ontariosoilcrop.org
SUMMARY:Quinte SCIA Annual General Meeting
DESCRIPTION:Quinte Soil and Crop Improvement Association Annual General Meeting \nThursday\, April 4\, 2024\, from 6:00 to 9:00 PM \nStirling Grand Trunk RR Station\n122 North Street\nStirling\, ON K0K 3E0 \nPlease contact the Regional Communications Coordinator if you would like to attend.\nqscia.rcc@gmail.com
URL:https://membership.ontariosoilcrop.org/event/quinte-scia-annual-general-meeting/
LOCATION:Stirling Grand Trunk RR Station\, 122 North Street\, Stirling\, ON\, K0K 3E0\, Canada
CATEGORIES:Quinte
ATTACH;FMTTYPE=image/jpeg:https://membership.ontariosoilcrop.org/wp-content/uploads/2024/03/QSCIA-Header-Colour-1417x3781-170dpi.jpg
END:VEVENT
BEGIN:VEVENT
DTSTART;TZID=America/Toronto:20240216T103000
DTEND;TZID=America/Toronto:20240216T140000
DTSTAMP:20260424T144645
CREATED:20240130T193400Z
LAST-MODIFIED:20240130T193400Z
UID:10001471-1708079400-1708092000@membership.ontariosoilcrop.org
SUMMARY:Prince Edward SCIA AGM
DESCRIPTION:Prince Edward SCIA AGM\nFebruary 16\, 2024\n10:30 AM—2:00 PM \nBloomfield United Church Hall\n230 Main St\, Bloomfield\, ON \nMembers—Free\nNon–members Lunch $15.00 \nSpeakers\nPeter Johnson—”Wheat Pete’s” Word on Top Tips for Top Yields in 2024\nSteve Kell—Kell Grain 2024 Market Update \nFor more information and to confirm attendance by February 12—Noon\nplease call Tyler Lester: 613-921-0433 or Patti Stacey: 613-919-5154 \nWalk–in’s are welcome\nNew Memberships or Renewals will be available at the meeting \nEvent Sponsors: Trevor Crowe\, Mark McFaul\, Gary Parks
URL:https://membership.ontariosoilcrop.org/event/prince-edward-scia-agm/
LOCATION:Bloomfield United Church Hall\, 272 Main Street NULL\, Bloomfield\, K0K1G0\, 9
CATEGORIES:Prince Edward,Quinte
ATTACH;FMTTYPE=image/jpeg:https://membership.ontariosoilcrop.org/wp-content/uploads/2024/01/2024-PESCIA-AGM-Flyer-Feb-16-Final-scaled.jpg
GEO:NULL;NULL
X-APPLE-STRUCTURED-LOCATION;VALUE=URI;X-ADDRESS=Bloomfield United Church Hall 272 Main Street NULL Bloomfield K0K1G0 9;X-APPLE-RADIUS=500;X-TITLE=272 Main Street NULL:geo:NULL,NULL
END:VEVENT
BEGIN:VEVENT
DTSTART;VALUE=DATE:20240206
DTEND;VALUE=DATE:20240208
DTSTAMP:20260424T144645
CREATED:20231109T164353Z
LAST-MODIFIED:20240131T020447Z
UID:10001577-1707177600-1707350399@membership.ontariosoilcrop.org
SUMMARY:OSCIA 2-Day AGM & SPRAYSMART Deep Dive
DESCRIPTION:For the agenda click here \nThank you for your interest in the AGM and Spray Smart Deep Dive. The registration period is now closed. Check-in for the AGM will begin at 12:00pm on February 6th. Check-in for Spray Smart Deep Dive will begin at 8:00am on February 7th. Don’t forget to bring a 500mL water sample to receive free water quality testing at Spray Smart Deep Dive!
URL:https://membership.ontariosoilcrop.org/event/oscia-2-day-agm-spraysmart-deep-dive/
LOCATION:Elora Grand Way Events Centre\, 7445 Wellington County Rd 21\, Centre Wellington\, Ontario\, N0B 1S0\, Canada
CATEGORIES:Association,Cover Cropping,East Central,Eastern Valley,Event,Georgian Central,Golden Horseshoe,Heartland,KSE,North Eastern Ontario,North Western Ontario,Ottawa Rideau,Provincial,Quinte,Regional Event,St. Clair,Thames Valley
END:VEVENT
BEGIN:VEVENT
DTSTART;TZID=America/Toronto:20231218T190000
DTEND;TZID=America/Toronto:20231218T203000
DTSTAMP:20260424T144645
CREATED:20231201T172121Z
LAST-MODIFIED:20231201T172631Z
UID:10001438-1702926000-1702931400@membership.ontariosoilcrop.org
SUMMARY:Resilient Agricultural Landscape Program (RALP) Information Session
DESCRIPTION:Join us for an online information session to learn more about the Resilient Agricultural Landscape Program (RALP)\, a funding program being delivered by the Ontario Soil and Crop Improvement Association. As part of the Ontario Agricultural Sustainability Initiative\, the Resilient Agricultural Landscape Program (RALP) provides funding to support Ontario farmers in making their agricultural lands more productive and resilient. The Program provides funding to support projects to reduce greenhouse gas emissions and sequester carbon. Projects will focus on: \n• Natural Grassland Establishment\n• Perennial Biomass & Warm Season Pastures\n• Reduced Tillage\n• Tree & Shrub Planting\n• Water Retention Features\n• Wetlands \nDuring the information sessions\, OSCIA staff will walk you through eligibility information\, application requirements and how to apply. Sessions will run for 1.5 hours and will include an opportunity to ask questions about the program. \nThe first intake opened to accept applications on October 24\, 2023\, at 9 am\, ET\, and will remain open until the budget for this program year is fully allocated. Information on the initiative can be found in the online program guide: Program Guide \nTo participate in an online Information Session \, you must register in advance. To register\, click the link below for the session. All sessions will offer the same information\, so please only register for one session. \nWednesday\, December 6\, 2023\, 7 pm – 8:30 pm: Register Here\nMonday\, December 11\, 2023\, 12 pm – 1:30 pm: Register Here\nMonday\, December 18\, 2023\, 7 pm – 8:30 pm: Register Here \nInformation sessions are delivered in English\, but if you need support in French\, please contact us at s-cap@ontariosoilcrop.org.
URL:https://membership.ontariosoilcrop.org/event/resilient-agricultural-landscape-program-ralp-information-session-2/
LOCATION:ON
CATEGORIES:East Central,Eastern Valley,Event,Georgian Central,Golden Horseshoe,Heartland,North Eastern Ontario,North Western Ontario,Ottawa Rideau,Quinte,St. Clair,Thames Valley
END:VEVENT
BEGIN:VEVENT
DTSTART;TZID=America/Toronto:20231214T090000
DTEND;TZID=America/Toronto:20231214T153000
DTSTAMP:20260424T144645
CREATED:20231118T194329Z
LAST-MODIFIED:20231123T151646Z
UID:10001595-1702544400-1702567800@membership.ontariosoilcrop.org
SUMMARY:Northumberland SCIA AGM
DESCRIPTION:For more information: Eric Lawlor at 905-269-8555 or foxfire@xplornet.com
URL:https://membership.ontariosoilcrop.org/event/northumberland-scia-agm/
LOCATION:Codrington Community Centre (Brighton)\, 2992 Highway 30\, Codrington\, Ontario\, Canada
CATEGORIES:Northumberland,Quinte
ATTACH;FMTTYPE=image/png:https://membership.ontariosoilcrop.org/wp-content/uploads/2023/11/NSCIA-AGM-Flyer-1.png
GEO:44.0422599;-77.7368828
X-APPLE-STRUCTURED-LOCATION;VALUE=URI;X-ADDRESS=Codrington Community Centre (Brighton) 2992 Highway 30 Codrington Ontario Canada;X-APPLE-RADIUS=500;X-TITLE=2992 Highway 30:geo:-77.7368828,44.0422599
END:VEVENT
BEGIN:VEVENT
DTSTART;TZID=America/Toronto:20231211T120000
DTEND;TZID=America/Toronto:20231211T133000
DTSTAMP:20260424T144645
CREATED:20231201T171428Z
LAST-MODIFIED:20231201T173539Z
UID:10001437-1702296000-1702301400@membership.ontariosoilcrop.org
SUMMARY:Resilient Agricultural Landscape Program (RALP) Information Session
DESCRIPTION:Join us for an online information session to learn more about the Resilient Agricultural Landscape Program (RALP)\, a funding program being delivered by the Ontario Soil and Crop Improvement Association. As part of the Ontario Agricultural Sustainability Initiative\, the Resilient Agricultural Landscape Program (RALP) provides funding to support Ontario farmers in making their agricultural lands more productive and resilient. The Program provides funding to support projects to reduce greenhouse gas emissions and sequester carbon. Projects will focus on: \n• Natural Grassland Establishment\n• Perennial Biomass & Warm Season Pastures\n• Reduced Tillage\n• Tree & Shrub Planting\n• Water Retention Features\n• Wetlands \nDuring the information sessions\, OSCIA staff will walk you through eligibility information\, application requirements and how to apply. Sessions will run for 1.5 hours and will include an opportunity to ask questions about the program. \nThe first intake opened to accept applications on October 24\, 2023\, at 9 am\, ET\, and will remain open until the budget for this program year is fully allocated. Information on the initiative can be found in the online program guide: Program Guide \nTo participate in an online Information Session \, you must register in advance. To register\, click the link below for the session. All sessions will offer the same information\, so please only register for one session. \nWednesday\, December 6\, 2023\, 7 pm – 8:30 pm: Register Here\nMonday\, December 11\, 2023\, 12 pm – 1:30 pm: Register Here\nMonday\, December 18\, 2023\, 7 pm – 8:30 pm: Register Here \nInformation sessions are delivered in English\, but if you need support in French\, please contact us at s-cap@ontariosoilcrop.org.
URL:https://membership.ontariosoilcrop.org/event/resilient-agricultural-landscape-program-ralp-information-session/
LOCATION:ON
CATEGORIES:East Central,Eastern Valley,Event,Georgian Central,Golden Horseshoe,Heartland,North Eastern Ontario,North Western Ontario,Ottawa Rideau,Quinte,St. Clair,Thames Valley
END:VEVENT
BEGIN:VEVENT
DTSTART;TZID=America/Toronto:20231206T190000
DTEND;TZID=America/Toronto:20231206T203000
DTSTAMP:20260424T144645
CREATED:20231201T170511Z
LAST-MODIFIED:20231201T172530Z
UID:10001435-1701889200-1701894600@membership.ontariosoilcrop.org
SUMMARY:Resilient Agricultural Landscape Program (RALP) Information Session
DESCRIPTION:Join us for an online information session to learn more about the Resilient Agricultural Landscape Program (RALP)\, a funding program being delivered by the Ontario Soil and Crop Improvement Association. As part of the Ontario Agricultural Sustainability Initiative\, the Resilient Agricultural Landscape Program (RALP) provides funding to support Ontario farmers in making their agricultural lands more productive and resilient. The Program provides funding to support projects to reduce greenhouse gas emissions and sequester carbon. Projects will focus on: \n• Natural Grassland Establishment\n• Perennial Biomass & Warm Season Pastures\n• Reduced Tillage\n• Tree & Shrub Planting\n• Water Retention Features\n• Wetlands \nDuring the information sessions\, OSCIA staff will walk you through eligibility information\, application requirements and how to apply. Sessions will run for 1.5 hours and will include an opportunity to ask questions about the program. \nThe first intake opened to accept applications on October 24\, 2023\, at 9 am\, ET\, and will remain open until the budget for this program year is fully allocated. Information on the initiative can be found in the online program guide: Program Guide \nTo participate in an online Information Session \, you must register in advance. To register\, click the link below for the session. All sessions will offer the same information\, so please only register for one session. \nWednesday\, December 6\, 2023\, 7 pm – 8:30 pm: Register Here\nMonday\, December 11\, 2023\, 12 pm – 1:30 pm: Register Here\nMonday\, December 18\, 2023\, 7 pm – 8:30 pm: Register Here \nInformation sessions are delivered in English\, but if you need support in French\, please contact us at s-cap@ontariosoilcrop.org.
URL:https://membership.ontariosoilcrop.org/event/resilient-agricultural-landscape-program-ralp-information-sessions/
LOCATION:ON
CATEGORIES:East Central,Eastern Valley,Event,Georgian Central,Golden Horseshoe,Heartland,North Eastern Ontario,North Western Ontario,Ottawa Rideau,Quinte,St. Clair,Thames Valley
END:VEVENT
BEGIN:VEVENT
DTSTART;TZID=America/Toronto:20230907T090000
DTEND;TZID=America/Toronto:20230907T150000
DTSTAMP:20260424T144645
CREATED:20230727T172454Z
LAST-MODIFIED:20230905T155900Z
UID:10001495-1694077200-1694098800@membership.ontariosoilcrop.org
SUMMARY:Quinte Compaction Day
DESCRIPTION:Thanks to our generous sponsors\, we’re able to extend the early registration deadline to 5:00 PM\, Wednesday\, September 6th. \nNon-member ticket price includes a membership in your local Soil & Crop Improvement Association. Benefits of membership include 10% off soil sampling\, quarterly issues of the Innovator\, biweekly Grassroots Matters updates\, and access to local field trials and tours. \nThis EVENT is an OSCIA-recognized Knowledge Sharing Event (KSE) for farmers with On-Farm Climate Action Fund (OFCAF) projects in the Cover Cropping category.
URL:https://membership.ontariosoilcrop.org/event/quinte-compaction-day-2/
LOCATION:2141 Theatre Rd South\, Cobourg\, ON\, 2141 Theatre Rd South\, Cobourg\, Ontario\, K9A 4J7\, Canada
CATEGORIES:Cover Cropping,Hastings and L&A,KSE,Northumberland,Prince Edward,Quinte
ATTACH;FMTTYPE=image/jpeg:https://membership.ontariosoilcrop.org/wp-content/uploads/2023/07/Poster-8.5-x-11-wsponsors-5.jpg
END:VEVENT
BEGIN:VEVENT
DTSTART;TZID=America/Toronto:20230817T083000
DTEND;TZID=America/Toronto:20230817T120000
DTSTAMP:20260424T144645
CREATED:20230804T145002Z
LAST-MODIFIED:20230804T211413Z
UID:10001526-1692261000-1692273600@membership.ontariosoilcrop.org
SUMMARY:Crop Knowledge Share Day
DESCRIPTION:Crop Knowledge Share Day\nfeaturing ‘Wheat Pete’ Johnson\nThursday\, August 17\, 2023\nCoffee at 8:30 AM. We start with Pete at 9:00 AM! We end at lunch with a Hamburger and Sweet Corn!\nOur Host: Jeff Harrison\, 75 Harrison Road\, Quinte West\, ON \nWheat 2024–Start it right\, finish it strong! \nSoybean Herbicide Strategy Post–Mortem and Outlook for 2024 \nNitrogen Placement\, where is it now\, and how to capture the leftovers with Cover Crop \nplus \nA Sneak Peek at what to expect at Quinte Compaction Day \nOSCIA Members are FREE\, so buy or renew your $40 membership at the gate! \nNo pre–registration\, just come on out and learn! \nAdvance Compaction Day tickets will be available. \nNOTE: On-Farm Climate Action Fund (OFCAF) applicants can attend this event as either a Cover Cropping OR Nitrogen Management Knowledge Sharing Event (KSE).
URL:https://membership.ontariosoilcrop.org/event/crop-knowledge-share-day/
LOCATION:75 Harrison Rd\, 75 Harrison Rd\, Quinte West\, Ontario\, K8V 5P6\, Canada
CATEGORIES:Cover Cropping,Hastings and L&A,KSE,Nitrogen Management,Northumberland,Prince Edward,Quinte
ATTACH;FMTTYPE=image/png:https://membership.ontariosoilcrop.org/wp-content/uploads/2023/08/Picture3.png
END:VEVENT
END:VCALENDAR