BEGIN:VCALENDAR
VERSION:2.0
PRODID:-//OSCIA - ECPv6.15.17.1//NONSGML v1.0//EN
CALSCALE:GREGORIAN
METHOD:PUBLISH
X-WR-CALNAME:OSCIA
X-ORIGINAL-URL:https://membership.ontariosoilcrop.org
X-WR-CALDESC:Events for OSCIA
REFRESH-INTERVAL;VALUE=DURATION:PT1H
X-Robots-Tag:noindex
X-PUBLISHED-TTL:PT1H
BEGIN:VTIMEZONE
TZID:America/Toronto
BEGIN:DAYLIGHT
TZOFFSETFROM:-0500
TZOFFSETTO:-0400
TZNAME:EDT
DTSTART:20240310T070000
END:DAYLIGHT
BEGIN:STANDARD
TZOFFSETFROM:-0400
TZOFFSETTO:-0500
TZNAME:EST
DTSTART:20241103T060000
END:STANDARD
BEGIN:DAYLIGHT
TZOFFSETFROM:-0500
TZOFFSETTO:-0400
TZNAME:EDT
DTSTART:20250309T070000
END:DAYLIGHT
BEGIN:STANDARD
TZOFFSETFROM:-0400
TZOFFSETTO:-0500
TZNAME:EST
DTSTART:20251102T060000
END:STANDARD
BEGIN:DAYLIGHT
TZOFFSETFROM:-0500
TZOFFSETTO:-0400
TZNAME:EDT
DTSTART:20260308T070000
END:DAYLIGHT
BEGIN:STANDARD
TZOFFSETFROM:-0400
TZOFFSETTO:-0500
TZNAME:EST
DTSTART:20261101T060000
END:STANDARD
END:VTIMEZONE
BEGIN:VEVENT
DTSTART;TZID=America/Toronto:20250818T170000
DTEND;TZID=America/Toronto:20250818T200000
DTSTAMP:20260424T212436
CREATED:20250623T151916Z
LAST-MODIFIED:20250815T183626Z
UID:10003078-1755536400-1755547200@membership.ontariosoilcrop.org
SUMMARY:Northumberland SCIA Summer BBQ
DESCRIPTION:It’s almost here! The Northumberland SCIA Summer BBQ is happening this Monday\, August 18\, 2025\, and you’re invited to a laid-back evening of good food\, good company\, and old-fashioned summer fun. \nHere’s what’s on the agenda: \n🍴 BBQ dinner with all the fixings\n🕔 Social time starts at 5:00 PM\n🍽️ Dinner served at 6:00 PM\n🎠 Free rides on the world-famous Roseneath Carousel from 7:00–8:00 PM \n📍 Location: Roseneath Fairgrounds \n💵 Cost:\nMembers and spouse: $20\nAdults (13 and up): $25\nYouth aged 7 to 12: $10\n6 and under: Free \nRSVP: Tickets available at the door or reserve yours by emailing SCIA-Northumberland@ontariosoilcrop.org \nNo speakers. No schedule. Just a summer evening surrounded by your fellow farmers and their families. \nCheers\,\nNorthumberland SCIA
URL:https://membership.ontariosoilcrop.org/event/northumberland-scia-annual-bbq-2/
LOCATION:Roseneath Fairgrounds\, Roseneath\, ON\, Canada
CATEGORIES:Northumberland,Quinte
ATTACH;FMTTYPE=image/png:https://membership.ontariosoilcrop.org/wp-content/uploads/2025/06/Join-Us-600x600-1.png
END:VEVENT
BEGIN:VEVENT
DTSTART;TZID=America/Toronto:20250826T110000
DTEND;TZID=America/Toronto:20250826T150000
DTSTAMP:20260424T212436
CREATED:20250822T132804Z
LAST-MODIFIED:20250822T133438Z
UID:10003137-1756206000-1756220400@membership.ontariosoilcrop.org
SUMMARY:Rain Maker BBQ
DESCRIPTION:The Prince Edward Soil and Crop Association and the Ontario Soil Network invite you and your family to join us for our Rain Maker BBQ at Reynolds Farm (1001 County Road 4\, Picton) on Tuesday\, August 26th\, from 11 AM – 3 PM. \nThis is a family-friendly event with plenty of food\, fun\, and laughter. There will even be a climbing wall for the kids and grandkids\, courtesy of our local Pioneer dealers. \nCome out and enjoy: \n\nJuicy hamburgers and hot dogs\nFresh corn on the cob\nIce cream treats\n\n👉 No presentations – just a much-needed social gathering! \nPlease RSVP by calling Tyler (613-921-0433) or Trevor (613-846-0019) so we know how much corn to put on the grill. \nWe look forward to seeing you there! \n— Prince Edward Soil & Crop Improvement Association
URL:https://membership.ontariosoilcrop.org/event/rain-maker-bbq/
LOCATION:1001 County Road 4\, Picton\, ON\, 1001 County Road 4\, Picton\, ON\, Canada
CATEGORIES:Prince Edward,Quinte
ATTACH;FMTTYPE=image/jpeg:https://membership.ontariosoilcrop.org/wp-content/uploads/2025/08/Rain-Maker-BBQ.jpg
END:VEVENT
END:VCALENDAR