BEGIN:VCALENDAR
VERSION:2.0
PRODID:-//OSCIA - ECPv6.15.17.1//NONSGML v1.0//EN
CALSCALE:GREGORIAN
METHOD:PUBLISH
X-ORIGINAL-URL:https://membership.ontariosoilcrop.org
X-WR-CALDESC:Events for OSCIA
REFRESH-INTERVAL;VALUE=DURATION:PT1H
X-Robots-Tag:noindex
X-PUBLISHED-TTL:PT1H
BEGIN:VTIMEZONE
TZID:America/Toronto
BEGIN:DAYLIGHT
TZOFFSETFROM:-0500
TZOFFSETTO:-0400
TZNAME:EDT
DTSTART:20250309T070000
END:DAYLIGHT
BEGIN:STANDARD
TZOFFSETFROM:-0400
TZOFFSETTO:-0500
TZNAME:EST
DTSTART:20251102T060000
END:STANDARD
BEGIN:DAYLIGHT
TZOFFSETFROM:-0500
TZOFFSETTO:-0400
TZNAME:EDT
DTSTART:20260308T070000
END:DAYLIGHT
BEGIN:STANDARD
TZOFFSETFROM:-0400
TZOFFSETTO:-0500
TZNAME:EST
DTSTART:20261101T060000
END:STANDARD
BEGIN:DAYLIGHT
TZOFFSETFROM:-0500
TZOFFSETTO:-0400
TZNAME:EDT
DTSTART:20270314T070000
END:DAYLIGHT
BEGIN:STANDARD
TZOFFSETFROM:-0400
TZOFFSETTO:-0500
TZNAME:EST
DTSTART:20271107T060000
END:STANDARD
END:VTIMEZONE
BEGIN:VEVENT
DTSTART;TZID=America/Toronto:20260110T100000
DTEND;TZID=America/Toronto:20260110T140000
DTSTAMP:20260423T104224
CREATED:20260108T180122Z
LAST-MODIFIED:20260108T180122Z
UID:10003232-1768039200-1768053600@membership.ontariosoilcrop.org
SUMMARY:Eastern Valley Regional Annual Meeting
DESCRIPTION:Join us for our annual meeting to review 2025 and to plan for activities and events for 2026.  Everyone is welcome to attend.
URL:https://membership.ontariosoilcrop.org/event/eastern-valley-regional-annual-meeting/
LOCATION:Finch – South Nation Conservation Authority\, 38 Victoria St NULL\, Finch\, 9
CATEGORIES:Eastern Valley
GEO:NULL;NULL
X-APPLE-STRUCTURED-LOCATION;VALUE=URI;X-ADDRESS=Finch – South Nation Conservation Authority 38 Victoria St NULL Finch 9;X-APPLE-RADIUS=500;X-TITLE=38 Victoria St NULL:geo:NULL,NULL
END:VEVENT
BEGIN:VEVENT
DTSTART;TZID=America/Toronto:20260113T140000
DTEND;TZID=America/Toronto:20260113T170000
DTSTAMP:20260423T104224
CREATED:20260108T183744Z
LAST-MODIFIED:20260108T192635Z
UID:10003233-1768312800-1768323600@membership.ontariosoilcrop.org
SUMMARY:Glengarry SCIA annual meeting
DESCRIPTION:Join us for a review of the year 2025 and plans for 2026 activities and events.  Hear our guest speaker\, Tim Tremblay\, of Sky Drones Inc.\,  speak about the future capabilities of drones in agriculture.  We will also be electing our new president\, vice-president and directors for the upcoming two-year term.  Everyone is welcome to attend!
URL:https://membership.ontariosoilcrop.org/event/gscia-annual-meeting/
LOCATION:Alexandria Restaurant\, Alexandria\, ON\, Canada
CATEGORIES:Eastern Valley
END:VEVENT
END:VCALENDAR