BEGIN:VCALENDAR
VERSION:2.0
PRODID:-//OSCIA - ECPv6.15.17.1//NONSGML v1.0//EN
CALSCALE:GREGORIAN
METHOD:PUBLISH
X-WR-CALNAME:OSCIA
X-ORIGINAL-URL:https://membership.ontariosoilcrop.org
X-WR-CALDESC:Events for OSCIA
REFRESH-INTERVAL;VALUE=DURATION:PT1H
X-Robots-Tag:noindex
X-PUBLISHED-TTL:PT1H
BEGIN:VTIMEZONE
TZID:America/Toronto
BEGIN:DAYLIGHT
TZOFFSETFROM:-0500
TZOFFSETTO:-0400
TZNAME:EDT
DTSTART:20220313T070000
END:DAYLIGHT
BEGIN:STANDARD
TZOFFSETFROM:-0400
TZOFFSETTO:-0500
TZNAME:EST
DTSTART:20221106T060000
END:STANDARD
BEGIN:DAYLIGHT
TZOFFSETFROM:-0500
TZOFFSETTO:-0400
TZNAME:EDT
DTSTART:20230312T070000
END:DAYLIGHT
BEGIN:STANDARD
TZOFFSETFROM:-0400
TZOFFSETTO:-0500
TZNAME:EST
DTSTART:20231105T060000
END:STANDARD
BEGIN:DAYLIGHT
TZOFFSETFROM:-0500
TZOFFSETTO:-0400
TZNAME:EDT
DTSTART:20240310T070000
END:DAYLIGHT
BEGIN:STANDARD
TZOFFSETFROM:-0400
TZOFFSETTO:-0500
TZNAME:EST
DTSTART:20241103T060000
END:STANDARD
END:VTIMEZONE
BEGIN:VEVENT
DTSTART;TZID=America/Toronto:20231211T120000
DTEND;TZID=America/Toronto:20231211T133000
DTSTAMP:20260420T042747
CREATED:20231201T171428Z
LAST-MODIFIED:20231201T173539Z
UID:10001437-1702296000-1702301400@membership.ontariosoilcrop.org
SUMMARY:Resilient Agricultural Landscape Program (RALP) Information Session
DESCRIPTION:Join us for an online information session to learn more about the Resilient Agricultural Landscape Program (RALP)\, a funding program being delivered by the Ontario Soil and Crop Improvement Association. As part of the Ontario Agricultural Sustainability Initiative\, the Resilient Agricultural Landscape Program (RALP) provides funding to support Ontario farmers in making their agricultural lands more productive and resilient. The Program provides funding to support projects to reduce greenhouse gas emissions and sequester carbon. Projects will focus on: \n• Natural Grassland Establishment\n• Perennial Biomass & Warm Season Pastures\n• Reduced Tillage\n• Tree & Shrub Planting\n• Water Retention Features\n• Wetlands \nDuring the information sessions\, OSCIA staff will walk you through eligibility information\, application requirements and how to apply. Sessions will run for 1.5 hours and will include an opportunity to ask questions about the program. \nThe first intake opened to accept applications on October 24\, 2023\, at 9 am\, ET\, and will remain open until the budget for this program year is fully allocated. Information on the initiative can be found in the online program guide: Program Guide \nTo participate in an online Information Session \, you must register in advance. To register\, click the link below for the session. All sessions will offer the same information\, so please only register for one session. \nWednesday\, December 6\, 2023\, 7 pm – 8:30 pm: Register Here\nMonday\, December 11\, 2023\, 12 pm – 1:30 pm: Register Here\nMonday\, December 18\, 2023\, 7 pm – 8:30 pm: Register Here \nInformation sessions are delivered in English\, but if you need support in French\, please contact us at s-cap@ontariosoilcrop.org.
URL:https://membership.ontariosoilcrop.org/event/resilient-agricultural-landscape-program-ralp-information-session/
CATEGORIES:East Central,Eastern Valley,Event,Georgian Central,Golden Horseshoe,Heartland,North Eastern Ontario,North Western Ontario,Ottawa Rideau,Quinte,St. Clair,Thames Valley
END:VEVENT
BEGIN:VEVENT
DTSTART;TZID=America/Toronto:20231206T190000
DTEND;TZID=America/Toronto:20231206T203000
DTSTAMP:20260420T042747
CREATED:20231201T170511Z
LAST-MODIFIED:20231201T172530Z
UID:10001435-1701889200-1701894600@membership.ontariosoilcrop.org
SUMMARY:Resilient Agricultural Landscape Program (RALP) Information Session
DESCRIPTION:Join us for an online information session to learn more about the Resilient Agricultural Landscape Program (RALP)\, a funding program being delivered by the Ontario Soil and Crop Improvement Association. As part of the Ontario Agricultural Sustainability Initiative\, the Resilient Agricultural Landscape Program (RALP) provides funding to support Ontario farmers in making their agricultural lands more productive and resilient. The Program provides funding to support projects to reduce greenhouse gas emissions and sequester carbon. Projects will focus on: \n• Natural Grassland Establishment\n• Perennial Biomass & Warm Season Pastures\n• Reduced Tillage\n• Tree & Shrub Planting\n• Water Retention Features\n• Wetlands \nDuring the information sessions\, OSCIA staff will walk you through eligibility information\, application requirements and how to apply. Sessions will run for 1.5 hours and will include an opportunity to ask questions about the program. \nThe first intake opened to accept applications on October 24\, 2023\, at 9 am\, ET\, and will remain open until the budget for this program year is fully allocated. Information on the initiative can be found in the online program guide: Program Guide \nTo participate in an online Information Session \, you must register in advance. To register\, click the link below for the session. All sessions will offer the same information\, so please only register for one session. \nWednesday\, December 6\, 2023\, 7 pm – 8:30 pm: Register Here\nMonday\, December 11\, 2023\, 12 pm – 1:30 pm: Register Here\nMonday\, December 18\, 2023\, 7 pm – 8:30 pm: Register Here \nInformation sessions are delivered in English\, but if you need support in French\, please contact us at s-cap@ontariosoilcrop.org.
URL:https://membership.ontariosoilcrop.org/event/resilient-agricultural-landscape-program-ralp-information-sessions/
CATEGORIES:East Central,Eastern Valley,Event,Georgian Central,Golden Horseshoe,Heartland,North Eastern Ontario,North Western Ontario,Ottawa Rideau,Quinte,St. Clair,Thames Valley
END:VEVENT
BEGIN:VEVENT
DTSTART;VALUE=DATE:20230825
DTEND;VALUE=DATE:20230831
DTSTAMP:20260420T042747
CREATED:20230710T185414Z
LAST-MODIFIED:20230710T185414Z
UID:10001488-1692921600-1693439999@membership.ontariosoilcrop.org
SUMMARY:East Central SCIA Bus Trip
DESCRIPTION:Join East Central SCIA’s Bus Trip to the Farm Progress Show in Decatur\, Illinois. \nIncluded in the trip are five nights accommodation\, transportation by motor coach\, admission and entrance fees\, and some meals. \nHighlights include: \n\nFair Oaks Farm\, one of the largest dairy farms in the United States\nThe Half Century of Progress Farm Show\nIndianapolis Motor Speedway Museum\nFS Growmark Grain Barge Terminal\nFS Growmark Fertilizer Barge Terminal\nThe Old Red Farm Shed\nThe 70th Anniversary of the Farm Progress Show\n\nCheck out more details on the pdf available here:  farm progress show. \nContact: Bruce McKeown 705-341-7720 for more information. \n 
URL:https://membership.ontariosoilcrop.org/event/east-central-scia-bus-trip/
CATEGORIES:Association,East Central,Event
END:VEVENT
BEGIN:VEVENT
DTSTART;TZID=America/Toronto:20230808T180000
DTEND;TZID=America/Toronto:20230808T200000
DTSTAMP:20260420T042747
CREATED:20230710T181225Z
LAST-MODIFIED:20230710T181225Z
UID:10001484-1691517600-1691524800@membership.ontariosoilcrop.org
SUMMARY:York SCIA Summer BBQ
DESCRIPTION:Hosted at Applewood Farm\, Frank Passafiume and Family (12416 McCowan Rd\, Stouffville ON L4A 4C5). \nSponsored by St. Lawrence Grain and Farm Supply (A Division of Drain Bros). \nPlease reach out to Tom Patterson (905-294-9016) for more information.
URL:https://membership.ontariosoilcrop.org/event/york-scia-summer-bbq/
CATEGORIES:Association,East Central,Event,York
END:VEVENT
END:VCALENDAR