BEGIN:VCALENDAR
VERSION:2.0
PRODID:-//OSCIA - ECPv6.15.17.1//NONSGML v1.0//EN
CALSCALE:GREGORIAN
METHOD:PUBLISH
X-ORIGINAL-URL:https://membership.ontariosoilcrop.org
X-WR-CALDESC:Events for OSCIA
REFRESH-INTERVAL;VALUE=DURATION:PT1H
X-Robots-Tag:noindex
X-PUBLISHED-TTL:PT1H
BEGIN:VTIMEZONE
TZID:America/Toronto
BEGIN:DAYLIGHT
TZOFFSETFROM:-0500
TZOFFSETTO:-0400
TZNAME:EDT
DTSTART:20240310T070000
END:DAYLIGHT
BEGIN:STANDARD
TZOFFSETFROM:-0400
TZOFFSETTO:-0500
TZNAME:EST
DTSTART:20241103T060000
END:STANDARD
BEGIN:DAYLIGHT
TZOFFSETFROM:-0500
TZOFFSETTO:-0400
TZNAME:EDT
DTSTART:20250309T070000
END:DAYLIGHT
BEGIN:STANDARD
TZOFFSETFROM:-0400
TZOFFSETTO:-0500
TZNAME:EST
DTSTART:20251102T060000
END:STANDARD
BEGIN:DAYLIGHT
TZOFFSETFROM:-0500
TZOFFSETTO:-0400
TZNAME:EDT
DTSTART:20260308T070000
END:DAYLIGHT
BEGIN:STANDARD
TZOFFSETFROM:-0400
TZOFFSETTO:-0500
TZNAME:EST
DTSTART:20261101T060000
END:STANDARD
END:VTIMEZONE
BEGIN:VEVENT
DTSTART;TZID=America/Toronto:20250709T090000
DTEND;TZID=America/Toronto:20250709T130000
DTSTAMP:20260423T111221
CREATED:20250623T200128Z
LAST-MODIFIED:20250623T200128Z
UID:10003080-1752051600-1752066000@membership.ontariosoilcrop.org
SUMMARY:Durham Soil and Crop Improvement Association Summer Meeting
DESCRIPTION:Join the Durham Soil and Crop Improvement Association (DSCIA) July 9th as we learn about Cherries and Blueberries! \nThe first stop on the tour is Gibson Farms\, followed by Wilmont Orchards with the final stop being at Ryeland Farms to learn about the DSCIA field scale plot being conducted. There is ample parking at all three locations and a BBQ lunch provided at the plot tour. \nAgenda \n8:45 – Arrive at Gibson Farms – 3238 Concession Rd 3\, Newcastle (included in the map below) \n9:00 – 10:30 – Overview of the Gibson Farms new venture into cherry production and the latest technology in growing apples. \n10:30 – 10:45 – Move to Wilmont Orchards – a 1 minute drive down the road located at 3337 Concession Rd 3\, Newcastle. \n10:45 – 11:45 – Overview of Wilmont Orchards blueberry production and briefing on the farms partnership with Ontario Farmland Trust \n11:45 – 12:00 – Move to Ryeland Farms and the DSCIA test plot located at 7590 Langmaid Rd\, Hampton \n12:15 – 1:00 – Overview of the plot and a BBQ lunch is provided.
URL:https://membership.ontariosoilcrop.org/event/durham-soil-and-crop-improvement-association-summer-meeting/
LOCATION:Gibson Farms\, 3238 Concession Road 3\, Newcastle\, Ontario\, L1B 0M9\, Canada
CATEGORIES:Durham,East Central
ATTACH;FMTTYPE=image/jpeg:https://membership.ontariosoilcrop.org/wp-content/uploads/2025/06/DSCIA-Logo.jpg
END:VEVENT
END:VCALENDAR