BEGIN:VCALENDAR
VERSION:2.0
PRODID:-//OSCIA - ECPv6.15.17.1//NONSGML v1.0//EN
CALSCALE:GREGORIAN
METHOD:PUBLISH
X-WR-CALNAME:OSCIA
X-ORIGINAL-URL:https://membership.ontariosoilcrop.org
X-WR-CALDESC:Events for OSCIA
REFRESH-INTERVAL;VALUE=DURATION:PT1H
X-Robots-Tag:noindex
X-PUBLISHED-TTL:PT1H
BEGIN:VTIMEZONE
TZID:America/Toronto
BEGIN:DAYLIGHT
TZOFFSETFROM:-0500
TZOFFSETTO:-0400
TZNAME:EDT
DTSTART:20250309T070000
END:DAYLIGHT
BEGIN:STANDARD
TZOFFSETFROM:-0400
TZOFFSETTO:-0500
TZNAME:EST
DTSTART:20251102T060000
END:STANDARD
BEGIN:DAYLIGHT
TZOFFSETFROM:-0500
TZOFFSETTO:-0400
TZNAME:EDT
DTSTART:20260308T070000
END:DAYLIGHT
BEGIN:STANDARD
TZOFFSETFROM:-0400
TZOFFSETTO:-0500
TZNAME:EST
DTSTART:20261101T060000
END:STANDARD
BEGIN:DAYLIGHT
TZOFFSETFROM:-0500
TZOFFSETTO:-0400
TZNAME:EDT
DTSTART:20270314T070000
END:DAYLIGHT
BEGIN:STANDARD
TZOFFSETFROM:-0400
TZOFFSETTO:-0500
TZNAME:EST
DTSTART:20271107T060000
END:STANDARD
END:VTIMEZONE
BEGIN:VEVENT
DTSTART;TZID=America/Toronto:20260226T100000
DTEND;TZID=America/Toronto:20260226T150000
DTSTAMP:20260421T101450
CREATED:20260217T142515Z
LAST-MODIFIED:20260217T144818Z
UID:10003280-1772100000-1772118000@membership.ontariosoilcrop.org
SUMMARY:Glengarry Soil and Crop Seed Fair
DESCRIPTION:Join us for our annual Seed Fair.  A live drone demonstration will be held to showcase the benefits of drone usage in agriculture. \nLocation: 2255 Nixon Side Road\, Dalkeith\, North Glengarry \nFor more information please contact Paul Vogel at 613-577-0333 or Tracy Myers 613-363-4119
URL:https://membership.ontariosoilcrop.org/event/glengarry-soil-and-crop-seed-fair/
LOCATION:2255 Nixon Side Road\, North Glengarry\, Ontario
CATEGORIES:Eastern Valley,Glengarry
END:VEVENT
BEGIN:VEVENT
DTSTART;TZID=America/Toronto:20260226T190000
DTEND;TZID=America/Toronto:20260226T210000
DTSTAMP:20260421T101450
CREATED:20260127T153350Z
LAST-MODIFIED:20260127T154811Z
UID:10003258-1772132400-1772139600@membership.ontariosoilcrop.org
SUMMARY:Horse Health Night – Conditions of the Equine Foot
DESCRIPTION:Join Dr. Tee Fox and Dr. Mandy Mulder for Grey Ag’s annual Horse Health Night! More details will be posted to the Grey Ag website – www.greyagservices.ca The session is available for attendance in-person at Grey Ag Services or online through Zoom. Attend in-person at Grey Ag Services in Markdale or online through Zoom\, cost is $20.00 per person. Email info@greyagservices.ca or go to www.greyagservices.ca to register.
URL:https://membership.ontariosoilcrop.org/event/horse-health-night-conditions-of-the-equine-foot/
LOCATION:Grey Ag Services\, 206 Toronto St S\, Markdale\, Ontario\, N0C 1H0\, Canada
CATEGORIES:Georgian Central
ATTACH;FMTTYPE=image/png:https://membership.ontariosoilcrop.org/wp-content/uploads/2026/01/Horse-Health-Night-26-500-x-375-px-1.png
GEO:44.3139564;-80.6402928
X-APPLE-STRUCTURED-LOCATION;VALUE=URI;X-ADDRESS=Grey Ag Services 206 Toronto St S Markdale Ontario N0C 1H0 Canada;X-APPLE-RADIUS=500;X-TITLE=206 Toronto St S:geo:-80.6402928,44.3139564
END:VEVENT
END:VCALENDAR