BEGIN:VCALENDAR
VERSION:2.0
PRODID:-//OSCIA - ECPv6.15.17.1//NONSGML v1.0//EN
CALSCALE:GREGORIAN
METHOD:PUBLISH
X-ORIGINAL-URL:https://membership.ontariosoilcrop.org
X-WR-CALDESC:Events for OSCIA
REFRESH-INTERVAL;VALUE=DURATION:PT1H
X-Robots-Tag:noindex
X-PUBLISHED-TTL:PT1H
BEGIN:VTIMEZONE
TZID:America/Toronto
BEGIN:DAYLIGHT
TZOFFSETFROM:-0500
TZOFFSETTO:-0400
TZNAME:EDT
DTSTART:20250309T070000
END:DAYLIGHT
BEGIN:STANDARD
TZOFFSETFROM:-0400
TZOFFSETTO:-0500
TZNAME:EST
DTSTART:20251102T060000
END:STANDARD
BEGIN:DAYLIGHT
TZOFFSETFROM:-0500
TZOFFSETTO:-0400
TZNAME:EDT
DTSTART:20260308T070000
END:DAYLIGHT
BEGIN:STANDARD
TZOFFSETFROM:-0400
TZOFFSETTO:-0500
TZNAME:EST
DTSTART:20261101T060000
END:STANDARD
BEGIN:DAYLIGHT
TZOFFSETFROM:-0500
TZOFFSETTO:-0400
TZNAME:EDT
DTSTART:20270314T070000
END:DAYLIGHT
BEGIN:STANDARD
TZOFFSETFROM:-0400
TZOFFSETTO:-0500
TZNAME:EST
DTSTART:20271107T060000
END:STANDARD
END:VTIMEZONE
BEGIN:VEVENT
DTSTART;TZID=America/Toronto:20260225T123000
DTEND;TZID=America/Toronto:20260225T153000
DTSTAMP:20260421T084822
CREATED:20260127T153233Z
LAST-MODIFIED:20260127T154852Z
UID:10003257-1772022600-1772033400@membership.ontariosoilcrop.org
SUMMARY:The Economics of Dairy Goat Farming\, from a Farmer’s Perspective
DESCRIPTION:What does profitability look like and how do you measure it? How many goats are needed to carry a mortgage? How important is successful kid raising for profitability? Elo Bowman\, dairy goat producer for 25 years\, will address these questions and more. Attend in-person at Grey Ag Services in Markdale\, cost is $20.00 per person. Email info@greyagservices.ca or go to www.greyagservices.ca to register.
URL:https://membership.ontariosoilcrop.org/event/the-economics-of-dairy-goat-farming-from-a-farmers-perspective/
LOCATION:Grey Ag Services\, 206 Toronto St S\, Markdale\, Ontario\, N0C 1H0\, Canada
CATEGORIES:Georgian Central
ATTACH;FMTTYPE=image/png:https://membership.ontariosoilcrop.org/wp-content/uploads/2026/01/The-Economics-of-Dairy-Goat-Farming-500-x-375-px-1.png
GEO:44.3139564;-80.6402928
X-APPLE-STRUCTURED-LOCATION;VALUE=URI;X-ADDRESS=Grey Ag Services 206 Toronto St S Markdale Ontario N0C 1H0 Canada;X-APPLE-RADIUS=500;X-TITLE=206 Toronto St S:geo:-80.6402928,44.3139564
END:VEVENT
END:VCALENDAR