BEGIN:VCALENDAR
VERSION:2.0
PRODID:-//OSCIA - ECPv6.15.17.1//NONSGML v1.0//EN
CALSCALE:GREGORIAN
METHOD:PUBLISH
X-ORIGINAL-URL:https://membership.ontariosoilcrop.org
X-WR-CALDESC:Events for OSCIA
REFRESH-INTERVAL;VALUE=DURATION:PT1H
X-Robots-Tag:noindex
X-PUBLISHED-TTL:PT1H
BEGIN:VTIMEZONE
TZID:America/Toronto
BEGIN:DAYLIGHT
TZOFFSETFROM:-0500
TZOFFSETTO:-0400
TZNAME:EDT
DTSTART:20250309T070000
END:DAYLIGHT
BEGIN:STANDARD
TZOFFSETFROM:-0400
TZOFFSETTO:-0500
TZNAME:EST
DTSTART:20251102T060000
END:STANDARD
BEGIN:DAYLIGHT
TZOFFSETFROM:-0500
TZOFFSETTO:-0400
TZNAME:EDT
DTSTART:20260308T070000
END:DAYLIGHT
BEGIN:STANDARD
TZOFFSETFROM:-0400
TZOFFSETTO:-0500
TZNAME:EST
DTSTART:20261101T060000
END:STANDARD
BEGIN:DAYLIGHT
TZOFFSETFROM:-0500
TZOFFSETTO:-0400
TZNAME:EDT
DTSTART:20270314T070000
END:DAYLIGHT
BEGIN:STANDARD
TZOFFSETFROM:-0400
TZOFFSETTO:-0500
TZNAME:EST
DTSTART:20271107T060000
END:STANDARD
END:VTIMEZONE
BEGIN:VEVENT
DTSTART;TZID=America/Toronto:20260224T190000
DTEND;TZID=America/Toronto:20260224T210000
DTSTAMP:20260421T131101
CREATED:20260127T153055Z
LAST-MODIFIED:20260127T154926Z
UID:10003256-1771959600-1771966800@membership.ontariosoilcrop.org
SUMMARY:From Scraps to Soil\, Composting Made Easy
DESCRIPTION:Compost\, compost teas\, fermented fertilizers – Join in as experienced vegetable producers\, Brian and Jeanette French of Lennox Farms\, share their wealth of knowledge on creating products that will feed your soils! This session is available for attendance in-person at Grey Ag Services or online through Zoom\, cost is $20.00 per person. Email info@greyagservices.ca or go to www.greyagservices.ca to register.
URL:https://membership.ontariosoilcrop.org/event/from-scraps-to-soil-composting-made-easy/
LOCATION:Grey Ag Services\, 206 Toronto St S\, Markdale\, Ontario\, N0C 1H0\, Canada
CATEGORIES:Georgian Central
ATTACH;FMTTYPE=image/png:https://membership.ontariosoilcrop.org/wp-content/uploads/2026/01/From-Scraps-to-Soil-500-x-375-px-2.png
GEO:44.3139564;-80.6402928
X-APPLE-STRUCTURED-LOCATION;VALUE=URI;X-ADDRESS=Grey Ag Services 206 Toronto St S Markdale Ontario N0C 1H0 Canada;X-APPLE-RADIUS=500;X-TITLE=206 Toronto St S:geo:-80.6402928,44.3139564
END:VEVENT
END:VCALENDAR